Workbook
Name Kategorien: Einstellungen!$A$10:$A$29
Name UStSaetze: Einstellungen!$C$10:$C$15

Sheet Kassenbuch
A1: Kassenbuch
A2: Kostenlose Vorlage von ExcelDok · exceldok.de · hellgelbe Felder ausfüllen, graue rechnen selbst · Erklärung im Blatt Anleitung
A3: Buchungen | D3: Anfangsbestand | F3: Einnahmen gesamt | G3: Ausgaben gesamt | J3: Kassenbestand jetzt | K3: Zeilen mit Prüfhinweis
A4: =MAX(A7:A1006) | D4: =Einstellungen!$B$5 | F4: =SUM(F7:F1006) | G4: =SUM(G7:G1006) | J4: =ROUND(Einstellungen!$B$5+F4-G4,2) | K4: =COUNTIF(K7:K1006,"?*")
A6: Lfd. Nr. | B6: Datum | C6: Beleg-Nr. | D6: Buchungstext | E6: Kategorie | F6: Einnahme (€) | G6: Ausgabe (€) | H6: USt-Satz | I6: enthaltene USt (€) | J6: Kassen­bestand (€) | K6: Prüfhinweis
A7: =IF(OR(B7<>"",D7<>"",F7<>"",G7<>""),MAX(A$6:A6)+1,"") | B7: 46279 | C7: B-001 | D7: Barverkauf laut Tagesliste | E7: Erlöse | F7: 238 | H7: 0.19 | I7: =IF(N(F7)+N(G7)=0,"",ROUND((N(F7)+N(G7))*N(H7)/(1+N(H7)),2)) | J7: =IF(OR(B7<>"",D7<>"",F7<>"",G7<>""),ROUND(Einstellungen!$B$5+SUM(F$7:F7)-SUM(G$7:G7),2),"") | K7: =IF(OR(B7<>"",D7<>"",F7<>"",G7<>""),MID(IF(AND(F7<>"",G7<>""),"; Einnahme und Ausgabe in einer Zeile","")&IF(AND(F7="",G7=""),"; Betrag fehlt","")&IF(B7="","; Datum fehlt",IF(B7<MAX(B$6:B6),"; Datum früher als darüber","")&IF(AND(Einstellungen!$B$6<>"",B7<Einstellungen!$B$6),"; Datum vor dem Anfangsbestand",""))&IF(C7="","; Beleg fehlt","")&IF(N(J7)<0,"; Kassenbestand negativ",""),3,250),"")
A8: =IF(OR(B8<>"",D8<>"",F8<>"",G8<>""),MAX(A$6:A7)+1,"") | B8: 46280 | C8: B-002 | D8: Druckerpapier und Ordner | E8: Bürobedarf | G8: 23.8 | H8: 0.19 | I8: =IF(N(F8)+N(G8)=0,"",ROUND((N(F8)+N(G8))*N(H8)/(1+N(H8)),2)) | J8: =IF(OR(B8<>"",D8<>"",F8<>"",G8<>""),ROUND(Einstellungen!$B$5+SUM(F$7:F8)-SUM(G$7:G8),2),"") | K8: =IF(OR(B8<>"",D8<>"",F8<>"",G8<>""),MID(IF(AND(F8<>"",G8<>""),"; Einnahme und Ausgabe in einer Zeile","")&IF(AND(F8="",G8=""),"; Betrag fehlt","")&IF(B8="","; Datum fehlt",IF(B8<MAX(B$6:B7),"; Datum früher als darüber","")&IF(AND(Einstellungen!$B$6<>"",B8<Einstellungen!$B$6),"; Datum vor dem Anfangsbestand",""))&IF(C8="","; Beleg fehlt","")&IF(N(J8)<0,"; Kassenbestand negativ",""),3,250),"")
A9: =IF(OR(B9<>"",D9<>"",F9<>"",G9<>""),MAX(A$6:A8)+1,"") | B9: 46284 | C9: B-003 | D9: Briefmarken | E9: Porto | G9: 17 | H9: 0 | I9: =IF(N(F9)+N(G9)=0,"",ROUND((N(F9)+N(G9))*N(H9)/(1+N(H9)),2)) | J9: =IF(OR(B9<>"",D9<>"",F9<>"",G9<>""),ROUND(Einstellungen!$B$5+SUM(F$7:F9)-SUM(G$7:G9),2),"") | K9: =IF(OR(B9<>"",D9<>"",F9<>"",G9<>""),MID(IF(AND(F9<>"",G9<>""),"; Einnahme und Ausgabe in einer Zeile","")&IF(AND(F9="",G9=""),"; Betrag fehlt","")&IF(B9="","; Datum fehlt",IF(B9<MAX(B$6:B8),"; Datum früher als darüber","")&IF(AND(Einstellungen!$B$6<>"",B9<Einstellungen!$B$6),"; Datum vor dem Anfangsbestand",""))&IF(C9="","; Beleg fehlt","")&IF(N(J9)<0,"; Kassenbestand negativ",""),3,250),"")
A10: =IF(OR(B10<>"",D10<>"",F10<>"",G10<>""),MAX(A$6:A9)+1,"") | B10: 46288 | C10: B-004 | D10: Barverkauf laut Tagesliste | E10: Erlöse | F10: 107 | H10: 0.07 | I10: =IF(N(F10)+N(G10)=0,"",ROUND((N(F10)+N(G10))*N(H10)/(1+N(H10)),2)) | J10: =IF(OR(B10<>"",D10<>"",F10<>"",G10<>""),ROUND(Einstellungen!$B$5+SUM(F$7:F10)-SUM(G$7:G10),2),"") | K10: =IF(OR(B10<>"",D10<>"",F10<>"",G10<>""),MID(IF(AND(F10<>"",G10<>""),"; Einnahme und Ausgabe in einer Zeile","")&IF(AND(F10="",G10=""),"; Betrag fehlt","")&IF(B10="","; Datum fehlt",IF(B10<MAX(B$6:B9),"; Datum früher als darüber","")&IF(AND(Einstellungen!$B$6<>"",B10<Einstellungen!$B$6),"; Datum vor dem Anfangsbestand",""))&IF(C10="","; Beleg fehlt","")&IF(N(J10)<0,"; Kassenbestand negativ",""),3,250),"")
A11: =IF(OR(B11<>"",D11<>"",F11<>"",G11<>""),MAX(A$6:A10)+1,"") | B11: 46293 | C11: B-005 | D11: Bareinzahlung auf das Geschäftskonto | E11: Geldtransit Bank | G11: 300 | H11: 0 | I11: =IF(N(F11)+N(G11)=0,"",ROUND((N(F11)+N(G11))*N(H11)/(1+N(H11)),2)) | J11: =IF(OR(B11<>"",D11<>"",F11<>"",G11<>""),ROUND(Einstellungen!$B$5+SUM(F$7:F11)-SUM(G$7:G11),2),"") | K11: =IF(OR(B11<>"",D11<>"",F11<>"",G11<>""),MID(IF(AND(F11<>"",G11<>""),"; Einnahme und Ausgabe in einer Zeile","")&IF(AND(F11="",G11=""),"; Betrag fehlt","")&IF(B11="","; Datum fehlt",IF(B11<MAX(B$6:B10),"; Datum früher als darüber","")&IF(AND(Einstellungen!$B$6<>"",B11<Einstellungen!$B$6),"; Datum vor dem Anfangsbestand",""))&IF(C11="","; Beleg fehlt","")&IF(N(J11)<0,"; Kassenbestand negativ",""),3,250),"")
A12: =IF(OR(B12<>"",D12<>"",F12<>"",G12<>""),MAX(A$6:A11)+1,"") | B12: 46299 | C12: B-006 | D12: Kaffee und Gebäck für Kundentermin | E12: Bewirtung | G12: 32.1 | H12: 0.07 | I12: =IF(N(F12)+N(G12)=0,"",ROUND((N(F12)+N(G12))*N(H12)/(1+N(H12)),2)) | J12: =IF(OR(B12<>"",D12<>"",F12<>"",G12<>""),ROUND(Einstellungen!$B$5+SUM(F$7:F12)-SUM(G$7:G12),2),"") | K12: =IF(OR(B12<>"",D12<>"",F12<>"",G12<>""),MID(IF(AND(F12<>"",G12<>""),"; Einnahme und Ausgabe in einer Zeile","")&IF(AND(F12="",G12=""),"; Betrag fehlt","")&IF(B12="","; Datum fehlt",IF(B12<MAX(B$6:B11),"; Datum früher als darüber","")&IF(AND(Einstellungen!$B$6<>"",B12<Einstellungen!$B$6),"; Datum vor dem Anfangsbestand",""))&IF(C12="","; Beleg fehlt","")&IF(N(J12)<0,"; Kassenbestand negativ",""),3,250),"")
A13: =IF(OR(B13<>"",D13<>"",F13<>"",G13<>""),MAX(A$6:A12)+1,"") | B13: 46306 | C13: B-007 | D13: Barverkauf laut Tagesliste | E13: Erlöse | F13: 416.5 | H13: 0.19 | I13: =IF(N(F13)+N(G13)=0,"",ROUND((N(F13)+N(G13))*N(H13)/(1+N(H13)),2)) | J13: =IF(OR(B13<>"",D13<>"",F13<>"",G13<>""),ROUND(Einstellungen!$B$5+SUM(F$7:F13)-SUM(G$7:G13),2),"") | K13: =IF(OR(B13<>"",D13<>"",F13<>"",G13<>""),MID(IF(AND(F13<>"",G13<>""),"; Einnahme und Ausgabe in einer Zeile","")&IF(AND(F13="",G13=""),"; Betrag fehlt","")&IF(B13="","; Datum fehlt",IF(B13<MAX(B$6:B12),"; Datum früher als darüber","")&IF(AND(Einstellungen!$B$6<>"",B13<Einstellungen!$B$6),"; Datum vor dem Anfangsbestand",""))&IF(C13="","; Beleg fehlt","")&IF(N(J13)<0,"; Kassenbestand negativ",""),3,250),"")
A14: =IF(OR(B14<>"",D14<>"",F14<>"",G14<>""),MAX(A$6:A13)+1,"") | B14: 46313 | D14: Trinkgeld Paketbote | E14: Sonstiges | G14: 5 | H14: 0 | I14: =IF(N(F14)+N(G14)=0,"",ROUND((N(F14)+N(G14))*N(H14)/(1+N(H14)),2)) | J14: =IF(OR(B14<>"",D14<>"",F14<>"",G14<>""),ROUND(Einstellungen!$B$5+SUM(F$7:F14)-SUM(G$7:G14),2),"") | K14: =IF(OR(B14<>"",D14<>"",F14<>"",G14<>""),MID(IF(AND(F14<>"",G14<>""),"; Einnahme und Ausgabe in einer Zeile","")&IF(AND(F14="",G14=""),"; Betrag fehlt","")&IF(B14="","; Datum fehlt",IF(B14<MAX(B$6:B13),"; Datum früher als darüber","")&IF(AND(Einstellungen!$B$6<>"",B14<Einstellungen!$B$6),"; Datum vor dem Anfangsbestand",""))&IF(C14="","; Beleg fehlt","")&IF(N(J14)<0,"; Kassenbestand negativ",""),3,250),"")
A15: =IF(OR(B15<>"",D15<>"",F15<>"",G15<>""),MAX(A$6:A14)+1,"") | B15: 46318 | C15: B-008 | D15: Parkhaus Kundentermin | E15: Fahrtkosten | G15: 8 | H15: 0.19 | I15: =IF(N(F15)+N(G15)=0,"",ROUND((N(F15)+N(G15))*N(H15)/(1+N(H15)),2)) | J15: =IF(OR(B15<>"",D15<>"",F15<>"",G15<>""),ROUND(Einstellungen!$B$5+SUM(F$7:F15)-SUM(G$7:G15),2),"") | K15: =IF(OR(B15<>"",D15<>"",F15<>"",G15<>""),MID(IF(AND(F15<>"",G15<>""),"; Einnahme und Ausgabe in einer Zeile","")&IF(AND(F15="",G15=""),"; Betrag fehlt","")&IF(B15="","; Datum fehlt",IF(B15<MAX(B$6:B14),"; Datum früher als darüber","")&IF(AND(Einstellungen!$B$6<>"",B15<Einstellungen!$B$6),"; Datum vor dem Anfangsbestand",""))&IF(C15="","; Beleg fehlt","")&IF(N(J15)<0,"; Kassenbestand negativ",""),3,250),"")
A16: =IF(OR(B16<>"",D16<>"",F16<>"",G16<>""),MAX(A$6:A15)+1,"") | B16: 46325 | C16: B-009 | D16: Privatentnahme | E16: Privatentnahme | G16: 150 | H16: 0 | I16: =IF(N(F16)+N(G16)=0,"",ROUND((N(F16)+N(G16))*N(H16)/(1+N(H16)),2)) | J16: =IF(OR(B16<>"",D16<>"",F16<>"",G16<>""),ROUND(Einstellungen!$B$5+SUM(F$7:F16)-SUM(G$7:G16),2),"") | K16: =IF(OR(B16<>"",D16<>"",F16<>"",G16<>""),MID(IF(AND(F16<>"",G16<>""),"; Einnahme und Ausgabe in einer Zeile","")&IF(AND(F16="",G16=""),"; Betrag fehlt","")&IF(B16="","; Datum fehlt",IF(B16<MAX(B$6:B15),"; Datum früher als darüber","")&IF(AND(Einstellungen!$B$6<>"",B16<Einstellungen!$B$6),"; Datum vor dem Anfangsbestand",""))&IF(C16="","; Beleg fehlt","")&IF(N(J16)<0,"; Kassenbestand negativ",""),3,250),"")
A17: =IF(OR(B17<>"",D17<>"",F17<>"",G17<>""),MAX(A$6:A16)+1,"") | B17: 46330 | C17: B-010 | D17: Barverkauf laut Tagesliste | E17: Erlöse | F17: 89.25 | H17: 0.19 | I17: =IF(N(F17)+N(G17)=0,"",ROUND((N(F17)+N(G17))*N(H17)/(1+N(H17)),2)) | J17: =IF(OR(B17<>"",D17<>"",F17<>"",G17<>""),ROUND(Einstellungen!$B$5+SUM(F$7:F17)-SUM(G$7:G17),2),"") | K17: =IF(OR(B17<>"",D17<>"",F17<>"",G17<>""),MID(IF(AND(F17<>"",G17<>""),"; Einnahme und Ausgabe in einer Zeile","")&IF(AND(F17="",G17=""),"; Betrag fehlt","")&IF(B17="","; Datum fehlt",IF(B17<MAX(B$6:B16),"; Datum früher als darüber","")&IF(AND(Einstellungen!$B$6<>"",B17<Einstellungen!$B$6),"; Datum vor dem Anfangsbestand",""))&IF(C17="","; Beleg fehlt","")&IF(N(J17)<0,"; Kassenbestand negativ",""),3,250),"")
A18: =IF(OR(B18<>"",D18<>"",F18<>"",G18<>""),MAX(A$6:A17)+1,"") | B18: 46332 | C18: B-011 | D18: Glasreiniger und Tücher | E18: Reinigung | G18: 11.9 | H18: 0.19 | I18: =IF(N(F18)+N(G18)=0,"",ROUND((N(F18)+N(G18))*N(H18)/(1+N(H18)),2)) | J18: =IF(OR(B18<>"",D18<>"",F18<>"",G18<>""),ROUND(Einstellungen!$B$5+SUM(F$7:F18)-SUM(G$7:G18),2),"") | K18: =IF(OR(B18<>"",D18<>"",F18<>"",G18<>""),MID(IF(AND(F18<>"",G18<>""),"; Einnahme und Ausgabe in einer Zeile","")&IF(AND(F18="",G18=""),"; Betrag fehlt","")&IF(B18="","; Datum fehlt",IF(B18<MAX(B$6:B17),"; Datum früher als darüber","")&IF(AND(Einstellungen!$B$6<>"",B18<Einstellungen!$B$6),"; Datum vor dem Anfangsbestand",""))&IF(C18="","; Beleg fehlt","")&IF(N(J18)<0,"; Kassenbestand negativ",""),3,250),"")
A19: =IF(OR(B19<>"",D19<>"",F19<>"",G19<>""),MAX(A$6:A18)+1,"") | I19: =IF(N(F19)+N(G19)=0,"",ROUND((N(F19)+N(G19))*N(H19)/(1+N(H19)),2)) | J19: =IF(OR(B19<>"",D19<>"",F19<>"",G19<>""),ROUND(Einstellungen!$B$5+SUM(F$7:F19)-SUM(G$7:G19),2),"") | K19: =IF(OR(B19<>"",D19<>"",F19<>"",G19<>""),MID(IF(AND(F19<>"",G19<>""),"; Einnahme und Ausgabe in einer Zeile","")&IF(AND(F19="",G19=""),"; Betrag fehlt","")&IF(B19="","; Datum fehlt",IF(B19<MAX(B$6:B18),"; Datum früher als darüber","")&IF(AND(Einstellungen!$B$6<>"",B19<Einstellungen!$B$6),"; Datum vor dem Anfangsbestand",""))&IF(C19="","; Beleg fehlt","")&IF(N(J19)<0,"; Kassenbestand negativ",""),3,250),"")
A20: =IF(OR(B20<>"",D20<>"",F20<>"",G20<>""),MAX(A$6:A19)+1,"") | I20: =IF(N(F20)+N(G20)=0,"",ROUND((N(F20)+N(G20))*N(H20)/(1+N(H20)),2)) | J20: =IF(OR(B20<>"",D20<>"",F20<>"",G20<>""),ROUND(Einstellungen!$B$5+SUM(F$7:F20)-SUM(G$7:G20),2),"") | K20: =IF(OR(B20<>"",D20<>"",F20<>"",G20<>""),MID(IF(AND(F20<>"",G20<>""),"; Einnahme und Ausgabe in einer Zeile","")&IF(AND(F20="",G20=""),"; Betrag fehlt","")&IF(B20="","; Datum fehlt",IF(B20<MAX(B$6:B19),"; Datum früher als darüber","")&IF(AND(Einstellungen!$B$6<>"",B20<Einstellungen!$B$6),"; Datum vor dem Anfangsbestand",""))&IF(C20="","; Beleg fehlt","")&IF(N(J20)<0,"; Kassenbestand negativ",""),3,250),"")
A21: =IF(OR(B21<>"",D21<>"",F21<>"",G21<>""),MAX(A$6:A20)+1,"") | I21: =IF(N(F21)+N(G21)=0,"",ROUND((N(F21)+N(G21))*N(H21)/(1+N(H21)),2)) | J21: =IF(OR(B21<>"",D21<>"",F21<>"",G21<>""),ROUND(Einstellungen!$B$5+SUM(F$7:F21)-SUM(G$7:G21),2),"") | K21: =IF(OR(B21<>"",D21<>"",F21<>"",G21<>""),MID(IF(AND(F21<>"",G21<>""),"; Einnahme und Ausgabe in einer Zeile","")&IF(AND(F21="",G21=""),"; Betrag fehlt","")&IF(B21="","; Datum fehlt",IF(B21<MAX(B$6:B20),"; Datum früher als darüber","")&IF(AND(Einstellungen!$B$6<>"",B21<Einstellungen!$B$6),"; Datum vor dem Anfangsbestand",""))&IF(C21="","; Beleg fehlt","")&IF(N(J21)<0,"; Kassenbestand negativ",""),3,250),"")
A22: =IF(OR(B22<>"",D22<>"",F22<>"",G22<>""),MAX(A$6:A21)+1,"") | I22: =IF(N(F22)+N(G22)=0,"",ROUND((N(F22)+N(G22))*N(H22)/(1+N(H22)),2)) | J22: =IF(OR(B22<>"",D22<>"",F22<>"",G22<>""),ROUND(Einstellungen!$B$5+SUM(F$7:F22)-SUM(G$7:G22),2),"") | K22: =IF(OR(B22<>"",D22<>"",F22<>"",G22<>""),MID(IF(AND(F22<>"",G22<>""),"; Einnahme und Ausgabe in einer Zeile","")&IF(AND(F22="",G22=""),"; Betrag fehlt","")&IF(B22="","; Datum fehlt",IF(B22<MAX(B$6:B21),"; Datum früher als darüber","")&IF(AND(Einstellungen!$B$6<>"",B22<Einstellungen!$B$6),"; Datum vor dem Anfangsbestand",""))&IF(C22="","; Beleg fehlt","")&IF(N(J22)<0,"; Kassenbestand negativ",""),3,250),"")
A23: =IF(OR(B23<>"",D23<>"",F23<>"",G23<>""),MAX(A$6:A22)+1,"") | I23: =IF(N(F23)+N(G23)=0,"",ROUND((N(F23)+N(G23))*N(H23)/(1+N(H23)),2)) | J23: =IF(OR(B23<>"",D23<>"",F23<>"",G23<>""),ROUND(Einstellungen!$B$5+SUM(F$7:F23)-SUM(G$7:G23),2),"") | K23: =IF(OR(B23<>"",D23<>"",F23<>"",G23<>""),MID(IF(AND(F23<>"",G23<>""),"; Einnahme und Ausgabe in einer Zeile","")&IF(AND(F23="",G23=""),"; Betrag fehlt","")&IF(B23="","; Datum fehlt",IF(B23<MAX(B$6:B22),"; Datum früher als darüber","")&IF(AND(Einstellungen!$B$6<>"",B23<Einstellungen!$B$6),"; Datum vor dem Anfangsbestand",""))&IF(C23="","; Beleg fehlt","")&IF(N(J23)<0,"; Kassenbestand negativ",""),3,250),"")
A24: =IF(OR(B24<>"",D24<>"",F24<>"",G24<>""),MAX(A$6:A23)+1,"") | I24: =IF(N(F24)+N(G24)=0,"",ROUND((N(F24)+N(G24))*N(H24)/(1+N(H24)),2)) | J24: =IF(OR(B24<>"",D24<>"",F24<>"",G24<>""),ROUND(Einstellungen!$B$5+SUM(F$7:F24)-SUM(G$7:G24),2),"") | K24: =IF(OR(B24<>"",D24<>"",F24<>"",G24<>""),MID(IF(AND(F24<>"",G24<>""),"; Einnahme und Ausgabe in einer Zeile","")&IF(AND(F24="",G24=""),"; Betrag fehlt","")&IF(B24="","; Datum fehlt",IF(B24<MAX(B$6:B23),"; Datum früher als darüber","")&IF(AND(Einstellungen!$B$6<>"",B24<Einstellungen!$B$6),"; Datum vor dem Anfangsbestand",""))&IF(C24="","; Beleg fehlt","")&IF(N(J24)<0,"; Kassenbestand negativ",""),3,250),"")
A25: =IF(OR(B25<>"",D25<>"",F25<>"",G25<>""),MAX(A$6:A24)+1,"") | I25: =IF(N(F25)+N(G25)=0,"",ROUND((N(F25)+N(G25))*N(H25)/(1+N(H25)),2)) | J25: =IF(OR(B25<>"",D25<>"",F25<>"",G25<>""),ROUND(Einstellungen!$B$5+SUM(F$7:F25)-SUM(G$7:G25),2),"") | K25: =IF(OR(B25<>"",D25<>"",F25<>"",G25<>""),MID(IF(AND(F25<>"",G25<>""),"; Einnahme und Ausgabe in einer Zeile","")&IF(AND(F25="",G25=""),"; Betrag fehlt","")&IF(B25="","; Datum fehlt",IF(B25<MAX(B$6:B24),"; Datum früher als darüber","")&IF(AND(Einstellungen!$B$6<>"",B25<Einstellungen!$B$6),"; Datum vor dem Anfangsbestand",""))&IF(C25="","; Beleg fehlt","")&IF(N(J25)<0,"; Kassenbestand negativ",""),3,250),"")
A26: =IF(OR(B26<>"",D26<>"",F26<>"",G26<>""),MAX(A$6:A25)+1,"") | I26: =IF(N(F26)+N(G26)=0,"",ROUND((N(F26)+N(G26))*N(H26)/(1+N(H26)),2)) | J26: =IF(OR(B26<>"",D26<>"",F26<>"",G26<>""),ROUND(Einstellungen!$B$5+SUM(F$7:F26)-SUM(G$7:G26),2),"") | K26: =IF(OR(B26<>"",D26<>"",F26<>"",G26<>""),MID(IF(AND(F26<>"",G26<>""),"; Einnahme und Ausgabe in einer Zeile","")&IF(AND(F26="",G26=""),"; Betrag fehlt","")&IF(B26="","; Datum fehlt",IF(B26<MAX(B$6:B25),"; Datum früher als darüber","")&IF(AND(Einstellungen!$B$6<>"",B26<Einstellungen!$B$6),"; Datum vor dem Anfangsbestand",""))&IF(C26="","; Beleg fehlt","")&IF(N(J26)<0,"; Kassenbestand negativ",""),3,250),"")
A27: =IF(OR(B27<>"",D27<>"",F27<>"",G27<>""),MAX(A$6:A26)+1,"") | I27: =IF(N(F27)+N(G27)=0,"",ROUND((N(F27)+N(G27))*N(H27)/(1+N(H27)),2)) | J27: =IF(OR(B27<>"",D27<>"",F27<>"",G27<>""),ROUND(Einstellungen!$B$5+SUM(F$7:F27)-SUM(G$7:G27),2),"") | K27: =IF(OR(B27<>"",D27<>"",F27<>"",G27<>""),MID(IF(AND(F27<>"",G27<>""),"; Einnahme und Ausgabe in einer Zeile","")&IF(AND(F27="",G27=""),"; Betrag fehlt","")&IF(B27="","; Datum fehlt",IF(B27<MAX(B$6:B26),"; Datum früher als darüber","")&IF(AND(Einstellungen!$B$6<>"",B27<Einstellungen!$B$6),"; Datum vor dem Anfangsbestand",""))&IF(C27="","; Beleg fehlt","")&IF(N(J27)<0,"; Kassenbestand negativ",""),3,250),"")
A28: =IF(OR(B28<>"",D28<>"",F28<>"",G28<>""),MAX(A$6:A27)+1,"") | I28: =IF(N(F28)+N(G28)=0,"",ROUND((N(F28)+N(G28))*N(H28)/(1+N(H28)),2)) | J28: =IF(OR(B28<>"",D28<>"",F28<>"",G28<>""),ROUND(Einstellungen!$B$5+SUM(F$7:F28)-SUM(G$7:G28),2),"") | K28: =IF(OR(B28<>"",D28<>"",F28<>"",G28<>""),MID(IF(AND(F28<>"",G28<>""),"; Einnahme und Ausgabe in einer Zeile","")&IF(AND(F28="",G28=""),"; Betrag fehlt","")&IF(B28="","; Datum fehlt",IF(B28<MAX(B$6:B27),"; Datum früher als darüber","")&IF(AND(Einstellungen!$B$6<>"",B28<Einstellungen!$B$6),"; Datum vor dem Anfangsbestand",""))&IF(C28="","; Beleg fehlt","")&IF(N(J28)<0,"; Kassenbestand negativ",""),3,250),"")
A29: =IF(OR(B29<>"",D29<>"",F29<>"",G29<>""),MAX(A$6:A28)+1,"") | I29: =IF(N(F29)+N(G29)=0,"",ROUND((N(F29)+N(G29))*N(H29)/(1+N(H29)),2)) | J29: =IF(OR(B29<>"",D29<>"",F29<>"",G29<>""),ROUND(Einstellungen!$B$5+SUM(F$7:F29)-SUM(G$7:G29),2),"") | K29: =IF(OR(B29<>"",D29<>"",F29<>"",G29<>""),MID(IF(AND(F29<>"",G29<>""),"; Einnahme und Ausgabe in einer Zeile","")&IF(AND(F29="",G29=""),"; Betrag fehlt","")&IF(B29="","; Datum fehlt",IF(B29<MAX(B$6:B28),"; Datum früher als darüber","")&IF(AND(Einstellungen!$B$6<>"",B29<Einstellungen!$B$6),"; Datum vor dem Anfangsbestand",""))&IF(C29="","; Beleg fehlt","")&IF(N(J29)<0,"; Kassenbestand negativ",""),3,250),"")
A30: =IF(OR(B30<>"",D30<>"",F30<>"",G30<>""),MAX(A$6:A29)+1,"") | I30: =IF(N(F30)+N(G30)=0,"",ROUND((N(F30)+N(G30))*N(H30)/(1+N(H30)),2)) | J30: =IF(OR(B30<>"",D30<>"",F30<>"",G30<>""),ROUND(Einstellungen!$B$5+SUM(F$7:F30)-SUM(G$7:G30),2),"") | K30: =IF(OR(B30<>"",D30<>"",F30<>"",G30<>""),MID(IF(AND(F30<>"",G30<>""),"; Einnahme und Ausgabe in einer Zeile","")&IF(AND(F30="",G30=""),"; Betrag fehlt","")&IF(B30="","; Datum fehlt",IF(B30<MAX(B$6:B29),"; Datum früher als darüber","")&IF(AND(Einstellungen!$B$6<>"",B30<Einstellungen!$B$6),"; Datum vor dem Anfangsbestand",""))&IF(C30="","; Beleg fehlt","")&IF(N(J30)<0,"; Kassenbestand negativ",""),3,250),"")
... A1006: =IF(OR(B1006<>"",D1006<>"",F1006<>"",G1006<>""),MAX(A$6:A1005)+1,"") | I1006: =IF(N(F1006)+N(G1006)=0,"",ROUND((N(F1006)+N(G1006))*N(H1006)/(1+N(H1006)),2)) | J1006: =IF(OR(B1006<>"",D1006<>"",F1006<>"",G1006<>""),ROUND(Einstellungen!$B$5+SUM(F$7:F1006)-SUM(G$7:G1006),2),"") | K1006: =IF(OR(B1006<>"",D1006<>"",F1006<>"",G1006<>""),MID(IF(AND(F1006<>"",G1006<>""),"; Einnahme und Ausgabe in einer Zeile","")&IF(AND(F1006="",G1006=""),"; Betrag fehlt","")&IF(B1006="","; Datum fehlt",IF(B1006<MAX(B$6:B1005),"; Datum früher als darüber","")&IF(AND(Einstellungen!$B$6<>"",B1006<Einstellungen!$B$6),"; Datum vor dem Anfangsbestand",""))&IF(C1006="","; Beleg fehlt","")&IF(N(J1006)<0,"; Kassenbestand negativ",""),3,250),"")

Sheet Kassensturz
A1: Kassensturz
A2: Bargeld zählen, Betrag mit Datum eintragen · die Datei vergleicht mit dem Kassenbuch · am besten zu jedem Monatsende
A3: Stimmt die Kasse nicht, fehlt meist eine Buchung oder ein Betrag ist vertippt. Findest du den Fehler nicht, erfasse die Differenz als eigene Buchung (Kategorie Sonstiges, Text 'Kassendifferenz').
A6: Gezählt am | B6: Gezählter Bestand (€) | C6: Soll laut Kassenbuch (€) | D6: Differenz (€) | E6: Bemerkung | F6: Prüfhinweis
A7: 46295 | B7: 504.2 | C7: =IF(A7="","",ROUND(Einstellungen!$B$5+SUMIFS(Kassenbuch!$F$7:$F$1006,Kassenbuch!$B$7:$B$1006,"<="&A7)-SUMIFS(Kassenbuch!$G$7:$G$1006,Kassenbuch!$B$7:$B$1006,"<="&A7),2)) | D7: =IF(OR(A7="",B7=""),"",ROUND(B7-C7,2)) | E7: Monatsabschluss, stimmt | F7: =IF(A7="","",IF(B7="","gezählten Betrag eintragen",IF(D7=0,"",IF(D7<0,"weniger Geld in der Kasse als gebucht","mehr Geld in der Kasse als gebucht"))))
A8: 46332 | B8: 802.45 | C8: =IF(A8="","",ROUND(Einstellungen!$B$5+SUMIFS(Kassenbuch!$F$7:$F$1006,Kassenbuch!$B$7:$B$1006,"<="&A8)-SUMIFS(Kassenbuch!$G$7:$G$1006,Kassenbuch!$B$7:$B$1006,"<="&A8),2)) | D8: =IF(OR(A8="",B8=""),"",ROUND(B8-C8,2)) | E8: Beispiel: 50 Cent fehlen, Ursache noch offen | F8: =IF(A8="","",IF(B8="","gezählten Betrag eintragen",IF(D8=0,"",IF(D8<0,"weniger Geld in der Kasse als gebucht","mehr Geld in der Kasse als gebucht"))))
C9: =IF(A9="","",ROUND(Einstellungen!$B$5+SUMIFS(Kassenbuch!$F$7:$F$1006,Kassenbuch!$B$7:$B$1006,"<="&A9)-SUMIFS(Kassenbuch!$G$7:$G$1006,Kassenbuch!$B$7:$B$1006,"<="&A9),2)) | D9: =IF(OR(A9="",B9=""),"",ROUND(B9-C9,2)) | F9: =IF(A9="","",IF(B9="","gezählten Betrag eintragen",IF(D9=0,"",IF(D9<0,"weniger Geld in der Kasse als gebucht","mehr Geld in der Kasse als gebucht"))))
C10: =IF(A10="","",ROUND(Einstellungen!$B$5+SUMIFS(Kassenbuch!$F$7:$F$1006,Kassenbuch!$B$7:$B$1006,"<="&A10)-SUMIFS(Kassenbuch!$G$7:$G$1006,Kassenbuch!$B$7:$B$1006,"<="&A10),2)) | D10: =IF(OR(A10="",B10=""),"",ROUND(B10-C10,2)) | F10: =IF(A10="","",IF(B10="","gezählten Betrag eintragen",IF(D10=0,"",IF(D10<0,"weniger Geld in der Kasse als gebucht","mehr Geld in der Kasse als gebucht"))))
C11: =IF(A11="","",ROUND(Einstellungen!$B$5+SUMIFS(Kassenbuch!$F$7:$F$1006,Kassenbuch!$B$7:$B$1006,"<="&A11)-SUMIFS(Kassenbuch!$G$7:$G$1006,Kassenbuch!$B$7:$B$1006,"<="&A11),2)) | D11: =IF(OR(A11="",B11=""),"",ROUND(B11-C11,2)) | F11: =IF(A11="","",IF(B11="","gezählten Betrag eintragen",IF(D11=0,"",IF(D11<0,"weniger Geld in der Kasse als gebucht","mehr Geld in der Kasse als gebucht"))))
C12: =IF(A12="","",ROUND(Einstellungen!$B$5+SUMIFS(Kassenbuch!$F$7:$F$1006,Kassenbuch!$B$7:$B$1006,"<="&A12)-SUMIFS(Kassenbuch!$G$7:$G$1006,Kassenbuch!$B$7:$B$1006,"<="&A12),2)) | D12: =IF(OR(A12="",B12=""),"",ROUND(B12-C12,2)) | F12: =IF(A12="","",IF(B12="","gezählten Betrag eintragen",IF(D12=0,"",IF(D12<0,"weniger Geld in der Kasse als gebucht","mehr Geld in der Kasse als gebucht"))))
C13: =IF(A13="","",ROUND(Einstellungen!$B$5+SUMIFS(Kassenbuch!$F$7:$F$1006,Kassenbuch!$B$7:$B$1006,"<="&A13)-SUMIFS(Kassenbuch!$G$7:$G$1006,Kassenbuch!$B$7:$B$1006,"<="&A13),2)) | D13: =IF(OR(A13="",B13=""),"",ROUND(B13-C13,2)) | F13: =IF(A13="","",IF(B13="","gezählten Betrag eintragen",IF(D13=0,"",IF(D13<0,"weniger Geld in der Kasse als gebucht","mehr Geld in der Kasse als gebucht"))))
C14: =IF(A14="","",ROUND(Einstellungen!$B$5+SUMIFS(Kassenbuch!$F$7:$F$1006,Kassenbuch!$B$7:$B$1006,"<="&A14)-SUMIFS(Kassenbuch!$G$7:$G$1006,Kassenbuch!$B$7:$B$1006,"<="&A14),2)) | D14: =IF(OR(A14="",B14=""),"",ROUND(B14-C14,2)) | F14: =IF(A14="","",IF(B14="","gezählten Betrag eintragen",IF(D14=0,"",IF(D14<0,"weniger Geld in der Kasse als gebucht","mehr Geld in der Kasse als gebucht"))))
C15: =IF(A15="","",ROUND(Einstellungen!$B$5+SUMIFS(Kassenbuch!$F$7:$F$1006,Kassenbuch!$B$7:$B$1006,"<="&A15)-SUMIFS(Kassenbuch!$G$7:$G$1006,Kassenbuch!$B$7:$B$1006,"<="&A15),2)) | D15: =IF(OR(A15="",B15=""),"",ROUND(B15-C15,2)) | F15: =IF(A15="","",IF(B15="","gezählten Betrag eintragen",IF(D15=0,"",IF(D15<0,"weniger Geld in der Kasse als gebucht","mehr Geld in der Kasse als gebucht"))))
C16: =IF(A16="","",ROUND(Einstellungen!$B$5+SUMIFS(Kassenbuch!$F$7:$F$1006,Kassenbuch!$B$7:$B$1006,"<="&A16)-SUMIFS(Kassenbuch!$G$7:$G$1006,Kassenbuch!$B$7:$B$1006,"<="&A16),2)) | D16: =IF(OR(A16="",B16=""),"",ROUND(B16-C16,2)) | F16: =IF(A16="","",IF(B16="","gezählten Betrag eintragen",IF(D16=0,"",IF(D16<0,"weniger Geld in der Kasse als gebucht","mehr Geld in der Kasse als gebucht"))))
C17: =IF(A17="","",ROUND(Einstellungen!$B$5+SUMIFS(Kassenbuch!$F$7:$F$1006,Kassenbuch!$B$7:$B$1006,"<="&A17)-SUMIFS(Kassenbuch!$G$7:$G$1006,Kassenbuch!$B$7:$B$1006,"<="&A17),2)) | D17: =IF(OR(A17="",B17=""),"",ROUND(B17-C17,2)) | F17: =IF(A17="","",IF(B17="","gezählten Betrag eintragen",IF(D17=0,"",IF(D17<0,"weniger Geld in der Kasse als gebucht","mehr Geld in der Kasse als gebucht"))))
C18: =IF(A18="","",ROUND(Einstellungen!$B$5+SUMIFS(Kassenbuch!$F$7:$F$1006,Kassenbuch!$B$7:$B$1006,"<="&A18)-SUMIFS(Kassenbuch!$G$7:$G$1006,Kassenbuch!$B$7:$B$1006,"<="&A18),2)) | D18: =IF(OR(A18="",B18=""),"",ROUND(B18-C18,2)) | F18: =IF(A18="","",IF(B18="","gezählten Betrag eintragen",IF(D18=0,"",IF(D18<0,"weniger Geld in der Kasse als gebucht","mehr Geld in der Kasse als gebucht"))))
C19: =IF(A19="","",ROUND(Einstellungen!$B$5+SUMIFS(Kassenbuch!$F$7:$F$1006,Kassenbuch!$B$7:$B$1006,"<="&A19)-SUMIFS(Kassenbuch!$G$7:$G$1006,Kassenbuch!$B$7:$B$1006,"<="&A19),2)) | D19: =IF(OR(A19="",B19=""),"",ROUND(B19-C19,2)) | F19: =IF(A19="","",IF(B19="","gezählten Betrag eintragen",IF(D19=0,"",IF(D19<0,"weniger Geld in der Kasse als gebucht","mehr Geld in der Kasse als gebucht"))))
C20: =IF(A20="","",ROUND(Einstellungen!$B$5+SUMIFS(Kassenbuch!$F$7:$F$1006,Kassenbuch!$B$7:$B$1006,"<="&A20)-SUMIFS(Kassenbuch!$G$7:$G$1006,Kassenbuch!$B$7:$B$1006,"<="&A20),2)) | D20: =IF(OR(A20="",B20=""),"",ROUND(B20-C20,2)) | F20: =IF(A20="","",IF(B20="","gezählten Betrag eintragen",IF(D20=0,"",IF(D20<0,"weniger Geld in der Kasse als gebucht","mehr Geld in der Kasse als gebucht"))))
... C206: =IF(A206="","",ROUND(Einstellungen!$B$5+SUMIFS(Kassenbuch!$F$7:$F$1006,Kassenbuch!$B$7:$B$1006,"<="&A206)-SUMIFS(Kassenbuch!$G$7:$G$1006,Kassenbuch!$B$7:$B$1006,"<="&A206),2)) | D206: =IF(OR(A206="",B206=""),"",ROUND(B206-C206,2)) | F206: =IF(A206="","",IF(B206="","gezählten Betrag eintragen",IF(D206=0,"",IF(D206<0,"weniger Geld in der Kasse als gebucht","mehr Geld in der Kasse als gebucht"))))

Sheet Einstellungen
A1: Einstellungen
A2: Anfangsbestand und Listen für die Auswahl im Kassenbuch · frei erweiterbar
A4: Name der Kasse | B4: Barkasse | F4: So passt du die Einstellungen an
A5: Anfangsbestand (€) | B5: 500 | F5: Anfangsbestand: das gezählte Bargeld am Stichtag. Beim Start mitten im Jahr der Bestand an diesem Tag.
A6: Anfangsbestand am | B6: 46266 | F6: Kategorien: überschreiben oder unten ergänzen, bis zu 20. Die Auswertung übernimmt jede Änderung.
F7: Geldtransit Bank: Bargeld zur Bank gebracht (Ausgabe) oder abgehoben (Einnahme), ohne USt.
A9: Kategorien | C9: USt-Sätze
A10: Erlöse | C10: 0.19 | F10: Farben im Register: grün = hier arbeitest du, orange = Einstellungen,
A11: Privateinlage | C11: 0.07 | F11: grau = rechnet selbst (Auswertung) und Anleitung.
A12: Geldtransit Bank | C12: 0
A13: Wareneinkauf
A14: Bürobedarf
A15: Porto
A16: Bewirtung
A17: Fahrtkosten
A18: Reinigung
A19: Privatentnahme
A20: Sonstiges

Sheet Auswertung
A1: Auswertung
A2: Rechnet aus dem Kassenbuch · nur das Jahr oben ist einzutragen
A4: Jahr: | B4: 2026
A6: Je Monat im gewählten Jahr
A7: Monat | B7: Einnahmen (€) | C7: Ausgaben (€) | D7: Saldo (€) | E7: Bestand am Monatsende (€) | F7: USt in Einnahmen (€) | G7: USt in Ausgaben (€) | H7: Buchungen
A8: Bestand 1. Januar | E8: =ROUND(Einstellungen!$B$5+SUMIFS(Kassenbuch!$F$7:$F$1006,Kassenbuch!$B$7:$B$1006,"<"&DATE($B$4,1,1))-SUMIFS(Kassenbuch!$G$7:$G$1006,Kassenbuch!$B$7:$B$1006,"<"&DATE($B$4,1,1)),2)
A9: Januar | B9: =SUMIFS(Kassenbuch!$F$7:$F$1006,Kassenbuch!$B$7:$B$1006,">="&DATE($B$4,1,1),Kassenbuch!$B$7:$B$1006,"<"&DATE($B$4,2,1)) | C9: =SUMIFS(Kassenbuch!$G$7:$G$1006,Kassenbuch!$B$7:$B$1006,">="&DATE($B$4,1,1),Kassenbuch!$B$7:$B$1006,"<"&DATE($B$4,2,1)) | D9: =ROUND(B9-C9,2) | E9: =ROUND(Einstellungen!$B$5+SUMIFS(Kassenbuch!$F$7:$F$1006,Kassenbuch!$B$7:$B$1006,"<"&DATE($B$4,2,1))-SUMIFS(Kassenbuch!$G$7:$G$1006,Kassenbuch!$B$7:$B$1006,"<"&DATE($B$4,2,1)),2) | F9: =SUMIFS(Kassenbuch!$I$7:$I$1006,Kassenbuch!$B$7:$B$1006,">="&DATE($B$4,1,1),Kassenbuch!$B$7:$B$1006,"<"&DATE($B$4,2,1),Kassenbuch!$F$7:$F$1006,"<>") | G9: =SUMIFS(Kassenbuch!$I$7:$I$1006,Kassenbuch!$B$7:$B$1006,">="&DATE($B$4,1,1),Kassenbuch!$B$7:$B$1006,"<"&DATE($B$4,2,1),Kassenbuch!$G$7:$G$1006,"<>") | H9: =COUNTIFS(Kassenbuch!$B$7:$B$1006,">="&DATE($B$4,1,1),Kassenbuch!$B$7:$B$1006,"<"&DATE($B$4,2,1))
A10: Februar | B10: =SUMIFS(Kassenbuch!$F$7:$F$1006,Kassenbuch!$B$7:$B$1006,">="&DATE($B$4,2,1),Kassenbuch!$B$7:$B$1006,"<"&DATE($B$4,3,1)) | C10: =SUMIFS(Kassenbuch!$G$7:$G$1006,Kassenbuch!$B$7:$B$1006,">="&DATE($B$4,2,1),Kassenbuch!$B$7:$B$1006,"<"&DATE($B$4,3,1)) | D10: =ROUND(B10-C10,2) | E10: =ROUND(Einstellungen!$B$5+SUMIFS(Kassenbuch!$F$7:$F$1006,Kassenbuch!$B$7:$B$1006,"<"&DATE($B$4,3,1))-SUMIFS(Kassenbuch!$G$7:$G$1006,Kassenbuch!$B$7:$B$1006,"<"&DATE($B$4,3,1)),2) | F10: =SUMIFS(Kassenbuch!$I$7:$I$1006,Kassenbuch!$B$7:$B$1006,">="&DATE($B$4,2,1),Kassenbuch!$B$7:$B$1006,"<"&DATE($B$4,3,1),Kassenbuch!$F$7:$F$1006,"<>") | G10: =SUMIFS(Kassenbuch!$I$7:$I$1006,Kassenbuch!$B$7:$B$1006,">="&DATE($B$4,2,1),Kassenbuch!$B$7:$B$1006,"<"&DATE($B$4,3,1),Kassenbuch!$G$7:$G$1006,"<>") | H10: =COUNTIFS(Kassenbuch!$B$7:$B$1006,">="&DATE($B$4,2,1),Kassenbuch!$B$7:$B$1006,"<"&DATE($B$4,3,1))
A11: März | B11: =SUMIFS(Kassenbuch!$F$7:$F$1006,Kassenbuch!$B$7:$B$1006,">="&DATE($B$4,3,1),Kassenbuch!$B$7:$B$1006,"<"&DATE($B$4,4,1)) | C11: =SUMIFS(Kassenbuch!$G$7:$G$1006,Kassenbuch!$B$7:$B$1006,">="&DATE($B$4,3,1),Kassenbuch!$B$7:$B$1006,"<"&DATE($B$4,4,1)) | D11: =ROUND(B11-C11,2) | E11: =ROUND(Einstellungen!$B$5+SUMIFS(Kassenbuch!$F$7:$F$1006,Kassenbuch!$B$7:$B$1006,"<"&DATE($B$4,4,1))-SUMIFS(Kassenbuch!$G$7:$G$1006,Kassenbuch!$B$7:$B$1006,"<"&DATE($B$4,4,1)),2) | F11: =SUMIFS(Kassenbuch!$I$7:$I$1006,Kassenbuch!$B$7:$B$1006,">="&DATE($B$4,3,1),Kassenbuch!$B$7:$B$1006,"<"&DATE($B$4,4,1),Kassenbuch!$F$7:$F$1006,"<>") | G11: =SUMIFS(Kassenbuch!$I$7:$I$1006,Kassenbuch!$B$7:$B$1006,">="&DATE($B$4,3,1),Kassenbuch!$B$7:$B$1006,"<"&DATE($B$4,4,1),Kassenbuch!$G$7:$G$1006,"<>") | H11: =COUNTIFS(Kassenbuch!$B$7:$B$1006,">="&DATE($B$4,3,1),Kassenbuch!$B$7:$B$1006,"<"&DATE($B$4,4,1))
A12: April | B12: =SUMIFS(Kassenbuch!$F$7:$F$1006,Kassenbuch!$B$7:$B$1006,">="&DATE($B$4,4,1),Kassenbuch!$B$7:$B$1006,"<"&DATE($B$4,5,1)) | C12: =SUMIFS(Kassenbuch!$G$7:$G$1006,Kassenbuch!$B$7:$B$1006,">="&DATE($B$4,4,1),Kassenbuch!$B$7:$B$1006,"<"&DATE($B$4,5,1)) | D12: =ROUND(B12-C12,2) | E12: =ROUND(Einstellungen!$B$5+SUMIFS(Kassenbuch!$F$7:$F$1006,Kassenbuch!$B$7:$B$1006,"<"&DATE($B$4,5,1))-SUMIFS(Kassenbuch!$G$7:$G$1006,Kassenbuch!$B$7:$B$1006,"<"&DATE($B$4,5,1)),2) | F12: =SUMIFS(Kassenbuch!$I$7:$I$1006,Kassenbuch!$B$7:$B$1006,">="&DATE($B$4,4,1),Kassenbuch!$B$7:$B$1006,"<"&DATE($B$4,5,1),Kassenbuch!$F$7:$F$1006,"<>") | G12: =SUMIFS(Kassenbuch!$I$7:$I$1006,Kassenbuch!$B$7:$B$1006,">="&DATE($B$4,4,1),Kassenbuch!$B$7:$B$1006,"<"&DATE($B$4,5,1),Kassenbuch!$G$7:$G$1006,"<>") | H12: =COUNTIFS(Kassenbuch!$B$7:$B$1006,">="&DATE($B$4,4,1),Kassenbuch!$B$7:$B$1006,"<"&DATE($B$4,5,1))
A13: Mai | B13: =SUMIFS(Kassenbuch!$F$7:$F$1006,Kassenbuch!$B$7:$B$1006,">="&DATE($B$4,5,1),Kassenbuch!$B$7:$B$1006,"<"&DATE($B$4,6,1)) | C13: =SUMIFS(Kassenbuch!$G$7:$G$1006,Kassenbuch!$B$7:$B$1006,">="&DATE($B$4,5,1),Kassenbuch!$B$7:$B$1006,"<"&DATE($B$4,6,1)) | D13: =ROUND(B13-C13,2) | E13: =ROUND(Einstellungen!$B$5+SUMIFS(Kassenbuch!$F$7:$F$1006,Kassenbuch!$B$7:$B$1006,"<"&DATE($B$4,6,1))-SUMIFS(Kassenbuch!$G$7:$G$1006,Kassenbuch!$B$7:$B$1006,"<"&DATE($B$4,6,1)),2) | F13: =SUMIFS(Kassenbuch!$I$7:$I$1006,Kassenbuch!$B$7:$B$1006,">="&DATE($B$4,5,1),Kassenbuch!$B$7:$B$1006,"<"&DATE($B$4,6,1),Kassenbuch!$F$7:$F$1006,"<>") | G13: =SUMIFS(Kassenbuch!$I$7:$I$1006,Kassenbuch!$B$7:$B$1006,">="&DATE($B$4,5,1),Kassenbuch!$B$7:$B$1006,"<"&DATE($B$4,6,1),Kassenbuch!$G$7:$G$1006,"<>") | H13: =COUNTIFS(Kassenbuch!$B$7:$B$1006,">="&DATE($B$4,5,1),Kassenbuch!$B$7:$B$1006,"<"&DATE($B$4,6,1))
A14: Juni | B14: =SUMIFS(Kassenbuch!$F$7:$F$1006,Kassenbuch!$B$7:$B$1006,">="&DATE($B$4,6,1),Kassenbuch!$B$7:$B$1006,"<"&DATE($B$4,7,1)) | C14: =SUMIFS(Kassenbuch!$G$7:$G$1006,Kassenbuch!$B$7:$B$1006,">="&DATE($B$4,6,1),Kassenbuch!$B$7:$B$1006,"<"&DATE($B$4,7,1)) | D14: =ROUND(B14-C14,2) | E14: =ROUND(Einstellungen!$B$5+SUMIFS(Kassenbuch!$F$7:$F$1006,Kassenbuch!$B$7:$B$1006,"<"&DATE($B$4,7,1))-SUMIFS(Kassenbuch!$G$7:$G$1006,Kassenbuch!$B$7:$B$1006,"<"&DATE($B$4,7,1)),2) | F14: =SUMIFS(Kassenbuch!$I$7:$I$1006,Kassenbuch!$B$7:$B$1006,">="&DATE($B$4,6,1),Kassenbuch!$B$7:$B$1006,"<"&DATE($B$4,7,1),Kassenbuch!$F$7:$F$1006,"<>") | G14: =SUMIFS(Kassenbuch!$I$7:$I$1006,Kassenbuch!$B$7:$B$1006,">="&DATE($B$4,6,1),Kassenbuch!$B$7:$B$1006,"<"&DATE($B$4,7,1),Kassenbuch!$G$7:$G$1006,"<>") | H14: =COUNTIFS(Kassenbuch!$B$7:$B$1006,">="&DATE($B$4,6,1),Kassenbuch!$B$7:$B$1006,"<"&DATE($B$4,7,1))
A15: Juli | B15: =SUMIFS(Kassenbuch!$F$7:$F$1006,Kassenbuch!$B$7:$B$1006,">="&DATE($B$4,7,1),Kassenbuch!$B$7:$B$1006,"<"&DATE($B$4,8,1)) | C15: =SUMIFS(Kassenbuch!$G$7:$G$1006,Kassenbuch!$B$7:$B$1006,">="&DATE($B$4,7,1),Kassenbuch!$B$7:$B$1006,"<"&DATE($B$4,8,1)) | D15: =ROUND(B15-C15,2) | E15: =ROUND(Einstellungen!$B$5+SUMIFS(Kassenbuch!$F$7:$F$1006,Kassenbuch!$B$7:$B$1006,"<"&DATE($B$4,8,1))-SUMIFS(Kassenbuch!$G$7:$G$1006,Kassenbuch!$B$7:$B$1006,"<"&DATE($B$4,8,1)),2) | F15: =SUMIFS(Kassenbuch!$I$7:$I$1006,Kassenbuch!$B$7:$B$1006,">="&DATE($B$4,7,1),Kassenbuch!$B$7:$B$1006,"<"&DATE($B$4,8,1),Kassenbuch!$F$7:$F$1006,"<>") | G15: =SUMIFS(Kassenbuch!$I$7:$I$1006,Kassenbuch!$B$7:$B$1006,">="&DATE($B$4,7,1),Kassenbuch!$B$7:$B$1006,"<"&DATE($B$4,8,1),Kassenbuch!$G$7:$G$1006,"<>") | H15: =COUNTIFS(Kassenbuch!$B$7:$B$1006,">="&DATE($B$4,7,1),Kassenbuch!$B$7:$B$1006,"<"&DATE($B$4,8,1))
A16: August | B16: =SUMIFS(Kassenbuch!$F$7:$F$1006,Kassenbuch!$B$7:$B$1006,">="&DATE($B$4,8,1),Kassenbuch!$B$7:$B$1006,"<"&DATE($B$4,9,1)) | C16: =SUMIFS(Kassenbuch!$G$7:$G$1006,Kassenbuch!$B$7:$B$1006,">="&DATE($B$4,8,1),Kassenbuch!$B$7:$B$1006,"<"&DATE($B$4,9,1)) | D16: =ROUND(B16-C16,2) | E16: =ROUND(Einstellungen!$B$5+SUMIFS(Kassenbuch!$F$7:$F$1006,Kassenbuch!$B$7:$B$1006,"<"&DATE($B$4,9,1))-SUMIFS(Kassenbuch!$G$7:$G$1006,Kassenbuch!$B$7:$B$1006,"<"&DATE($B$4,9,1)),2) | F16: =SUMIFS(Kassenbuch!$I$7:$I$1006,Kassenbuch!$B$7:$B$1006,">="&DATE($B$4,8,1),Kassenbuch!$B$7:$B$1006,"<"&DATE($B$4,9,1),Kassenbuch!$F$7:$F$1006,"<>") | G16: =SUMIFS(Kassenbuch!$I$7:$I$1006,Kassenbuch!$B$7:$B$1006,">="&DATE($B$4,8,1),Kassenbuch!$B$7:$B$1006,"<"&DATE($B$4,9,1),Kassenbuch!$G$7:$G$1006,"<>") | H16: =COUNTIFS(Kassenbuch!$B$7:$B$1006,">="&DATE($B$4,8,1),Kassenbuch!$B$7:$B$1006,"<"&DATE($B$4,9,1))
A17: September | B17: =SUMIFS(Kassenbuch!$F$7:$F$1006,Kassenbuch!$B$7:$B$1006,">="&DATE($B$4,9,1),Kassenbuch!$B$7:$B$1006,"<"&DATE($B$4,10,1)) | C17: =SUMIFS(Kassenbuch!$G$7:$G$1006,Kassenbuch!$B$7:$B$1006,">="&DATE($B$4,9,1),Kassenbuch!$B$7:$B$1006,"<"&DATE($B$4,10,1)) | D17: =ROUND(B17-C17,2) | E17: =ROUND(Einstellungen!$B$5+SUMIFS(Kassenbuch!$F$7:$F$1006,Kassenbuch!$B$7:$B$1006,"<"&DATE($B$4,10,1))-SUMIFS(Kassenbuch!$G$7:$G$1006,Kassenbuch!$B$7:$B$1006,"<"&DATE($B$4,10,1)),2) | F17: =SUMIFS(Kassenbuch!$I$7:$I$1006,Kassenbuch!$B$7:$B$1006,">="&DATE($B$4,9,1),Kassenbuch!$B$7:$B$1006,"<"&DATE($B$4,10,1),Kassenbuch!$F$7:$F$1006,"<>") | G17: =SUMIFS(Kassenbuch!$I$7:$I$1006,Kassenbuch!$B$7:$B$1006,">="&DATE($B$4,9,1),Kassenbuch!$B$7:$B$1006,"<"&DATE($B$4,10,1),Kassenbuch!$G$7:$G$1006,"<>") | H17: =COUNTIFS(Kassenbuch!$B$7:$B$1006,">="&DATE($B$4,9,1),Kassenbuch!$B$7:$B$1006,"<"&DATE($B$4,10,1))
A18: Oktober | B18: =SUMIFS(Kassenbuch!$F$7:$F$1006,Kassenbuch!$B$7:$B$1006,">="&DATE($B$4,10,1),Kassenbuch!$B$7:$B$1006,"<"&DATE($B$4,11,1)) | C18: =SUMIFS(Kassenbuch!$G$7:$G$1006,Kassenbuch!$B$7:$B$1006,">="&DATE($B$4,10,1),Kassenbuch!$B$7:$B$1006,"<"&DATE($B$4,11,1)) | D18: =ROUND(B18-C18,2) | E18: =ROUND(Einstellungen!$B$5+SUMIFS(Kassenbuch!$F$7:$F$1006,Kassenbuch!$B$7:$B$1006,"<"&DATE($B$4,11,1))-SUMIFS(Kassenbuch!$G$7:$G$1006,Kassenbuch!$B$7:$B$1006,"<"&DATE($B$4,11,1)),2) | F18: =SUMIFS(Kassenbuch!$I$7:$I$1006,Kassenbuch!$B$7:$B$1006,">="&DATE($B$4,10,1),Kassenbuch!$B$7:$B$1006,"<"&DATE($B$4,11,1),Kassenbuch!$F$7:$F$1006,"<>") | G18: =SUMIFS(Kassenbuch!$I$7:$I$1006,Kassenbuch!$B$7:$B$1006,">="&DATE($B$4,10,1),Kassenbuch!$B$7:$B$1006,"<"&DATE($B$4,11,1),Kassenbuch!$G$7:$G$1006,"<>") | H18: =COUNTIFS(Kassenbuch!$B$7:$B$1006,">="&DATE($B$4,10,1),Kassenbuch!$B$7:$B$1006,"<"&DATE($B$4,11,1))
A19: November | B19: =SUMIFS(Kassenbuch!$F$7:$F$1006,Kassenbuch!$B$7:$B$1006,">="&DATE($B$4,11,1),Kassenbuch!$B$7:$B$1006,"<"&DATE($B$4,12,1)) | C19: =SUMIFS(Kassenbuch!$G$7:$G$1006,Kassenbuch!$B$7:$B$1006,">="&DATE($B$4,11,1),Kassenbuch!$B$7:$B$1006,"<"&DATE($B$4,12,1)) | D19: =ROUND(B19-C19,2) | E19: =ROUND(Einstellungen!$B$5+SUMIFS(Kassenbuch!$F$7:$F$1006,Kassenbuch!$B$7:$B$1006,"<"&DATE($B$4,12,1))-SUMIFS(Kassenbuch!$G$7:$G$1006,Kassenbuch!$B$7:$B$1006,"<"&DATE($B$4,12,1)),2) | F19: =SUMIFS(Kassenbuch!$I$7:$I$1006,Kassenbuch!$B$7:$B$1006,">="&DATE($B$4,11,1),Kassenbuch!$B$7:$B$1006,"<"&DATE($B$4,12,1),Kassenbuch!$F$7:$F$1006,"<>") | G19: =SUMIFS(Kassenbuch!$I$7:$I$1006,Kassenbuch!$B$7:$B$1006,">="&DATE($B$4,11,1),Kassenbuch!$B$7:$B$1006,"<"&DATE($B$4,12,1),Kassenbuch!$G$7:$G$1006,"<>") | H19: =COUNTIFS(Kassenbuch!$B$7:$B$1006,">="&DATE($B$4,11,1),Kassenbuch!$B$7:$B$1006,"<"&DATE($B$4,12,1))
A20: Dezember | B20: =SUMIFS(Kassenbuch!$F$7:$F$1006,Kassenbuch!$B$7:$B$1006,">="&DATE($B$4,12,1),Kassenbuch!$B$7:$B$1006,"<"&DATE($B$4+1,1,1)) | C20: =SUMIFS(Kassenbuch!$G$7:$G$1006,Kassenbuch!$B$7:$B$1006,">="&DATE($B$4,12,1),Kassenbuch!$B$7:$B$1006,"<"&DATE($B$4+1,1,1)) | D20: =ROUND(B20-C20,2) | E20: =ROUND(Einstellungen!$B$5+SUMIFS(Kassenbuch!$F$7:$F$1006,Kassenbuch!$B$7:$B$1006,"<"&DATE($B$4+1,1,1))-SUMIFS(Kassenbuch!$G$7:$G$1006,Kassenbuch!$B$7:$B$1006,"<"&DATE($B$4+1,1,1)),2) | F20: =SUMIFS(Kassenbuch!$I$7:$I$1006,Kassenbuch!$B$7:$B$1006,">="&DATE($B$4,12,1),Kassenbuch!$B$7:$B$1006,"<"&DATE($B$4+1,1,1),Kassenbuch!$F$7:$F$1006,"<>") | G20: =SUMIFS(Kassenbuch!$I$7:$I$1006,Kassenbuch!$B$7:$B$1006,">="&DATE($B$4,12,1),Kassenbuch!$B$7:$B$1006,"<"&DATE($B$4+1,1,1),Kassenbuch!$G$7:$G$1006,"<>") | H20: =COUNTIFS(Kassenbuch!$B$7:$B$1006,">="&DATE($B$4,12,1),Kassenbuch!$B$7:$B$1006,"<"&DATE($B$4+1,1,1))
A21: Jahr gesamt | B21: =SUM(B9:B20) | C21: =SUM(C9:C20) | D21: =SUM(D9:D20) | E21: =E20 | F21: =SUM(F9:F20) | G21: =SUM(G9:G20) | H21: =SUM(H9:H20)
A22: Buchungen ohne Datum zählen in keinem Monat. Der Prüfhinweis im Kassenbuch meldet sie. USt in Ausgaben ist die Vorsteuer, sofern du sie abziehen darfst.
A25: Je Kategorie und Monat: Einnahmen minus Ausgaben
A26: Kategorie | B26: Jan | C26: Feb | D26: Mär | E26: Apr | F26: Mai | G26: Jun | H26: Jul | I26: Aug | J26: Sep | K26: Okt | L26: Nov | M26: Dez | N26: Jahr
A27: =IF(Einstellungen!$A$10="","",Einstellungen!$A$10) | B27: =IF($A27="","",SUMIFS(Kassenbuch!$F$7:$F$1006,Kassenbuch!$E$7:$E$1006,$A27,Kassenbuch!$B$7:$B$1006,">="&DATE($B$4,1,1),Kassenbuch!$B$7:$B$1006,"<"&DATE($B$4,2,1))-SUMIFS(Kassenbuch!$G$7:$G$1006,Kassenbuch!$E$7:$E$1006,$A27,Kassenbuch!$B$7:$B$1006,">="&DATE($B$4,1,1),Kassenbuch!$B$7:$B$1006,"<"&DATE($B$4,2,1))) | C27: =IF($A27="","",SUMIFS(Kassenbuch!$F$7:$F$1006,Kassenbuch!$E$7:$E$1006,$A27,Kassenbuch!$B$7:$B$1006,">="&DATE($B$4,2,1),Kassenbuch!$B$7:$B$1006,"<"&DATE($B$4,3,1))-SUMIFS(Kassenbuch!$G$7:$G$1006,Kassenbuch!$E$7:$E$1006,$A27,Kassenbuch!$B$7:$B$1006,">="&DATE($B$4,2,1),Kassenbuch!$B$7:$B$1006,"<"&DATE($B$4,3,1))) | D27: =IF($A27="","",SUMIFS(Kassenbuch!$F$7:$F$1006,Kassenbuch!$E$7:$E$1006,$A27,Kassenbuch!$B$7:$B$1006,">="&DATE($B$4,3,1),Kassenbuch!$B$7:$B$1006,"<"&DATE($B$4,4,1))-SUMIFS(Kassenbuch!$G$7:$G$1006,Kassenbuch!$E$7:$E$1006,$A27,Kassenbuch!$B$7:$B$1006,">="&DATE($B$4,3,1),Kassenbuch!$B$7:$B$1006,"<"&DATE($B$4,4,1))) | E27: =IF($A27="","",SUMIFS(Kassenbuch!$F$7:$F$1006,Kassenbuch!$E$7:$E$1006,$A27,Kassenbuch!$B$7:$B$1006,">="&DATE($B$4,4,1),Kassenbuch!$B$7:$B$1006,"<"&DATE($B$4,5,1))-SUMIFS(Kassenbuch!$G$7:$G$1006,Kassenbuch!$E$7:$E$1006,$A27,Kassenbuch!$B$7:$B$1006,">="&DATE($B$4,4,1),Kassenbuch!$B$7:$B$1006,"<"&DATE($B$4,5,1))) | F27: =IF($A27="","",SUMIFS(Kassenbuch!$F$7:$F$1006,Kassenbuch!$E$7:$E$1006,$A27,Kassenbuch!$B$7:$B$1006,">="&DATE($B$4,5,1),Kassenbuch!$B$7:$B$1006,"<"&DATE($B$4,6,1))-SUMIFS(Kassenbuch!$G$7:$G$1006,Kassenbuch!$E$7:$E$1006,$A27,Kassenbuch!$B$7:$B$1006,">="&DATE($B$4,5,1),Kassenbuch!$B$7:$B$1006,"<"&DATE($B$4,6,1))) | G27: =IF($A27="","",SUMIFS(Kassenbuch!$F$7:$F$1006,Kassenbuch!$E$7:$E$1006,$A27,Kassenbuch!$B$7:$B$1006,">="&DATE($B$4,6,1),Kassenbuch!$B$7:$B$1006,"<"&DATE($B$4,7,1))-SUMIFS(Kassenbuch!$G$7:$G$1006,Kassenbuch!$E$7:$E$1006,$A27,Kassenbuch!$B$7:$B$1006,">="&DATE($B$4,6,1),Kassenbuch!$B$7:$B$1006,"<"&DATE($B$4,7,1))) | H27: =IF($A27="","",SUMIFS(Kassenbuch!$F$7:$F$1006,Kassenbuch!$E$7:$E$1006,$A27,Kassenbuch!$B$7:$B$1006,">="&DATE($B$4,7,1),Kassenbuch!$B$7:$B$1006,"<"&DATE($B$4,8,1))-SUMIFS(Kassenbuch!$G$7:$G$1006,Kassenbuch!$E$7:$E$1006,$A27,Kassenbuch!$B$7:$B$1006,">="&DATE($B$4,7,1),Kassenbuch!$B$7:$B$1006,"<"&DATE($B$4,8,1))) | I27: =IF($A27="","",SUMIFS(Kassenbuch!$F$7:$F$1006,Kassenbuch!$E$7:$E$1006,$A27,Kassenbuch!$B$7:$B$1006,">="&DATE($B$4,8,1),Kassenbuch!$B$7:$B$1006,"<"&DATE($B$4,9,1))-SUMIFS(Kassenbuch!$G$7:$G$1006,Kassenbuch!$E$7:$E$1006,$A27,Kassenbuch!$B$7:$B$1006,">="&DATE($B$4,8,1),Kassenbuch!$B$7:$B$1006,"<"&DATE($B$4,9,1))) | J27: =IF($A27="","",SUMIFS(Kassenbuch!$F$7:$F$1006,Kassenbuch!$E$7:$E$1006,$A27,Kassenbuch!$B$7:$B$1006,">="&DATE($B$4,9,1),Kassenbuch!$B$7:$B$1006,"<"&DATE($B$4,10,1))-SUMIFS(Kassenbuch!$G$7:$G$1006,Kassenbuch!$E$7:$E$1006,$A27,Kassenbuch!$B$7:$B$1006,">="&DATE($B$4,9,1),Kassenbuch!$B$7:$B$1006,"<"&DATE($B$4,10,1))) | K27: =IF($A27="","",SUMIFS(Kassenbuch!$F$7:$F$1006,Kassenbuch!$E$7:$E$1006,$A27,Kassenbuch!$B$7:$B$1006,">="&DATE($B$4,10,1),Kassenbuch!$B$7:$B$1006,"<"&DATE($B$4,11,1))-SUMIFS(Kassenbuch!$G$7:$G$1006,Kassenbuch!$E$7:$E$1006,$A27,Kassenbuch!$B$7:$B$1006,">="&DATE($B$4,10,1),Kassenbuch!$B$7:$B$1006,"<"&DATE($B$4,11,1))) | L27: =IF($A27="","",SUMIFS(Kassenbuch!$F$7:$F$1006,Kassenbuch!$E$7:$E$1006,$A27,Kassenbuch!$B$7:$B$1006,">="&DATE($B$4,11,1),Kassenbuch!$B$7:$B$1006,"<"&DATE($B$4,12,1))-SUMIFS(Kassenbuch!$G$7:$G$1006,Kassenbuch!$E$7:$E$1006,$A27,Kassenbuch!$B$7:$B$1006,">="&DATE($B$4,11,1),Kassenbuch!$B$7:$B$1006,"<"&DATE($B$4,12,1))) | M27: =IF($A27="","",SUMIFS(Kassenbuch!$F$7:$F$1006,Kassenbuch!$E$7:$E$1006,$A27,Kassenbuch!$B$7:$B$1006,">="&DATE($B$4,12,1),Kassenbuch!$B$7:$B$1006,"<"&DATE($B$4+1,1,1))-SUMIFS(Kassenbuch!$G$7:$G$1006,Kassenbuch!$E$7:$E$1006,$A27,Kassenbuch!$B$7:$B$1006,">="&DATE($B$4,12,1),Kassenbuch!$B$7:$B$1006,"<"&DATE($B$4+1,1,1))) | N27: =IF($A27="","",SUM(B27:M27))
A28: =IF(Einstellungen!$A$11="","",Einstellungen!$A$11) | B28: =IF($A28="","",SUMIFS(Kassenbuch!$F$7:$F$1006,Kassenbuch!$E$7:$E$1006,$A28,Kassenbuch!$B$7:$B$1006,">="&DATE($B$4,1,1),Kassenbuch!$B$7:$B$1006,"<"&DATE($B$4,2,1))-SUMIFS(Kassenbuch!$G$7:$G$1006,Kassenbuch!$E$7:$E$1006,$A28,Kassenbuch!$B$7:$B$1006,">="&DATE($B$4,1,1),Kassenbuch!$B$7:$B$1006,"<"&DATE($B$4,2,1))) | C28: =IF($A28="","",SUMIFS(Kassenbuch!$F$7:$F$1006,Kassenbuch!$E$7:$E$1006,$A28,Kassenbuch!$B$7:$B$1006,">="&DATE($B$4,2,1),Kassenbuch!$B$7:$B$1006,"<"&DATE($B$4,3,1))-SUMIFS(Kassenbuch!$G$7:$G$1006,Kassenbuch!$E$7:$E$1006,$A28,Kassenbuch!$B$7:$B$1006,">="&DATE($B$4,2,1),Kassenbuch!$B$7:$B$1006,"<"&DATE($B$4,3,1))) | D28: =IF($A28="","",SUMIFS(Kassenbuch!$F$7:$F$1006,Kassenbuch!$E$7:$E$1006,$A28,Kassenbuch!$B$7:$B$1006,">="&DATE($B$4,3,1),Kassenbuch!$B$7:$B$1006,"<"&DATE($B$4,4,1))-SUMIFS(Kassenbuch!$G$7:$G$1006,Kassenbuch!$E$7:$E$1006,$A28,Kassenbuch!$B$7:$B$1006,">="&DATE($B$4,3,1),Kassenbuch!$B$7:$B$1006,"<"&DATE($B$4,4,1))) | E28: =IF($A28="","",SUMIFS(Kassenbuch!$F$7:$F$1006,Kassenbuch!$E$7:$E$1006,$A28,Kassenbuch!$B$7:$B$1006,">="&DATE($B$4,4,1),Kassenbuch!$B$7:$B$1006,"<"&DATE($B$4,5,1))-SUMIFS(Kassenbuch!$G$7:$G$1006,Kassenbuch!$E$7:$E$1006,$A28,Kassenbuch!$B$7:$B$1006,">="&DATE($B$4,4,1),Kassenbuch!$B$7:$B$1006,"<"&DATE($B$4,5,1))) | F28: =IF($A28="","",SUMIFS(Kassenbuch!$F$7:$F$1006,Kassenbuch!$E$7:$E$1006,$A28,Kassenbuch!$B$7:$B$1006,">="&DATE($B$4,5,1),Kassenbuch!$B$7:$B$1006,"<"&DATE($B$4,6,1))-SUMIFS(Kassenbuch!$G$7:$G$1006,Kassenbuch!$E$7:$E$1006,$A28,Kassenbuch!$B$7:$B$1006,">="&DATE($B$4,5,1),Kassenbuch!$B$7:$B$1006,"<"&DATE($B$4,6,1))) | G28: =IF($A28="","",SUMIFS(Kassenbuch!$F$7:$F$1006,Kassenbuch!$E$7:$E$1006,$A28,Kassenbuch!$B$7:$B$1006,">="&DATE($B$4,6,1),Kassenbuch!$B$7:$B$1006,"<"&DATE($B$4,7,1))-SUMIFS(Kassenbuch!$G$7:$G$1006,Kassenbuch!$E$7:$E$1006,$A28,Kassenbuch!$B$7:$B$1006,">="&DATE($B$4,6,1),Kassenbuch!$B$7:$B$1006,"<"&DATE($B$4,7,1))) | H28: =IF($A28="","",SUMIFS(Kassenbuch!$F$7:$F$1006,Kassenbuch!$E$7:$E$1006,$A28,Kassenbuch!$B$7:$B$1006,">="&DATE($B$4,7,1),Kassenbuch!$B$7:$B$1006,"<"&DATE($B$4,8,1))-SUMIFS(Kassenbuch!$G$7:$G$1006,Kassenbuch!$E$7:$E$1006,$A28,Kassenbuch!$B$7:$B$1006,">="&DATE($B$4,7,1),Kassenbuch!$B$7:$B$1006,"<"&DATE($B$4,8,1))) | I28: =IF($A28="","",SUMIFS(Kassenbuch!$F$7:$F$1006,Kassenbuch!$E$7:$E$1006,$A28,Kassenbuch!$B$7:$B$1006,">="&DATE($B$4,8,1),Kassenbuch!$B$7:$B$1006,"<"&DATE($B$4,9,1))-SUMIFS(Kassenbuch!$G$7:$G$1006,Kassenbuch!$E$7:$E$1006,$A28,Kassenbuch!$B$7:$B$1006,">="&DATE($B$4,8,1),Kassenbuch!$B$7:$B$1006,"<"&DATE($B$4,9,1))) | J28: =IF($A28="","",SUMIFS(Kassenbuch!$F$7:$F$1006,Kassenbuch!$E$7:$E$1006,$A28,Kassenbuch!$B$7:$B$1006,">="&DATE($B$4,9,1),Kassenbuch!$B$7:$B$1006,"<"&DATE($B$4,10,1))-SUMIFS(Kassenbuch!$G$7:$G$1006,Kassenbuch!$E$7:$E$1006,$A28,Kassenbuch!$B$7:$B$1006,">="&DATE($B$4,9,1),Kassenbuch!$B$7:$B$1006,"<"&DATE($B$4,10,1))) | K28: =IF($A28="","",SUMIFS(Kassenbuch!$F$7:$F$1006,Kassenbuch!$E$7:$E$1006,$A28,Kassenbuch!$B$7:$B$1006,">="&DATE($B$4,10,1),Kassenbuch!$B$7:$B$1006,"<"&DATE($B$4,11,1))-SUMIFS(Kassenbuch!$G$7:$G$1006,Kassenbuch!$E$7:$E$1006,$A28,Kassenbuch!$B$7:$B$1006,">="&DATE($B$4,10,1),Kassenbuch!$B$7:$B$1006,"<"&DATE($B$4,11,1))) | L28: =IF($A28="","",SUMIFS(Kassenbuch!$F$7:$F$1006,Kassenbuch!$E$7:$E$1006,$A28,Kassenbuch!$B$7:$B$1006,">="&DATE($B$4,11,1),Kassenbuch!$B$7:$B$1006,"<"&DATE($B$4,12,1))-SUMIFS(Kassenbuch!$G$7:$G$1006,Kassenbuch!$E$7:$E$1006,$A28,Kassenbuch!$B$7:$B$1006,">="&DATE($B$4,11,1),Kassenbuch!$B$7:$B$1006,"<"&DATE($B$4,12,1))) | M28: =IF($A28="","",SUMIFS(Kassenbuch!$F$7:$F$1006,Kassenbuch!$E$7:$E$1006,$A28,Kassenbuch!$B$7:$B$1006,">="&DATE($B$4,12,1),Kassenbuch!$B$7:$B$1006,"<"&DATE($B$4+1,1,1))-SUMIFS(Kassenbuch!$G$7:$G$1006,Kassenbuch!$E$7:$E$1006,$A28,Kassenbuch!$B$7:$B$1006,">="&DATE($B$4,12,1),Kassenbuch!$B$7:$B$1006,"<"&DATE($B$4+1,1,1))) | N28: =IF($A28="","",SUM(B28:M28))
A29: =IF(Einstellungen!$A$12="","",Einstellungen!$A$12) | B29: =IF($A29="","",SUMIFS(Kassenbuch!$F$7:$F$1006,Kassenbuch!$E$7:$E$1006,$A29,Kassenbuch!$B$7:$B$1006,">="&DATE($B$4,1,1),Kassenbuch!$B$7:$B$1006,"<"&DATE($B$4,2,1))-SUMIFS(Kassenbuch!$G$7:$G$1006,Kassenbuch!$E$7:$E$1006,$A29,Kassenbuch!$B$7:$B$1006,">="&DATE($B$4,1,1),Kassenbuch!$B$7:$B$1006,"<"&DATE($B$4,2,1))) | C29: =IF($A29="","",SUMIFS(Kassenbuch!$F$7:$F$1006,Kassenbuch!$E$7:$E$1006,$A29,Kassenbuch!$B$7:$B$1006,">="&DATE($B$4,2,1),Kassenbuch!$B$7:$B$1006,"<"&DATE($B$4,3,1))-SUMIFS(Kassenbuch!$G$7:$G$1006,Kassenbuch!$E$7:$E$1006,$A29,Kassenbuch!$B$7:$B$1006,">="&DATE($B$4,2,1),Kassenbuch!$B$7:$B$1006,"<"&DATE($B$4,3,1))) | D29: =IF($A29="","",SUMIFS(Kassenbuch!$F$7:$F$1006,Kassenbuch!$E$7:$E$1006,$A29,Kassenbuch!$B$7:$B$1006,">="&DATE($B$4,3,1),Kassenbuch!$B$7:$B$1006,"<"&DATE($B$4,4,1))-SUMIFS(Kassenbuch!$G$7:$G$1006,Kassenbuch!$E$7:$E$1006,$A29,Kassenbuch!$B$7:$B$1006,">="&DATE($B$4,3,1),Kassenbuch!$B$7:$B$1006,"<"&DATE($B$4,4,1))) | E29: =IF($A29="","",SUMIFS(Kassenbuch!$F$7:$F$1006,Kassenbuch!$E$7:$E$1006,$A29,Kassenbuch!$B$7:$B$1006,">="&DATE($B$4,4,1),Kassenbuch!$B$7:$B$1006,"<"&DATE($B$4,5,1))-SUMIFS(Kassenbuch!$G$7:$G$1006,Kassenbuch!$E$7:$E$1006,$A29,Kassenbuch!$B$7:$B$1006,">="&DATE($B$4,4,1),Kassenbuch!$B$7:$B$1006,"<"&DATE($B$4,5,1))) | F29: =IF($A29="","",SUMIFS(Kassenbuch!$F$7:$F$1006,Kassenbuch!$E$7:$E$1006,$A29,Kassenbuch!$B$7:$B$1006,">="&DATE($B$4,5,1),Kassenbuch!$B$7:$B$1006,"<"&DATE($B$4,6,1))-SUMIFS(Kassenbuch!$G$7:$G$1006,Kassenbuch!$E$7:$E$1006,$A29,Kassenbuch!$B$7:$B$1006,">="&DATE($B$4,5,1),Kassenbuch!$B$7:$B$1006,"<"&DATE($B$4,6,1))) | G29: =IF($A29="","",SUMIFS(Kassenbuch!$F$7:$F$1006,Kassenbuch!$E$7:$E$1006,$A29,Kassenbuch!$B$7:$B$1006,">="&DATE($B$4,6,1),Kassenbuch!$B$7:$B$1006,"<"&DATE($B$4,7,1))-SUMIFS(Kassenbuch!$G$7:$G$1006,Kassenbuch!$E$7:$E$1006,$A29,Kassenbuch!$B$7:$B$1006,">="&DATE($B$4,6,1),Kassenbuch!$B$7:$B$1006,"<"&DATE($B$4,7,1))) | H29: =IF($A29="","",SUMIFS(Kassenbuch!$F$7:$F$1006,Kassenbuch!$E$7:$E$1006,$A29,Kassenbuch!$B$7:$B$1006,">="&DATE($B$4,7,1),Kassenbuch!$B$7:$B$1006,"<"&DATE($B$4,8,1))-SUMIFS(Kassenbuch!$G$7:$G$1006,Kassenbuch!$E$7:$E$1006,$A29,Kassenbuch!$B$7:$B$1006,">="&DATE($B$4,7,1),Kassenbuch!$B$7:$B$1006,"<"&DATE($B$4,8,1))) | I29: =IF($A29="","",SUMIFS(Kassenbuch!$F$7:$F$1006,Kassenbuch!$E$7:$E$1006,$A29,Kassenbuch!$B$7:$B$1006,">="&DATE($B$4,8,1),Kassenbuch!$B$7:$B$1006,"<"&DATE($B$4,9,1))-SUMIFS(Kassenbuch!$G$7:$G$1006,Kassenbuch!$E$7:$E$1006,$A29,Kassenbuch!$B$7:$B$1006,">="&DATE($B$4,8,1),Kassenbuch!$B$7:$B$1006,"<"&DATE($B$4,9,1))) | J29: =IF($A29="","",SUMIFS(Kassenbuch!$F$7:$F$1006,Kassenbuch!$E$7:$E$1006,$A29,Kassenbuch!$B$7:$B$1006,">="&DATE($B$4,9,1),Kassenbuch!$B$7:$B$1006,"<"&DATE($B$4,10,1))-SUMIFS(Kassenbuch!$G$7:$G$1006,Kassenbuch!$E$7:$E$1006,$A29,Kassenbuch!$B$7:$B$1006,">="&DATE($B$4,9,1),Kassenbuch!$B$7:$B$1006,"<"&DATE($B$4,10,1))) | K29: =IF($A29="","",SUMIFS(Kassenbuch!$F$7:$F$1006,Kassenbuch!$E$7:$E$1006,$A29,Kassenbuch!$B$7:$B$1006,">="&DATE($B$4,10,1),Kassenbuch!$B$7:$B$1006,"<"&DATE($B$4,11,1))-SUMIFS(Kassenbuch!$G$7:$G$1006,Kassenbuch!$E$7:$E$1006,$A29,Kassenbuch!$B$7:$B$1006,">="&DATE($B$4,10,1),Kassenbuch!$B$7:$B$1006,"<"&DATE($B$4,11,1))) | L29: =IF($A29="","",SUMIFS(Kassenbuch!$F$7:$F$1006,Kassenbuch!$E$7:$E$1006,$A29,Kassenbuch!$B$7:$B$1006,">="&DATE($B$4,11,1),Kassenbuch!$B$7:$B$1006,"<"&DATE($B$4,12,1))-SUMIFS(Kassenbuch!$G$7:$G$1006,Kassenbuch!$E$7:$E$1006,$A29,Kassenbuch!$B$7:$B$1006,">="&DATE($B$4,11,1),Kassenbuch!$B$7:$B$1006,"<"&DATE($B$4,12,1))) | M29: =IF($A29="","",SUMIFS(Kassenbuch!$F$7:$F$1006,Kassenbuch!$E$7:$E$1006,$A29,Kassenbuch!$B$7:$B$1006,">="&DATE($B$4,12,1),Kassenbuch!$B$7:$B$1006,"<"&DATE($B$4+1,1,1))-SUMIFS(Kassenbuch!$G$7:$G$1006,Kassenbuch!$E$7:$E$1006,$A29,Kassenbuch!$B$7:$B$1006,">="&DATE($B$4,12,1),Kassenbuch!$B$7:$B$1006,"<"&DATE($B$4+1,1,1))) | N29: =IF($A29="","",SUM(B29:M29))
A30: =IF(Einstellungen!$A$13="","",Einstellungen!$A$13) | B30: =IF($A30="","",SUMIFS(Kassenbuch!$F$7:$F$1006,Kassenbuch!$E$7:$E$1006,$A30,Kassenbuch!$B$7:$B$1006,">="&DATE($B$4,1,1),Kassenbuch!$B$7:$B$1006,"<"&DATE($B$4,2,1))-SUMIFS(Kassenbuch!$G$7:$G$1006,Kassenbuch!$E$7:$E$1006,$A30,Kassenbuch!$B$7:$B$1006,">="&DATE($B$4,1,1),Kassenbuch!$B$7:$B$1006,"<"&DATE($B$4,2,1))) | C30: =IF($A30="","",SUMIFS(Kassenbuch!$F$7:$F$1006,Kassenbuch!$E$7:$E$1006,$A30,Kassenbuch!$B$7:$B$1006,">="&DATE($B$4,2,1),Kassenbuch!$B$7:$B$1006,"<"&DATE($B$4,3,1))-SUMIFS(Kassenbuch!$G$7:$G$1006,Kassenbuch!$E$7:$E$1006,$A30,Kassenbuch!$B$7:$B$1006,">="&DATE($B$4,2,1),Kassenbuch!$B$7:$B$1006,"<"&DATE($B$4,3,1))) | D30: =IF($A30="","",SUMIFS(Kassenbuch!$F$7:$F$1006,Kassenbuch!$E$7:$E$1006,$A30,Kassenbuch!$B$7:$B$1006,">="&DATE($B$4,3,1),Kassenbuch!$B$7:$B$1006,"<"&DATE($B$4,4,1))-SUMIFS(Kassenbuch!$G$7:$G$1006,Kassenbuch!$E$7:$E$1006,$A30,Kassenbuch!$B$7:$B$1006,">="&DATE($B$4,3,1),Kassenbuch!$B$7:$B$1006,"<"&DATE($B$4,4,1))) | E30: =IF($A30="","",SUMIFS(Kassenbuch!$F$7:$F$1006,Kassenbuch!$E$7:$E$1006,$A30,Kassenbuch!$B$7:$B$1006,">="&DATE($B$4,4,1),Kassenbuch!$B$7:$B$1006,"<"&DATE($B$4,5,1))-SUMIFS(Kassenbuch!$G$7:$G$1006,Kassenbuch!$E$7:$E$1006,$A30,Kassenbuch!$B$7:$B$1006,">="&DATE($B$4,4,1),Kassenbuch!$B$7:$B$1006,"<"&DATE($B$4,5,1))) | F30: =IF($A30="","",SUMIFS(Kassenbuch!$F$7:$F$1006,Kassenbuch!$E$7:$E$1006,$A30,Kassenbuch!$B$7:$B$1006,">="&DATE($B$4,5,1),Kassenbuch!$B$7:$B$1006,"<"&DATE($B$4,6,1))-SUMIFS(Kassenbuch!$G$7:$G$1006,Kassenbuch!$E$7:$E$1006,$A30,Kassenbuch!$B$7:$B$1006,">="&DATE($B$4,5,1),Kassenbuch!$B$7:$B$1006,"<"&DATE($B$4,6,1))) | G30: =IF($A30="","",SUMIFS(Kassenbuch!$F$7:$F$1006,Kassenbuch!$E$7:$E$1006,$A30,Kassenbuch!$B$7:$B$1006,">="&DATE($B$4,6,1),Kassenbuch!$B$7:$B$1006,"<"&DATE($B$4,7,1))-SUMIFS(Kassenbuch!$G$7:$G$1006,Kassenbuch!$E$7:$E$1006,$A30,Kassenbuch!$B$7:$B$1006,">="&DATE($B$4,6,1),Kassenbuch!$B$7:$B$1006,"<"&DATE($B$4,7,1))) | H30: =IF($A30="","",SUMIFS(Kassenbuch!$F$7:$F$1006,Kassenbuch!$E$7:$E$1006,$A30,Kassenbuch!$B$7:$B$1006,">="&DATE($B$4,7,1),Kassenbuch!$B$7:$B$1006,"<"&DATE($B$4,8,1))-SUMIFS(Kassenbuch!$G$7:$G$1006,Kassenbuch!$E$7:$E$1006,$A30,Kassenbuch!$B$7:$B$1006,">="&DATE($B$4,7,1),Kassenbuch!$B$7:$B$1006,"<"&DATE($B$4,8,1))) | I30: =IF($A30="","",SUMIFS(Kassenbuch!$F$7:$F$1006,Kassenbuch!$E$7:$E$1006,$A30,Kassenbuch!$B$7:$B$1006,">="&DATE($B$4,8,1),Kassenbuch!$B$7:$B$1006,"<"&DATE($B$4,9,1))-SUMIFS(Kassenbuch!$G$7:$G$1006,Kassenbuch!$E$7:$E$1006,$A30,Kassenbuch!$B$7:$B$1006,">="&DATE($B$4,8,1),Kassenbuch!$B$7:$B$1006,"<"&DATE($B$4,9,1))) | J30: =IF($A30="","",SUMIFS(Kassenbuch!$F$7:$F$1006,Kassenbuch!$E$7:$E$1006,$A30,Kassenbuch!$B$7:$B$1006,">="&DATE($B$4,9,1),Kassenbuch!$B$7:$B$1006,"<"&DATE($B$4,10,1))-SUMIFS(Kassenbuch!$G$7:$G$1006,Kassenbuch!$E$7:$E$1006,$A30,Kassenbuch!$B$7:$B$1006,">="&DATE($B$4,9,1),Kassenbuch!$B$7:$B$1006,"<"&DATE($B$4,10,1))) | K30: =IF($A30="","",SUMIFS(Kassenbuch!$F$7:$F$1006,Kassenbuch!$E$7:$E$1006,$A30,Kassenbuch!$B$7:$B$1006,">="&DATE($B$4,10,1),Kassenbuch!$B$7:$B$1006,"<"&DATE($B$4,11,1))-SUMIFS(Kassenbuch!$G$7:$G$1006,Kassenbuch!$E$7:$E$1006,$A30,Kassenbuch!$B$7:$B$1006,">="&DATE($B$4,10,1),Kassenbuch!$B$7:$B$1006,"<"&DATE($B$4,11,1))) | L30: =IF($A30="","",SUMIFS(Kassenbuch!$F$7:$F$1006,Kassenbuch!$E$7:$E$1006,$A30,Kassenbuch!$B$7:$B$1006,">="&DATE($B$4,11,1),Kassenbuch!$B$7:$B$1006,"<"&DATE($B$4,12,1))-SUMIFS(Kassenbuch!$G$7:$G$1006,Kassenbuch!$E$7:$E$1006,$A30,Kassenbuch!$B$7:$B$1006,">="&DATE($B$4,11,1),Kassenbuch!$B$7:$B$1006,"<"&DATE($B$4,12,1))) | M30: =IF($A30="","",SUMIFS(Kassenbuch!$F$7:$F$1006,Kassenbuch!$E$7:$E$1006,$A30,Kassenbuch!$B$7:$B$1006,">="&DATE($B$4,12,1),Kassenbuch!$B$7:$B$1006,"<"&DATE($B$4+1,1,1))-SUMIFS(Kassenbuch!$G$7:$G$1006,Kassenbuch!$E$7:$E$1006,$A30,Kassenbuch!$B$7:$B$1006,">="&DATE($B$4,12,1),Kassenbuch!$B$7:$B$1006,"<"&DATE($B$4+1,1,1))) | N30: =IF($A30="","",SUM(B30:M30))
A31: =IF(Einstellungen!$A$14="","",Einstellungen!$A$14) | B31: =IF($A31="","",SUMIFS(Kassenbuch!$F$7:$F$1006,Kassenbuch!$E$7:$E$1006,$A31,Kassenbuch!$B$7:$B$1006,">="&DATE($B$4,1,1),Kassenbuch!$B$7:$B$1006,"<"&DATE($B$4,2,1))-SUMIFS(Kassenbuch!$G$7:$G$1006,Kassenbuch!$E$7:$E$1006,$A31,Kassenbuch!$B$7:$B$1006,">="&DATE($B$4,1,1),Kassenbuch!$B$7:$B$1006,"<"&DATE($B$4,2,1))) | C31: =IF($A31="","",SUMIFS(Kassenbuch!$F$7:$F$1006,Kassenbuch!$E$7:$E$1006,$A31,Kassenbuch!$B$7:$B$1006,">="&DATE($B$4,2,1),Kassenbuch!$B$7:$B$1006,"<"&DATE($B$4,3,1))-SUMIFS(Kassenbuch!$G$7:$G$1006,Kassenbuch!$E$7:$E$1006,$A31,Kassenbuch!$B$7:$B$1006,">="&DATE($B$4,2,1),Kassenbuch!$B$7:$B$1006,"<"&DATE($B$4,3,1))) | D31: =IF($A31="","",SUMIFS(Kassenbuch!$F$7:$F$1006,Kassenbuch!$E$7:$E$1006,$A31,Kassenbuch!$B$7:$B$1006,">="&DATE($B$4,3,1),Kassenbuch!$B$7:$B$1006,"<"&DATE($B$4,4,1))-SUMIFS(Kassenbuch!$G$7:$G$1006,Kassenbuch!$E$7:$E$1006,$A31,Kassenbuch!$B$7:$B$1006,">="&DATE($B$4,3,1),Kassenbuch!$B$7:$B$1006,"<"&DATE($B$4,4,1))) | E31: =IF($A31="","",SUMIFS(Kassenbuch!$F$7:$F$1006,Kassenbuch!$E$7:$E$1006,$A31,Kassenbuch!$B$7:$B$1006,">="&DATE($B$4,4,1),Kassenbuch!$B$7:$B$1006,"<"&DATE($B$4,5,1))-SUMIFS(Kassenbuch!$G$7:$G$1006,Kassenbuch!$E$7:$E$1006,$A31,Kassenbuch!$B$7:$B$1006,">="&DATE($B$4,4,1),Kassenbuch!$B$7:$B$1006,"<"&DATE($B$4,5,1))) | F31: =IF($A31="","",SUMIFS(Kassenbuch!$F$7:$F$1006,Kassenbuch!$E$7:$E$1006,$A31,Kassenbuch!$B$7:$B$1006,">="&DATE($B$4,5,1),Kassenbuch!$B$7:$B$1006,"<"&DATE($B$4,6,1))-SUMIFS(Kassenbuch!$G$7:$G$1006,Kassenbuch!$E$7:$E$1006,$A31,Kassenbuch!$B$7:$B$1006,">="&DATE($B$4,5,1),Kassenbuch!$B$7:$B$1006,"<"&DATE($B$4,6,1))) | G31: =IF($A31="","",SUMIFS(Kassenbuch!$F$7:$F$1006,Kassenbuch!$E$7:$E$1006,$A31,Kassenbuch!$B$7:$B$1006,">="&DATE($B$4,6,1),Kassenbuch!$B$7:$B$1006,"<"&DATE($B$4,7,1))-SUMIFS(Kassenbuch!$G$7:$G$1006,Kassenbuch!$E$7:$E$1006,$A31,Kassenbuch!$B$7:$B$1006,">="&DATE($B$4,6,1),Kassenbuch!$B$7:$B$1006,"<"&DATE($B$4,7,1))) | H31: =IF($A31="","",SUMIFS(Kassenbuch!$F$7:$F$1006,Kassenbuch!$E$7:$E$1006,$A31,Kassenbuch!$B$7:$B$1006,">="&DATE($B$4,7,1),Kassenbuch!$B$7:$B$1006,"<"&DATE($B$4,8,1))-SUMIFS(Kassenbuch!$G$7:$G$1006,Kassenbuch!$E$7:$E$1006,$A31,Kassenbuch!$B$7:$B$1006,">="&DATE($B$4,7,1),Kassenbuch!$B$7:$B$1006,"<"&DATE($B$4,8,1))) | I31: =IF($A31="","",SUMIFS(Kassenbuch!$F$7:$F$1006,Kassenbuch!$E$7:$E$1006,$A31,Kassenbuch!$B$7:$B$1006,">="&DATE($B$4,8,1),Kassenbuch!$B$7:$B$1006,"<"&DATE($B$4,9,1))-SUMIFS(Kassenbuch!$G$7:$G$1006,Kassenbuch!$E$7:$E$1006,$A31,Kassenbuch!$B$7:$B$1006,">="&DATE($B$4,8,1),Kassenbuch!$B$7:$B$1006,"<"&DATE($B$4,9,1))) | J31: =IF($A31="","",SUMIFS(Kassenbuch!$F$7:$F$1006,Kassenbuch!$E$7:$E$1006,$A31,Kassenbuch!$B$7:$B$1006,">="&DATE($B$4,9,1),Kassenbuch!$B$7:$B$1006,"<"&DATE($B$4,10,1))-SUMIFS(Kassenbuch!$G$7:$G$1006,Kassenbuch!$E$7:$E$1006,$A31,Kassenbuch!$B$7:$B$1006,">="&DATE($B$4,9,1),Kassenbuch!$B$7:$B$1006,"<"&DATE($B$4,10,1))) | K31: =IF($A31="","",SUMIFS(Kassenbuch!$F$7:$F$1006,Kassenbuch!$E$7:$E$1006,$A31,Kassenbuch!$B$7:$B$1006,">="&DATE($B$4,10,1),Kassenbuch!$B$7:$B$1006,"<"&DATE($B$4,11,1))-SUMIFS(Kassenbuch!$G$7:$G$1006,Kassenbuch!$E$7:$E$1006,$A31,Kassenbuch!$B$7:$B$1006,">="&DATE($B$4,10,1),Kassenbuch!$B$7:$B$1006,"<"&DATE($B$4,11,1))) | L31: =IF($A31="","",SUMIFS(Kassenbuch!$F$7:$F$1006,Kassenbuch!$E$7:$E$1006,$A31,Kassenbuch!$B$7:$B$1006,">="&DATE($B$4,11,1),Kassenbuch!$B$7:$B$1006,"<"&DATE($B$4,12,1))-SUMIFS(Kassenbuch!$G$7:$G$1006,Kassenbuch!$E$7:$E$1006,$A31,Kassenbuch!$B$7:$B$1006,">="&DATE($B$4,11,1),Kassenbuch!$B$7:$B$1006,"<"&DATE($B$4,12,1))) | M31: =IF($A31="","",SUMIFS(Kassenbuch!$F$7:$F$1006,Kassenbuch!$E$7:$E$1006,$A31,Kassenbuch!$B$7:$B$1006,">="&DATE($B$4,12,1),Kassenbuch!$B$7:$B$1006,"<"&DATE($B$4+1,1,1))-SUMIFS(Kassenbuch!$G$7:$G$1006,Kassenbuch!$E$7:$E$1006,$A31,Kassenbuch!$B$7:$B$1006,">="&DATE($B$4,12,1),Kassenbuch!$B$7:$B$1006,"<"&DATE($B$4+1,1,1))) | N31: =IF($A31="","",SUM(B31:M31))
