Workbook

Sheet Eingangsbuch
A1: Rechnungseingangsbuch
A2: Kostenlose Vorlage von ExcelDok · exceldok.de · hellgelbe Felder ausfüllen, graue rechnen selbst · Erklärung im Blatt Anleitung
H3: Netto | J3: USt | K3: Brutto | P3: Skonto jetzt möglich | T3: Noch offen | U3: davon überfällig
H4: =SUM(H7:H506) | J4: =SUM(J7:J506) | K4: =SUM(K7:K506) | P4: =SUMIF(U7:U506,"Skonto möglich",P7:P506) | T4: =SUM(T7:T506) | U4: =SUMIF(U7:U506,"überfällig",T7:T506)
A6: Lfd. Nr. | B6: Eingang am | C6: Rechnungs­datum | D6: Rechnungs­nummer | E6: Lieferant | F6: Leistung / Gegenstand | G6: Kostenart | H6: Netto (€) | I6: USt-Satz | J6: USt (€) | K6: Brutto (€) | L6: Ziel (Tage) | M6: Fällig am | N6: Fällig abweichend | O6: Skonto bis | P6: Skonto (€) | Q6: Bezahlt am | R6: Bezahlt (€) | S6: Zahlungsart | T6: Rest (€) | U6: Status | V6: Prüfhinweis | W6: E-Rechnung | X6: Pflicht­angaben geprüft | Y6: Ablage / Datei
A7: =IF(E7="","",COUNTA(E$7:E7)) | B7: 46275 | C7: 46273 | D7: RE-4711 | E7: Muster Bürobedarf GmbH (Beispiel) | F7: Druckerpapier und Toner | G7: Büromaterial | H7: 84.5 | I7: 0.19 | J7: =IF(H7="","",ROUND(H7*I7,2)) | K7: =IF(H7="","",H7+N(J7)) | L7: =IF(E7="","",IFERROR(IF(INDEX(Lieferanten!$B$6:$B$205,MATCH(E7,Lieferanten!$A$6:$A$205,0))="",Einstellungen!$A$5,INDEX(Lieferanten!$B$6:$B$205,MATCH(E7,Lieferanten!$A$6:$A$205,0))),Einstellungen!$A$5)) | M7: =IF(C7="","",IF(N7<>"",N7,C7+L7)) | O7: =IF(C7="","",IFERROR(IF(OR(INDEX(Lieferanten!$C$6:$C$205,MATCH(E7,Lieferanten!$A$6:$A$205,0))="",INDEX(Lieferanten!$D$6:$D$205,MATCH(E7,Lieferanten!$A$6:$A$205,0))=""),"",C7+INDEX(Lieferanten!$D$6:$D$205,MATCH(E7,Lieferanten!$A$6:$A$205,0))),"")) | P7: =IF(OR(H7="",O7=""),"",ROUND(K7*INDEX(Lieferanten!$C$6:$C$205,MATCH(E7,Lieferanten!$A$6:$A$205,0)),2)) | Q7: 46278 | R7: 98.55 | S7: Überweisung | T7: =IF(H7="","",IF(U7="bezahlt",0,K7-N(R7))) | U7: =IF(H7="","",IF(Q7<>"",IF(OR(R7="",R7>=K7-N(P7)-0.005),"bezahlt","teilbezahlt"),IF(IF(O7="",FALSE,TODAY()<=O7),"Skonto möglich",IF(IF(M7="",FALSE,TODAY()>M7),"überfällig","offen")))) | V7: =IF(H7="","",IF(AND(D7<>"",COUNTIFS(E$7:E$506,E7,D$7:D$506,D7)>1),"doppelt erfasst?",IF(AND(W7="ja",Y7=""),"XML-Datei ablegen",IF(X7<>"ja","Pflichtangaben prüfen","")))) | W7: nein | X7: ja | Y7: Belege\Muster_RE-4711.pdf
A8: =IF(E8="","",COUNTA(E$7:E8)) | B8: 46295 | C8: 46294 | D8: 2026-118833 | E8: Muster Telekom AG (Beispiel) | F8: Telefon und Internet | G8: Telefon und Internet | H8: 49.9 | I8: 0.19 | J8: =IF(H8="","",ROUND(H8*I8,2)) | K8: =IF(H8="","",H8+N(J8)) | L8: =IF(E8="","",IFERROR(IF(INDEX(Lieferanten!$B$6:$B$205,MATCH(E8,Lieferanten!$A$6:$A$205,0))="",Einstellungen!$A$5,INDEX(Lieferanten!$B$6:$B$205,MATCH(E8,Lieferanten!$A$6:$A$205,0))),Einstellungen!$A$5)) | M8: =IF(C8="","",IF(N8<>"",N8,C8+L8)) | O8: =IF(C8="","",IFERROR(IF(OR(INDEX(Lieferanten!$C$6:$C$205,MATCH(E8,Lieferanten!$A$6:$A$205,0))="",INDEX(Lieferanten!$D$6:$D$205,MATCH(E8,Lieferanten!$A$6:$A$205,0))=""),"",C8+INDEX(Lieferanten!$D$6:$D$205,MATCH(E8,Lieferanten!$A$6:$A$205,0))),"")) | P8: =IF(OR(H8="",O8=""),"",ROUND(K8*INDEX(Lieferanten!$C$6:$C$205,MATCH(E8,Lieferanten!$A$6:$A$205,0)),2)) | S8: Lastschrift | T8: =IF(H8="","",IF(U8="bezahlt",0,K8-N(R8))) | U8: =IF(H8="","",IF(Q8<>"",IF(OR(R8="",R8>=K8-N(P8)-0.005),"bezahlt","teilbezahlt"),IF(IF(O8="",FALSE,TODAY()<=O8),"Skonto möglich",IF(IF(M8="",FALSE,TODAY()>M8),"überfällig","offen")))) | V8: =IF(H8="","",IF(AND(D8<>"",COUNTIFS(E$7:E$506,E8,D$7:D$506,D8)>1),"doppelt erfasst?",IF(AND(W8="ja",Y8=""),"XML-Datei ablegen",IF(X8<>"ja","Pflichtangaben prüfen","")))) | W8: ja | X8: ja
A9: =IF(E9="","",COUNTA(E$7:E9)) | B9: 46313 | C9: 46312 | D9: W-2209 | E9: Muster Werkstatt KG (Beispiel) | F9: Inspektion Firmenwagen | G9: Fahrzeugkosten | H9: 412 | I9: 0.19 | J9: =IF(H9="","",ROUND(H9*I9,2)) | K9: =IF(H9="","",H9+N(J9)) | L9: =IF(E9="","",IFERROR(IF(INDEX(Lieferanten!$B$6:$B$205,MATCH(E9,Lieferanten!$A$6:$A$205,0))="",Einstellungen!$A$5,INDEX(Lieferanten!$B$6:$B$205,MATCH(E9,Lieferanten!$A$6:$A$205,0))),Einstellungen!$A$5)) | M9: =IF(C9="","",IF(N9<>"",N9,C9+L9)) | O9: =IF(C9="","",IFERROR(IF(OR(INDEX(Lieferanten!$C$6:$C$205,MATCH(E9,Lieferanten!$A$6:$A$205,0))="",INDEX(Lieferanten!$D$6:$D$205,MATCH(E9,Lieferanten!$A$6:$A$205,0))=""),"",C9+INDEX(Lieferanten!$D$6:$D$205,MATCH(E9,Lieferanten!$A$6:$A$205,0))),"")) | P9: =IF(OR(H9="",O9=""),"",ROUND(K9*INDEX(Lieferanten!$C$6:$C$205,MATCH(E9,Lieferanten!$A$6:$A$205,0)),2)) | T9: =IF(H9="","",IF(U9="bezahlt",0,K9-N(R9))) | U9: =IF(H9="","",IF(Q9<>"",IF(OR(R9="",R9>=K9-N(P9)-0.005),"bezahlt","teilbezahlt"),IF(IF(O9="",FALSE,TODAY()<=O9),"Skonto möglich",IF(IF(M9="",FALSE,TODAY()>M9),"überfällig","offen")))) | V9: =IF(H9="","",IF(AND(D9<>"",COUNTIFS(E$7:E$506,E9,D$7:D$506,D9)>1),"doppelt erfasst?",IF(AND(W9="ja",Y9=""),"XML-Datei ablegen",IF(X9<>"ja","Pflichtangaben prüfen","")))) | W9: nein | Y9: Belege\Werkstatt_W-2209.pdf
A10: =IF(E10="","",COUNTA(E$7:E10)) | J10: =IF(H10="","",ROUND(H10*I10,2)) | K10: =IF(H10="","",H10+N(J10)) | L10: =IF(E10="","",IFERROR(IF(INDEX(Lieferanten!$B$6:$B$205,MATCH(E10,Lieferanten!$A$6:$A$205,0))="",Einstellungen!$A$5,INDEX(Lieferanten!$B$6:$B$205,MATCH(E10,Lieferanten!$A$6:$A$205,0))),Einstellungen!$A$5)) | M10: =IF(C10="","",IF(N10<>"",N10,C10+L10)) | O10: =IF(C10="","",IFERROR(IF(OR(INDEX(Lieferanten!$C$6:$C$205,MATCH(E10,Lieferanten!$A$6:$A$205,0))="",INDEX(Lieferanten!$D$6:$D$205,MATCH(E10,Lieferanten!$A$6:$A$205,0))=""),"",C10+INDEX(Lieferanten!$D$6:$D$205,MATCH(E10,Lieferanten!$A$6:$A$205,0))),"")) | P10: =IF(OR(H10="",O10=""),"",ROUND(K10*INDEX(Lieferanten!$C$6:$C$205,MATCH(E10,Lieferanten!$A$6:$A$205,0)),2)) | T10: =IF(H10="","",IF(U10="bezahlt",0,K10-N(R10))) | U10: =IF(H10="","",IF(Q10<>"",IF(OR(R10="",R10>=K10-N(P10)-0.005),"bezahlt","teilbezahlt"),IF(IF(O10="",FALSE,TODAY()<=O10),"Skonto möglich",IF(IF(M10="",FALSE,TODAY()>M10),"überfällig","offen")))) | V10: =IF(H10="","",IF(AND(D10<>"",COUNTIFS(E$7:E$506,E10,D$7:D$506,D10)>1),"doppelt erfasst?",IF(AND(W10="ja",Y10=""),"XML-Datei ablegen",IF(X10<>"ja","Pflichtangaben prüfen",""))))
A11: =IF(E11="","",COUNTA(E$7:E11)) | J11: =IF(H11="","",ROUND(H11*I11,2)) | K11: =IF(H11="","",H11+N(J11)) | L11: =IF(E11="","",IFERROR(IF(INDEX(Lieferanten!$B$6:$B$205,MATCH(E11,Lieferanten!$A$6:$A$205,0))="",Einstellungen!$A$5,INDEX(Lieferanten!$B$6:$B$205,MATCH(E11,Lieferanten!$A$6:$A$205,0))),Einstellungen!$A$5)) | M11: =IF(C11="","",IF(N11<>"",N11,C11+L11)) | O11: =IF(C11="","",IFERROR(IF(OR(INDEX(Lieferanten!$C$6:$C$205,MATCH(E11,Lieferanten!$A$6:$A$205,0))="",INDEX(Lieferanten!$D$6:$D$205,MATCH(E11,Lieferanten!$A$6:$A$205,0))=""),"",C11+INDEX(Lieferanten!$D$6:$D$205,MATCH(E11,Lieferanten!$A$6:$A$205,0))),"")) | P11: =IF(OR(H11="",O11=""),"",ROUND(K11*INDEX(Lieferanten!$C$6:$C$205,MATCH(E11,Lieferanten!$A$6:$A$205,0)),2)) | T11: =IF(H11="","",IF(U11="bezahlt",0,K11-N(R11))) | U11: =IF(H11="","",IF(Q11<>"",IF(OR(R11="",R11>=K11-N(P11)-0.005),"bezahlt","teilbezahlt"),IF(IF(O11="",FALSE,TODAY()<=O11),"Skonto möglich",IF(IF(M11="",FALSE,TODAY()>M11),"überfällig","offen")))) | V11: =IF(H11="","",IF(AND(D11<>"",COUNTIFS(E$7:E$506,E11,D$7:D$506,D11)>1),"doppelt erfasst?",IF(AND(W11="ja",Y11=""),"XML-Datei ablegen",IF(X11<>"ja","Pflichtangaben prüfen",""))))
A12: =IF(E12="","",COUNTA(E$7:E12)) | J12: =IF(H12="","",ROUND(H12*I12,2)) | K12: =IF(H12="","",H12+N(J12)) | L12: =IF(E12="","",IFERROR(IF(INDEX(Lieferanten!$B$6:$B$205,MATCH(E12,Lieferanten!$A$6:$A$205,0))="",Einstellungen!$A$5,INDEX(Lieferanten!$B$6:$B$205,MATCH(E12,Lieferanten!$A$6:$A$205,0))),Einstellungen!$A$5)) | M12: =IF(C12="","",IF(N12<>"",N12,C12+L12)) | O12: =IF(C12="","",IFERROR(IF(OR(INDEX(Lieferanten!$C$6:$C$205,MATCH(E12,Lieferanten!$A$6:$A$205,0))="",INDEX(Lieferanten!$D$6:$D$205,MATCH(E12,Lieferanten!$A$6:$A$205,0))=""),"",C12+INDEX(Lieferanten!$D$6:$D$205,MATCH(E12,Lieferanten!$A$6:$A$205,0))),"")) | P12: =IF(OR(H12="",O12=""),"",ROUND(K12*INDEX(Lieferanten!$C$6:$C$205,MATCH(E12,Lieferanten!$A$6:$A$205,0)),2)) | T12: =IF(H12="","",IF(U12="bezahlt",0,K12-N(R12))) | U12: =IF(H12="","",IF(Q12<>"",IF(OR(R12="",R12>=K12-N(P12)-0.005),"bezahlt","teilbezahlt"),IF(IF(O12="",FALSE,TODAY()<=O12),"Skonto möglich",IF(IF(M12="",FALSE,TODAY()>M12),"überfällig","offen")))) | V12: =IF(H12="","",IF(AND(D12<>"",COUNTIFS(E$7:E$506,E12,D$7:D$506,D12)>1),"doppelt erfasst?",IF(AND(W12="ja",Y12=""),"XML-Datei ablegen",IF(X12<>"ja","Pflichtangaben prüfen",""))))
A13: =IF(E13="","",COUNTA(E$7:E13)) | J13: =IF(H13="","",ROUND(H13*I13,2)) | K13: =IF(H13="","",H13+N(J13)) | L13: =IF(E13="","",IFERROR(IF(INDEX(Lieferanten!$B$6:$B$205,MATCH(E13,Lieferanten!$A$6:$A$205,0))="",Einstellungen!$A$5,INDEX(Lieferanten!$B$6:$B$205,MATCH(E13,Lieferanten!$A$6:$A$205,0))),Einstellungen!$A$5)) | M13: =IF(C13="","",IF(N13<>"",N13,C13+L13)) | O13: =IF(C13="","",IFERROR(IF(OR(INDEX(Lieferanten!$C$6:$C$205,MATCH(E13,Lieferanten!$A$6:$A$205,0))="",INDEX(Lieferanten!$D$6:$D$205,MATCH(E13,Lieferanten!$A$6:$A$205,0))=""),"",C13+INDEX(Lieferanten!$D$6:$D$205,MATCH(E13,Lieferanten!$A$6:$A$205,0))),"")) | P13: =IF(OR(H13="",O13=""),"",ROUND(K13*INDEX(Lieferanten!$C$6:$C$205,MATCH(E13,Lieferanten!$A$6:$A$205,0)),2)) | T13: =IF(H13="","",IF(U13="bezahlt",0,K13-N(R13))) | U13: =IF(H13="","",IF(Q13<>"",IF(OR(R13="",R13>=K13-N(P13)-0.005),"bezahlt","teilbezahlt"),IF(IF(O13="",FALSE,TODAY()<=O13),"Skonto möglich",IF(IF(M13="",FALSE,TODAY()>M13),"überfällig","offen")))) | V13: =IF(H13="","",IF(AND(D13<>"",COUNTIFS(E$7:E$506,E13,D$7:D$506,D13)>1),"doppelt erfasst?",IF(AND(W13="ja",Y13=""),"XML-Datei ablegen",IF(X13<>"ja","Pflichtangaben prüfen",""))))
A14: =IF(E14="","",COUNTA(E$7:E14)) | J14: =IF(H14="","",ROUND(H14*I14,2)) | K14: =IF(H14="","",H14+N(J14)) | L14: =IF(E14="","",IFERROR(IF(INDEX(Lieferanten!$B$6:$B$205,MATCH(E14,Lieferanten!$A$6:$A$205,0))="",Einstellungen!$A$5,INDEX(Lieferanten!$B$6:$B$205,MATCH(E14,Lieferanten!$A$6:$A$205,0))),Einstellungen!$A$5)) | M14: =IF(C14="","",IF(N14<>"",N14,C14+L14)) | O14: =IF(C14="","",IFERROR(IF(OR(INDEX(Lieferanten!$C$6:$C$205,MATCH(E14,Lieferanten!$A$6:$A$205,0))="",INDEX(Lieferanten!$D$6:$D$205,MATCH(E14,Lieferanten!$A$6:$A$205,0))=""),"",C14+INDEX(Lieferanten!$D$6:$D$205,MATCH(E14,Lieferanten!$A$6:$A$205,0))),"")) | P14: =IF(OR(H14="",O14=""),"",ROUND(K14*INDEX(Lieferanten!$C$6:$C$205,MATCH(E14,Lieferanten!$A$6:$A$205,0)),2)) | T14: =IF(H14="","",IF(U14="bezahlt",0,K14-N(R14))) | U14: =IF(H14="","",IF(Q14<>"",IF(OR(R14="",R14>=K14-N(P14)-0.005),"bezahlt","teilbezahlt"),IF(IF(O14="",FALSE,TODAY()<=O14),"Skonto möglich",IF(IF(M14="",FALSE,TODAY()>M14),"überfällig","offen")))) | V14: =IF(H14="","",IF(AND(D14<>"",COUNTIFS(E$7:E$506,E14,D$7:D$506,D14)>1),"doppelt erfasst?",IF(AND(W14="ja",Y14=""),"XML-Datei ablegen",IF(X14<>"ja","Pflichtangaben prüfen",""))))
A15: =IF(E15="","",COUNTA(E$7:E15)) | J15: =IF(H15="","",ROUND(H15*I15,2)) | K15: =IF(H15="","",H15+N(J15)) | L15: =IF(E15="","",IFERROR(IF(INDEX(Lieferanten!$B$6:$B$205,MATCH(E15,Lieferanten!$A$6:$A$205,0))="",Einstellungen!$A$5,INDEX(Lieferanten!$B$6:$B$205,MATCH(E15,Lieferanten!$A$6:$A$205,0))),Einstellungen!$A$5)) | M15: =IF(C15="","",IF(N15<>"",N15,C15+L15)) | O15: =IF(C15="","",IFERROR(IF(OR(INDEX(Lieferanten!$C$6:$C$205,MATCH(E15,Lieferanten!$A$6:$A$205,0))="",INDEX(Lieferanten!$D$6:$D$205,MATCH(E15,Lieferanten!$A$6:$A$205,0))=""),"",C15+INDEX(Lieferanten!$D$6:$D$205,MATCH(E15,Lieferanten!$A$6:$A$205,0))),"")) | P15: =IF(OR(H15="",O15=""),"",ROUND(K15*INDEX(Lieferanten!$C$6:$C$205,MATCH(E15,Lieferanten!$A$6:$A$205,0)),2)) | T15: =IF(H15="","",IF(U15="bezahlt",0,K15-N(R15))) | U15: =IF(H15="","",IF(Q15<>"",IF(OR(R15="",R15>=K15-N(P15)-0.005),"bezahlt","teilbezahlt"),IF(IF(O15="",FALSE,TODAY()<=O15),"Skonto möglich",IF(IF(M15="",FALSE,TODAY()>M15),"überfällig","offen")))) | V15: =IF(H15="","",IF(AND(D15<>"",COUNTIFS(E$7:E$506,E15,D$7:D$506,D15)>1),"doppelt erfasst?",IF(AND(W15="ja",Y15=""),"XML-Datei ablegen",IF(X15<>"ja","Pflichtangaben prüfen",""))))
A16: =IF(E16="","",COUNTA(E$7:E16)) | J16: =IF(H16="","",ROUND(H16*I16,2)) | K16: =IF(H16="","",H16+N(J16)) | L16: =IF(E16="","",IFERROR(IF(INDEX(Lieferanten!$B$6:$B$205,MATCH(E16,Lieferanten!$A$6:$A$205,0))="",Einstellungen!$A$5,INDEX(Lieferanten!$B$6:$B$205,MATCH(E16,Lieferanten!$A$6:$A$205,0))),Einstellungen!$A$5)) | M16: =IF(C16="","",IF(N16<>"",N16,C16+L16)) | O16: =IF(C16="","",IFERROR(IF(OR(INDEX(Lieferanten!$C$6:$C$205,MATCH(E16,Lieferanten!$A$6:$A$205,0))="",INDEX(Lieferanten!$D$6:$D$205,MATCH(E16,Lieferanten!$A$6:$A$205,0))=""),"",C16+INDEX(Lieferanten!$D$6:$D$205,MATCH(E16,Lieferanten!$A$6:$A$205,0))),"")) | P16: =IF(OR(H16="",O16=""),"",ROUND(K16*INDEX(Lieferanten!$C$6:$C$205,MATCH(E16,Lieferanten!$A$6:$A$205,0)),2)) | T16: =IF(H16="","",IF(U16="bezahlt",0,K16-N(R16))) | U16: =IF(H16="","",IF(Q16<>"",IF(OR(R16="",R16>=K16-N(P16)-0.005),"bezahlt","teilbezahlt"),IF(IF(O16="",FALSE,TODAY()<=O16),"Skonto möglich",IF(IF(M16="",FALSE,TODAY()>M16),"überfällig","offen")))) | V16: =IF(H16="","",IF(AND(D16<>"",COUNTIFS(E$7:E$506,E16,D$7:D$506,D16)>1),"doppelt erfasst?",IF(AND(W16="ja",Y16=""),"XML-Datei ablegen",IF(X16<>"ja","Pflichtangaben prüfen",""))))
A17: =IF(E17="","",COUNTA(E$7:E17)) | J17: =IF(H17="","",ROUND(H17*I17,2)) | K17: =IF(H17="","",H17+N(J17)) | L17: =IF(E17="","",IFERROR(IF(INDEX(Lieferanten!$B$6:$B$205,MATCH(E17,Lieferanten!$A$6:$A$205,0))="",Einstellungen!$A$5,INDEX(Lieferanten!$B$6:$B$205,MATCH(E17,Lieferanten!$A$6:$A$205,0))),Einstellungen!$A$5)) | M17: =IF(C17="","",IF(N17<>"",N17,C17+L17)) | O17: =IF(C17="","",IFERROR(IF(OR(INDEX(Lieferanten!$C$6:$C$205,MATCH(E17,Lieferanten!$A$6:$A$205,0))="",INDEX(Lieferanten!$D$6:$D$205,MATCH(E17,Lieferanten!$A$6:$A$205,0))=""),"",C17+INDEX(Lieferanten!$D$6:$D$205,MATCH(E17,Lieferanten!$A$6:$A$205,0))),"")) | P17: =IF(OR(H17="",O17=""),"",ROUND(K17*INDEX(Lieferanten!$C$6:$C$205,MATCH(E17,Lieferanten!$A$6:$A$205,0)),2)) | T17: =IF(H17="","",IF(U17="bezahlt",0,K17-N(R17))) | U17: =IF(H17="","",IF(Q17<>"",IF(OR(R17="",R17>=K17-N(P17)-0.005),"bezahlt","teilbezahlt"),IF(IF(O17="",FALSE,TODAY()<=O17),"Skonto möglich",IF(IF(M17="",FALSE,TODAY()>M17),"überfällig","offen")))) | V17: =IF(H17="","",IF(AND(D17<>"",COUNTIFS(E$7:E$506,E17,D$7:D$506,D17)>1),"doppelt erfasst?",IF(AND(W17="ja",Y17=""),"XML-Datei ablegen",IF(X17<>"ja","Pflichtangaben prüfen",""))))
A18: =IF(E18="","",COUNTA(E$7:E18)) | J18: =IF(H18="","",ROUND(H18*I18,2)) | K18: =IF(H18="","",H18+N(J18)) | L18: =IF(E18="","",IFERROR(IF(INDEX(Lieferanten!$B$6:$B$205,MATCH(E18,Lieferanten!$A$6:$A$205,0))="",Einstellungen!$A$5,INDEX(Lieferanten!$B$6:$B$205,MATCH(E18,Lieferanten!$A$6:$A$205,0))),Einstellungen!$A$5)) | M18: =IF(C18="","",IF(N18<>"",N18,C18+L18)) | O18: =IF(C18="","",IFERROR(IF(OR(INDEX(Lieferanten!$C$6:$C$205,MATCH(E18,Lieferanten!$A$6:$A$205,0))="",INDEX(Lieferanten!$D$6:$D$205,MATCH(E18,Lieferanten!$A$6:$A$205,0))=""),"",C18+INDEX(Lieferanten!$D$6:$D$205,MATCH(E18,Lieferanten!$A$6:$A$205,0))),"")) | P18: =IF(OR(H18="",O18=""),"",ROUND(K18*INDEX(Lieferanten!$C$6:$C$205,MATCH(E18,Lieferanten!$A$6:$A$205,0)),2)) | T18: =IF(H18="","",IF(U18="bezahlt",0,K18-N(R18))) | U18: =IF(H18="","",IF(Q18<>"",IF(OR(R18="",R18>=K18-N(P18)-0.005),"bezahlt","teilbezahlt"),IF(IF(O18="",FALSE,TODAY()<=O18),"Skonto möglich",IF(IF(M18="",FALSE,TODAY()>M18),"überfällig","offen")))) | V18: =IF(H18="","",IF(AND(D18<>"",COUNTIFS(E$7:E$506,E18,D$7:D$506,D18)>1),"doppelt erfasst?",IF(AND(W18="ja",Y18=""),"XML-Datei ablegen",IF(X18<>"ja","Pflichtangaben prüfen",""))))
A19: =IF(E19="","",COUNTA(E$7:E19)) | J19: =IF(H19="","",ROUND(H19*I19,2)) | K19: =IF(H19="","",H19+N(J19)) | L19: =IF(E19="","",IFERROR(IF(INDEX(Lieferanten!$B$6:$B$205,MATCH(E19,Lieferanten!$A$6:$A$205,0))="",Einstellungen!$A$5,INDEX(Lieferanten!$B$6:$B$205,MATCH(E19,Lieferanten!$A$6:$A$205,0))),Einstellungen!$A$5)) | M19: =IF(C19="","",IF(N19<>"",N19,C19+L19)) | O19: =IF(C19="","",IFERROR(IF(OR(INDEX(Lieferanten!$C$6:$C$205,MATCH(E19,Lieferanten!$A$6:$A$205,0))="",INDEX(Lieferanten!$D$6:$D$205,MATCH(E19,Lieferanten!$A$6:$A$205,0))=""),"",C19+INDEX(Lieferanten!$D$6:$D$205,MATCH(E19,Lieferanten!$A$6:$A$205,0))),"")) | P19: =IF(OR(H19="",O19=""),"",ROUND(K19*INDEX(Lieferanten!$C$6:$C$205,MATCH(E19,Lieferanten!$A$6:$A$205,0)),2)) | T19: =IF(H19="","",IF(U19="bezahlt",0,K19-N(R19))) | U19: =IF(H19="","",IF(Q19<>"",IF(OR(R19="",R19>=K19-N(P19)-0.005),"bezahlt","teilbezahlt"),IF(IF(O19="",FALSE,TODAY()<=O19),"Skonto möglich",IF(IF(M19="",FALSE,TODAY()>M19),"überfällig","offen")))) | V19: =IF(H19="","",IF(AND(D19<>"",COUNTIFS(E$7:E$506,E19,D$7:D$506,D19)>1),"doppelt erfasst?",IF(AND(W19="ja",Y19=""),"XML-Datei ablegen",IF(X19<>"ja","Pflichtangaben prüfen",""))))
A20: =IF(E20="","",COUNTA(E$7:E20)) | J20: =IF(H20="","",ROUND(H20*I20,2)) | K20: =IF(H20="","",H20+N(J20)) | L20: =IF(E20="","",IFERROR(IF(INDEX(Lieferanten!$B$6:$B$205,MATCH(E20,Lieferanten!$A$6:$A$205,0))="",Einstellungen!$A$5,INDEX(Lieferanten!$B$6:$B$205,MATCH(E20,Lieferanten!$A$6:$A$205,0))),Einstellungen!$A$5)) | M20: =IF(C20="","",IF(N20<>"",N20,C20+L20)) | O20: =IF(C20="","",IFERROR(IF(OR(INDEX(Lieferanten!$C$6:$C$205,MATCH(E20,Lieferanten!$A$6:$A$205,0))="",INDEX(Lieferanten!$D$6:$D$205,MATCH(E20,Lieferanten!$A$6:$A$205,0))=""),"",C20+INDEX(Lieferanten!$D$6:$D$205,MATCH(E20,Lieferanten!$A$6:$A$205,0))),"")) | P20: =IF(OR(H20="",O20=""),"",ROUND(K20*INDEX(Lieferanten!$C$6:$C$205,MATCH(E20,Lieferanten!$A$6:$A$205,0)),2)) | T20: =IF(H20="","",IF(U20="bezahlt",0,K20-N(R20))) | U20: =IF(H20="","",IF(Q20<>"",IF(OR(R20="",R20>=K20-N(P20)-0.005),"bezahlt","teilbezahlt"),IF(IF(O20="",FALSE,TODAY()<=O20),"Skonto möglich",IF(IF(M20="",FALSE,TODAY()>M20),"überfällig","offen")))) | V20: =IF(H20="","",IF(AND(D20<>"",COUNTIFS(E$7:E$506,E20,D$7:D$506,D20)>1),"doppelt erfasst?",IF(AND(W20="ja",Y20=""),"XML-Datei ablegen",IF(X20<>"ja","Pflichtangaben prüfen",""))))
A21: =IF(E21="","",COUNTA(E$7:E21)) | J21: =IF(H21="","",ROUND(H21*I21,2)) | K21: =IF(H21="","",H21+N(J21)) | L21: =IF(E21="","",IFERROR(IF(INDEX(Lieferanten!$B$6:$B$205,MATCH(E21,Lieferanten!$A$6:$A$205,0))="",Einstellungen!$A$5,INDEX(Lieferanten!$B$6:$B$205,MATCH(E21,Lieferanten!$A$6:$A$205,0))),Einstellungen!$A$5)) | M21: =IF(C21="","",IF(N21<>"",N21,C21+L21)) | O21: =IF(C21="","",IFERROR(IF(OR(INDEX(Lieferanten!$C$6:$C$205,MATCH(E21,Lieferanten!$A$6:$A$205,0))="",INDEX(Lieferanten!$D$6:$D$205,MATCH(E21,Lieferanten!$A$6:$A$205,0))=""),"",C21+INDEX(Lieferanten!$D$6:$D$205,MATCH(E21,Lieferanten!$A$6:$A$205,0))),"")) | P21: =IF(OR(H21="",O21=""),"",ROUND(K21*INDEX(Lieferanten!$C$6:$C$205,MATCH(E21,Lieferanten!$A$6:$A$205,0)),2)) | T21: =IF(H21="","",IF(U21="bezahlt",0,K21-N(R21))) | U21: =IF(H21="","",IF(Q21<>"",IF(OR(R21="",R21>=K21-N(P21)-0.005),"bezahlt","teilbezahlt"),IF(IF(O21="",FALSE,TODAY()<=O21),"Skonto möglich",IF(IF(M21="",FALSE,TODAY()>M21),"überfällig","offen")))) | V21: =IF(H21="","",IF(AND(D21<>"",COUNTIFS(E$7:E$506,E21,D$7:D$506,D21)>1),"doppelt erfasst?",IF(AND(W21="ja",Y21=""),"XML-Datei ablegen",IF(X21<>"ja","Pflichtangaben prüfen",""))))
... A506: =IF(E506="","",COUNTA(E$7:E506)) | J506: =IF(H506="","",ROUND(H506*I506,2)) | K506: =IF(H506="","",H506+N(J506)) | L506: =IF(E506="","",IFERROR(IF(INDEX(Lieferanten!$B$6:$B$205,MATCH(E506,Lieferanten!$A$6:$A$205,0))="",Einstellungen!$A$5,INDEX(Lieferanten!$B$6:$B$205,MATCH(E506,Lieferanten!$A$6:$A$205,0))),Einstellungen!$A$5)) | M506: =IF(C506="","",IF(N506<>"",N506,C506+L506)) | O506: =IF(C506="","",IFERROR(IF(OR(INDEX(Lieferanten!$C$6:$C$205,MATCH(E506,Lieferanten!$A$6:$A$205,0))="",INDEX(Lieferanten!$D$6:$D$205,MATCH(E506,Lieferanten!$A$6:$A$205,0))=""),"",C506+INDEX(Lieferanten!$D$6:$D$205,MATCH(E506,Lieferanten!$A$6:$A$205,0))),"")) | P506: =IF(OR(H506="",O506=""),"",ROUND(K506*INDEX(Lieferanten!$C$6:$C$205,MATCH(E506,Lieferanten!$A$6:$A$205,0)),2)) | T506: =IF(H506="","",IF(U506="bezahlt",0,K506-N(R506))) | U506: =IF(H506="","",IF(Q506<>"",IF(OR(R506="",R506>=K506-N(P506)-0.005),"bezahlt","teilbezahlt"),IF(IF(O506="",FALSE,TODAY()<=O506),"Skonto möglich",IF(IF(M506="",FALSE,TODAY()>M506),"überfällig","offen")))) | V506: =IF(H506="","",IF(AND(D506<>"",COUNTIFS(E$7:E$506,E506,D$7:D$506,D506)>1),"doppelt erfasst?",IF(AND(W506="ja",Y506=""),"XML-Datei ablegen",IF(X506<>"ja","Pflichtangaben prüfen",""))))

Sheet Einstellungen
A1: Einstellungen
A2: Gilt für jede Zeile im Eingangsbuch · Listen frei erweiterbar
A4: Standard-Zahlungsziel (Tage) | E4: So passt du die Listen an
A5: 14 | E5: Kostenarten und Zahlungsarten einfach überschreiben oder unten ergänzen.
E6: Die Auswahl im Eingangsbuch und die Auswertung übernehmen jede Änderung.
A7: Kostenarten | C7: Zahlungsarten
A8: Wareneinkauf | C8: Überweisung
A9: Fremdleistungen | C9: Lastschrift
A10: Büromaterial | C10: Kreditkarte
A11: Porto und Versand | C11: PayPal
A12: Telefon und Internet | C12: bar
A13: Software und Lizenzen
A14: Miete und Nebenkosten
A15: Fahrzeugkosten
A16: Reisekosten
A17: Werbung
A18: Fortbildung
A19: Versicherungen
A20: Beiträge
A21: Rechts- und Beratungskosten
A22: Bewirtung
A23: Geringwertige Wirtschaftsgüter
A24: Anlagen (über 800 € netto)
... A27: Sonstiges

Sheet Lieferanten
A1: Lieferanten
A2: Zahlungsziel und Skonto gelten für jede Rechnung dieses Lieferanten · graue Spalten rechnen selbst
A5: Lieferant | B5: Zahlungsziel (Tage) | C5: Skonto % | D5: Skonto-Frist (Tage) | E5: Kostenart (üblich) | F5: USt-IdNr. / Steuernummer | G5: Notiz | H5: Rechnungen | I5: Summe brutto (€) | J5: Noch offen (€)
A6: Muster Bürobedarf GmbH (Beispiel) | B6: 14 | C6: 0.02 | D6: 7 | E6: Büromaterial | F6: DE123456789 | H6: =IF(A6="","",COUNTIF(Eingangsbuch!$E$7:$E$506,A6)) | I6: =IF(A6="","",SUMIF(Eingangsbuch!$E$7:$E$506,A6,Eingangsbuch!$K$7:$K$506)) | J6: =IF(A6="","",SUMIF(Eingangsbuch!$E$7:$E$506,A6,Eingangsbuch!$T$7:$T$506))
A7: Muster Telekom AG (Beispiel) | B7: 10 | E7: Telefon und Internet | G7: Lastschrift | H7: =IF(A7="","",COUNTIF(Eingangsbuch!$E$7:$E$506,A7)) | I7: =IF(A7="","",SUMIF(Eingangsbuch!$E$7:$E$506,A7,Eingangsbuch!$K$7:$K$506)) | J7: =IF(A7="","",SUMIF(Eingangsbuch!$E$7:$E$506,A7,Eingangsbuch!$T$7:$T$506))
A8: Muster Werkstatt KG (Beispiel) | B8: 30 | C8: 0.03 | D8: 10 | E8: Fahrzeugkosten | H8: =IF(A8="","",COUNTIF(Eingangsbuch!$E$7:$E$506,A8)) | I8: =IF(A8="","",SUMIF(Eingangsbuch!$E$7:$E$506,A8,Eingangsbuch!$K$7:$K$506)) | J8: =IF(A8="","",SUMIF(Eingangsbuch!$E$7:$E$506,A8,Eingangsbuch!$T$7:$T$506))
H9: =IF(A9="","",COUNTIF(Eingangsbuch!$E$7:$E$506,A9)) | I9: =IF(A9="","",SUMIF(Eingangsbuch!$E$7:$E$506,A9,Eingangsbuch!$K$7:$K$506)) | J9: =IF(A9="","",SUMIF(Eingangsbuch!$E$7:$E$506,A9,Eingangsbuch!$T$7:$T$506))
H10: =IF(A10="","",COUNTIF(Eingangsbuch!$E$7:$E$506,A10)) | I10: =IF(A10="","",SUMIF(Eingangsbuch!$E$7:$E$506,A10,Eingangsbuch!$K$7:$K$506)) | J10: =IF(A10="","",SUMIF(Eingangsbuch!$E$7:$E$506,A10,Eingangsbuch!$T$7:$T$506))
H11: =IF(A11="","",COUNTIF(Eingangsbuch!$E$7:$E$506,A11)) | I11: =IF(A11="","",SUMIF(Eingangsbuch!$E$7:$E$506,A11,Eingangsbuch!$K$7:$K$506)) | J11: =IF(A11="","",SUMIF(Eingangsbuch!$E$7:$E$506,A11,Eingangsbuch!$T$7:$T$506))
H12: =IF(A12="","",COUNTIF(Eingangsbuch!$E$7:$E$506,A12)) | I12: =IF(A12="","",SUMIF(Eingangsbuch!$E$7:$E$506,A12,Eingangsbuch!$K$7:$K$506)) | J12: =IF(A12="","",SUMIF(Eingangsbuch!$E$7:$E$506,A12,Eingangsbuch!$T$7:$T$506))
H13: =IF(A13="","",COUNTIF(Eingangsbuch!$E$7:$E$506,A13)) | I13: =IF(A13="","",SUMIF(Eingangsbuch!$E$7:$E$506,A13,Eingangsbuch!$K$7:$K$506)) | J13: =IF(A13="","",SUMIF(Eingangsbuch!$E$7:$E$506,A13,Eingangsbuch!$T$7:$T$506))
H14: =IF(A14="","",COUNTIF(Eingangsbuch!$E$7:$E$506,A14)) | I14: =IF(A14="","",SUMIF(Eingangsbuch!$E$7:$E$506,A14,Eingangsbuch!$K$7:$K$506)) | J14: =IF(A14="","",SUMIF(Eingangsbuch!$E$7:$E$506,A14,Eingangsbuch!$T$7:$T$506))
H15: =IF(A15="","",COUNTIF(Eingangsbuch!$E$7:$E$506,A15)) | I15: =IF(A15="","",SUMIF(Eingangsbuch!$E$7:$E$506,A15,Eingangsbuch!$K$7:$K$506)) | J15: =IF(A15="","",SUMIF(Eingangsbuch!$E$7:$E$506,A15,Eingangsbuch!$T$7:$T$506))
H16: =IF(A16="","",COUNTIF(Eingangsbuch!$E$7:$E$506,A16)) | I16: =IF(A16="","",SUMIF(Eingangsbuch!$E$7:$E$506,A16,Eingangsbuch!$K$7:$K$506)) | J16: =IF(A16="","",SUMIF(Eingangsbuch!$E$7:$E$506,A16,Eingangsbuch!$T$7:$T$506))
H17: =IF(A17="","",COUNTIF(Eingangsbuch!$E$7:$E$506,A17)) | I17: =IF(A17="","",SUMIF(Eingangsbuch!$E$7:$E$506,A17,Eingangsbuch!$K$7:$K$506)) | J17: =IF(A17="","",SUMIF(Eingangsbuch!$E$7:$E$506,A17,Eingangsbuch!$T$7:$T$506))
H18: =IF(A18="","",COUNTIF(Eingangsbuch!$E$7:$E$506,A18)) | I18: =IF(A18="","",SUMIF(Eingangsbuch!$E$7:$E$506,A18,Eingangsbuch!$K$7:$K$506)) | J18: =IF(A18="","",SUMIF(Eingangsbuch!$E$7:$E$506,A18,Eingangsbuch!$T$7:$T$506))
H19: =IF(A19="","",COUNTIF(Eingangsbuch!$E$7:$E$506,A19)) | I19: =IF(A19="","",SUMIF(Eingangsbuch!$E$7:$E$506,A19,Eingangsbuch!$K$7:$K$506)) | J19: =IF(A19="","",SUMIF(Eingangsbuch!$E$7:$E$506,A19,Eingangsbuch!$T$7:$T$506))
H20: =IF(A20="","",COUNTIF(Eingangsbuch!$E$7:$E$506,A20)) | I20: =IF(A20="","",SUMIF(Eingangsbuch!$E$7:$E$506,A20,Eingangsbuch!$K$7:$K$506)) | J20: =IF(A20="","",SUMIF(Eingangsbuch!$E$7:$E$506,A20,Eingangsbuch!$T$7:$T$506))
... H205: =IF(A205="","",COUNTIF(Eingangsbuch!$E$7:$E$506,A205)) | I205: =IF(A205="","",SUMIF(Eingangsbuch!$E$7:$E$506,A205,Eingangsbuch!$K$7:$K$506)) | J205: =IF(A205="","",SUMIF(Eingangsbuch!$E$7:$E$506,A205,Eingangsbuch!$T$7:$T$506))

Sheet Auswertung
A1: Auswertung
A2: Rechnet aus dem Eingangsbuch · nur das Jahr oben ist einzutragen
A4: Jahr: | B4: 2026
A6: Je Monat (nach Rechnungsdatum) | H6: Je Kostenart (im gewählten Jahr)
A7: Monat | B7: Anzahl | C7: Netto (€) | D7: USt (€) | E7: Brutto (€) | F7: davon offen (€) | H7: Kostenart | I7: Anzahl | J7: Netto (€) | K7: Anteil
A8: Januar | B8: =COUNTIFS(Eingangsbuch!$C$7:$C$506,">="&DATE($B$4,1,1),Eingangsbuch!$C$7:$C$506,"<"&DATE($B$4,2,1)) | C8: =SUMIFS(Eingangsbuch!$H$7:$H$506,Eingangsbuch!$C$7:$C$506,">="&DATE($B$4,1,1),Eingangsbuch!$C$7:$C$506,"<"&DATE($B$4,2,1)) | D8: =SUMIFS(Eingangsbuch!$J$7:$J$506,Eingangsbuch!$C$7:$C$506,">="&DATE($B$4,1,1),Eingangsbuch!$C$7:$C$506,"<"&DATE($B$4,2,1)) | E8: =SUMIFS(Eingangsbuch!$K$7:$K$506,Eingangsbuch!$C$7:$C$506,">="&DATE($B$4,1,1),Eingangsbuch!$C$7:$C$506,"<"&DATE($B$4,2,1)) | F8: =SUMIFS(Eingangsbuch!$T$7:$T$506,Eingangsbuch!$C$7:$C$506,">="&DATE($B$4,1,1),Eingangsbuch!$C$7:$C$506,"<"&DATE($B$4,2,1)) | H8: =IF(Einstellungen!$A$8="","",Einstellungen!$A$8) | I8: =IF(H8="","",COUNTIFS(Eingangsbuch!$G$7:$G$506,H8,Eingangsbuch!$C$7:$C$506,">="&DATE($B$4,1,1),Eingangsbuch!$C$7:$C$506,"<"&DATE($B$4+1,1,1))) | J8: =IF(H8="","",SUMIFS(Eingangsbuch!$H$7:$H$506,Eingangsbuch!$G$7:$G$506,H8,Eingangsbuch!$C$7:$C$506,">="&DATE($B$4,1,1),Eingangsbuch!$C$7:$C$506,"<"&DATE($B$4+1,1,1))) | K8: =IF(OR(H8="",$C$20=0),"",J8/$C$20)
A9: Februar | B9: =COUNTIFS(Eingangsbuch!$C$7:$C$506,">="&DATE($B$4,2,1),Eingangsbuch!$C$7:$C$506,"<"&DATE($B$4,3,1)) | C9: =SUMIFS(Eingangsbuch!$H$7:$H$506,Eingangsbuch!$C$7:$C$506,">="&DATE($B$4,2,1),Eingangsbuch!$C$7:$C$506,"<"&DATE($B$4,3,1)) | D9: =SUMIFS(Eingangsbuch!$J$7:$J$506,Eingangsbuch!$C$7:$C$506,">="&DATE($B$4,2,1),Eingangsbuch!$C$7:$C$506,"<"&DATE($B$4,3,1)) | E9: =SUMIFS(Eingangsbuch!$K$7:$K$506,Eingangsbuch!$C$7:$C$506,">="&DATE($B$4,2,1),Eingangsbuch!$C$7:$C$506,"<"&DATE($B$4,3,1)) | F9: =SUMIFS(Eingangsbuch!$T$7:$T$506,Eingangsbuch!$C$7:$C$506,">="&DATE($B$4,2,1),Eingangsbuch!$C$7:$C$506,"<"&DATE($B$4,3,1)) | H9: =IF(Einstellungen!$A$9="","",Einstellungen!$A$9) | I9: =IF(H9="","",COUNTIFS(Eingangsbuch!$G$7:$G$506,H9,Eingangsbuch!$C$7:$C$506,">="&DATE($B$4,1,1),Eingangsbuch!$C$7:$C$506,"<"&DATE($B$4+1,1,1))) | J9: =IF(H9="","",SUMIFS(Eingangsbuch!$H$7:$H$506,Eingangsbuch!$G$7:$G$506,H9,Eingangsbuch!$C$7:$C$506,">="&DATE($B$4,1,1),Eingangsbuch!$C$7:$C$506,"<"&DATE($B$4+1,1,1))) | K9: =IF(OR(H9="",$C$20=0),"",J9/$C$20)
A10: März | B10: =COUNTIFS(Eingangsbuch!$C$7:$C$506,">="&DATE($B$4,3,1),Eingangsbuch!$C$7:$C$506,"<"&DATE($B$4,4,1)) | C10: =SUMIFS(Eingangsbuch!$H$7:$H$506,Eingangsbuch!$C$7:$C$506,">="&DATE($B$4,3,1),Eingangsbuch!$C$7:$C$506,"<"&DATE($B$4,4,1)) | D10: =SUMIFS(Eingangsbuch!$J$7:$J$506,Eingangsbuch!$C$7:$C$506,">="&DATE($B$4,3,1),Eingangsbuch!$C$7:$C$506,"<"&DATE($B$4,4,1)) | E10: =SUMIFS(Eingangsbuch!$K$7:$K$506,Eingangsbuch!$C$7:$C$506,">="&DATE($B$4,3,1),Eingangsbuch!$C$7:$C$506,"<"&DATE($B$4,4,1)) | F10: =SUMIFS(Eingangsbuch!$T$7:$T$506,Eingangsbuch!$C$7:$C$506,">="&DATE($B$4,3,1),Eingangsbuch!$C$7:$C$506,"<"&DATE($B$4,4,1)) | H10: =IF(Einstellungen!$A$10="","",Einstellungen!$A$10) | I10: =IF(H10="","",COUNTIFS(Eingangsbuch!$G$7:$G$506,H10,Eingangsbuch!$C$7:$C$506,">="&DATE($B$4,1,1),Eingangsbuch!$C$7:$C$506,"<"&DATE($B$4+1,1,1))) | J10: =IF(H10="","",SUMIFS(Eingangsbuch!$H$7:$H$506,Eingangsbuch!$G$7:$G$506,H10,Eingangsbuch!$C$7:$C$506,">="&DATE($B$4,1,1),Eingangsbuch!$C$7:$C$506,"<"&DATE($B$4+1,1,1))) | K10: =IF(OR(H10="",$C$20=0),"",J10/$C$20)
A11: April | B11: =COUNTIFS(Eingangsbuch!$C$7:$C$506,">="&DATE($B$4,4,1),Eingangsbuch!$C$7:$C$506,"<"&DATE($B$4,5,1)) | C11: =SUMIFS(Eingangsbuch!$H$7:$H$506,Eingangsbuch!$C$7:$C$506,">="&DATE($B$4,4,1),Eingangsbuch!$C$7:$C$506,"<"&DATE($B$4,5,1)) | D11: =SUMIFS(Eingangsbuch!$J$7:$J$506,Eingangsbuch!$C$7:$C$506,">="&DATE($B$4,4,1),Eingangsbuch!$C$7:$C$506,"<"&DATE($B$4,5,1)) | E11: =SUMIFS(Eingangsbuch!$K$7:$K$506,Eingangsbuch!$C$7:$C$506,">="&DATE($B$4,4,1),Eingangsbuch!$C$7:$C$506,"<"&DATE($B$4,5,1)) | F11: =SUMIFS(Eingangsbuch!$T$7:$T$506,Eingangsbuch!$C$7:$C$506,">="&DATE($B$4,4,1),Eingangsbuch!$C$7:$C$506,"<"&DATE($B$4,5,1)) | H11: =IF(Einstellungen!$A$11="","",Einstellungen!$A$11) | I11: =IF(H11="","",COUNTIFS(Eingangsbuch!$G$7:$G$506,H11,Eingangsbuch!$C$7:$C$506,">="&DATE($B$4,1,1),Eingangsbuch!$C$7:$C$506,"<"&DATE($B$4+1,1,1))) | J11: =IF(H11="","",SUMIFS(Eingangsbuch!$H$7:$H$506,Eingangsbuch!$G$7:$G$506,H11,Eingangsbuch!$C$7:$C$506,">="&DATE($B$4,1,1),Eingangsbuch!$C$7:$C$506,"<"&DATE($B$4+1,1,1))) | K11: =IF(OR(H11="",$C$20=0),"",J11/$C$20)
A12: Mai | B12: =COUNTIFS(Eingangsbuch!$C$7:$C$506,">="&DATE($B$4,5,1),Eingangsbuch!$C$7:$C$506,"<"&DATE($B$4,6,1)) | C12: =SUMIFS(Eingangsbuch!$H$7:$H$506,Eingangsbuch!$C$7:$C$506,">="&DATE($B$4,5,1),Eingangsbuch!$C$7:$C$506,"<"&DATE($B$4,6,1)) | D12: =SUMIFS(Eingangsbuch!$J$7:$J$506,Eingangsbuch!$C$7:$C$506,">="&DATE($B$4,5,1),Eingangsbuch!$C$7:$C$506,"<"&DATE($B$4,6,1)) | E12: =SUMIFS(Eingangsbuch!$K$7:$K$506,Eingangsbuch!$C$7:$C$506,">="&DATE($B$4,5,1),Eingangsbuch!$C$7:$C$506,"<"&DATE($B$4,6,1)) | F12: =SUMIFS(Eingangsbuch!$T$7:$T$506,Eingangsbuch!$C$7:$C$506,">="&DATE($B$4,5,1),Eingangsbuch!$C$7:$C$506,"<"&DATE($B$4,6,1)) | H12: =IF(Einstellungen!$A$12="","",Einstellungen!$A$12) | I12: =IF(H12="","",COUNTIFS(Eingangsbuch!$G$7:$G$506,H12,Eingangsbuch!$C$7:$C$506,">="&DATE($B$4,1,1),Eingangsbuch!$C$7:$C$506,"<"&DATE($B$4+1,1,1))) | J12: =IF(H12="","",SUMIFS(Eingangsbuch!$H$7:$H$506,Eingangsbuch!$G$7:$G$506,H12,Eingangsbuch!$C$7:$C$506,">="&DATE($B$4,1,1),Eingangsbuch!$C$7:$C$506,"<"&DATE($B$4+1,1,1))) | K12: =IF(OR(H12="",$C$20=0),"",J12/$C$20)
A13: Juni | B13: =COUNTIFS(Eingangsbuch!$C$7:$C$506,">="&DATE($B$4,6,1),Eingangsbuch!$C$7:$C$506,"<"&DATE($B$4,7,1)) | C13: =SUMIFS(Eingangsbuch!$H$7:$H$506,Eingangsbuch!$C$7:$C$506,">="&DATE($B$4,6,1),Eingangsbuch!$C$7:$C$506,"<"&DATE($B$4,7,1)) | D13: =SUMIFS(Eingangsbuch!$J$7:$J$506,Eingangsbuch!$C$7:$C$506,">="&DATE($B$4,6,1),Eingangsbuch!$C$7:$C$506,"<"&DATE($B$4,7,1)) | E13: =SUMIFS(Eingangsbuch!$K$7:$K$506,Eingangsbuch!$C$7:$C$506,">="&DATE($B$4,6,1),Eingangsbuch!$C$7:$C$506,"<"&DATE($B$4,7,1)) | F13: =SUMIFS(Eingangsbuch!$T$7:$T$506,Eingangsbuch!$C$7:$C$506,">="&DATE($B$4,6,1),Eingangsbuch!$C$7:$C$506,"<"&DATE($B$4,7,1)) | H13: =IF(Einstellungen!$A$13="","",Einstellungen!$A$13) | I13: =IF(H13="","",COUNTIFS(Eingangsbuch!$G$7:$G$506,H13,Eingangsbuch!$C$7:$C$506,">="&DATE($B$4,1,1),Eingangsbuch!$C$7:$C$506,"<"&DATE($B$4+1,1,1))) | J13: =IF(H13="","",SUMIFS(Eingangsbuch!$H$7:$H$506,Eingangsbuch!$G$7:$G$506,H13,Eingangsbuch!$C$7:$C$506,">="&DATE($B$4,1,1),Eingangsbuch!$C$7:$C$506,"<"&DATE($B$4+1,1,1))) | K13: =IF(OR(H13="",$C$20=0),"",J13/$C$20)
A14: Juli | B14: =COUNTIFS(Eingangsbuch!$C$7:$C$506,">="&DATE($B$4,7,1),Eingangsbuch!$C$7:$C$506,"<"&DATE($B$4,8,1)) | C14: =SUMIFS(Eingangsbuch!$H$7:$H$506,Eingangsbuch!$C$7:$C$506,">="&DATE($B$4,7,1),Eingangsbuch!$C$7:$C$506,"<"&DATE($B$4,8,1)) | D14: =SUMIFS(Eingangsbuch!$J$7:$J$506,Eingangsbuch!$C$7:$C$506,">="&DATE($B$4,7,1),Eingangsbuch!$C$7:$C$506,"<"&DATE($B$4,8,1)) | E14: =SUMIFS(Eingangsbuch!$K$7:$K$506,Eingangsbuch!$C$7:$C$506,">="&DATE($B$4,7,1),Eingangsbuch!$C$7:$C$506,"<"&DATE($B$4,8,1)) | F14: =SUMIFS(Eingangsbuch!$T$7:$T$506,Eingangsbuch!$C$7:$C$506,">="&DATE($B$4,7,1),Eingangsbuch!$C$7:$C$506,"<"&DATE($B$4,8,1)) | H14: =IF(Einstellungen!$A$14="","",Einstellungen!$A$14) | I14: =IF(H14="","",COUNTIFS(Eingangsbuch!$G$7:$G$506,H14,Eingangsbuch!$C$7:$C$506,">="&DATE($B$4,1,1),Eingangsbuch!$C$7:$C$506,"<"&DATE($B$4+1,1,1))) | J14: =IF(H14="","",SUMIFS(Eingangsbuch!$H$7:$H$506,Eingangsbuch!$G$7:$G$506,H14,Eingangsbuch!$C$7:$C$506,">="&DATE($B$4,1,1),Eingangsbuch!$C$7:$C$506,"<"&DATE($B$4+1,1,1))) | K14: =IF(OR(H14="",$C$20=0),"",J14/$C$20)
A15: August | B15: =COUNTIFS(Eingangsbuch!$C$7:$C$506,">="&DATE($B$4,8,1),Eingangsbuch!$C$7:$C$506,"<"&DATE($B$4,9,1)) | C15: =SUMIFS(Eingangsbuch!$H$7:$H$506,Eingangsbuch!$C$7:$C$506,">="&DATE($B$4,8,1),Eingangsbuch!$C$7:$C$506,"<"&DATE($B$4,9,1)) | D15: =SUMIFS(Eingangsbuch!$J$7:$J$506,Eingangsbuch!$C$7:$C$506,">="&DATE($B$4,8,1),Eingangsbuch!$C$7:$C$506,"<"&DATE($B$4,9,1)) | E15: =SUMIFS(Eingangsbuch!$K$7:$K$506,Eingangsbuch!$C$7:$C$506,">="&DATE($B$4,8,1),Eingangsbuch!$C$7:$C$506,"<"&DATE($B$4,9,1)) | F15: =SUMIFS(Eingangsbuch!$T$7:$T$506,Eingangsbuch!$C$7:$C$506,">="&DATE($B$4,8,1),Eingangsbuch!$C$7:$C$506,"<"&DATE($B$4,9,1)) | H15: =IF(Einstellungen!$A$15="","",Einstellungen!$A$15) | I15: =IF(H15="","",COUNTIFS(Eingangsbuch!$G$7:$G$506,H15,Eingangsbuch!$C$7:$C$506,">="&DATE($B$4,1,1),Eingangsbuch!$C$7:$C$506,"<"&DATE($B$4+1,1,1))) | J15: =IF(H15="","",SUMIFS(Eingangsbuch!$H$7:$H$506,Eingangsbuch!$G$7:$G$506,H15,Eingangsbuch!$C$7:$C$506,">="&DATE($B$4,1,1),Eingangsbuch!$C$7:$C$506,"<"&DATE($B$4+1,1,1))) | K15: =IF(OR(H15="",$C$20=0),"",J15/$C$20)
A16: September | B16: =COUNTIFS(Eingangsbuch!$C$7:$C$506,">="&DATE($B$4,9,1),Eingangsbuch!$C$7:$C$506,"<"&DATE($B$4,10,1)) | C16: =SUMIFS(Eingangsbuch!$H$7:$H$506,Eingangsbuch!$C$7:$C$506,">="&DATE($B$4,9,1),Eingangsbuch!$C$7:$C$506,"<"&DATE($B$4,10,1)) | D16: =SUMIFS(Eingangsbuch!$J$7:$J$506,Eingangsbuch!$C$7:$C$506,">="&DATE($B$4,9,1),Eingangsbuch!$C$7:$C$506,"<"&DATE($B$4,10,1)) | E16: =SUMIFS(Eingangsbuch!$K$7:$K$506,Eingangsbuch!$C$7:$C$506,">="&DATE($B$4,9,1),Eingangsbuch!$C$7:$C$506,"<"&DATE($B$4,10,1)) | F16: =SUMIFS(Eingangsbuch!$T$7:$T$506,Eingangsbuch!$C$7:$C$506,">="&DATE($B$4,9,1),Eingangsbuch!$C$7:$C$506,"<"&DATE($B$4,10,1)) | H16: =IF(Einstellungen!$A$16="","",Einstellungen!$A$16) | I16: =IF(H16="","",COUNTIFS(Eingangsbuch!$G$7:$G$506,H16,Eingangsbuch!$C$7:$C$506,">="&DATE($B$4,1,1),Eingangsbuch!$C$7:$C$506,"<"&DATE($B$4+1,1,1))) | J16: =IF(H16="","",SUMIFS(Eingangsbuch!$H$7:$H$506,Eingangsbuch!$G$7:$G$506,H16,Eingangsbuch!$C$7:$C$506,">="&DATE($B$4,1,1),Eingangsbuch!$C$7:$C$506,"<"&DATE($B$4+1,1,1))) | K16: =IF(OR(H16="",$C$20=0),"",J16/$C$20)
A17: Oktober | B17: =COUNTIFS(Eingangsbuch!$C$7:$C$506,">="&DATE($B$4,10,1),Eingangsbuch!$C$7:$C$506,"<"&DATE($B$4,11,1)) | C17: =SUMIFS(Eingangsbuch!$H$7:$H$506,Eingangsbuch!$C$7:$C$506,">="&DATE($B$4,10,1),Eingangsbuch!$C$7:$C$506,"<"&DATE($B$4,11,1)) | D17: =SUMIFS(Eingangsbuch!$J$7:$J$506,Eingangsbuch!$C$7:$C$506,">="&DATE($B$4,10,1),Eingangsbuch!$C$7:$C$506,"<"&DATE($B$4,11,1)) | E17: =SUMIFS(Eingangsbuch!$K$7:$K$506,Eingangsbuch!$C$7:$C$506,">="&DATE($B$4,10,1),Eingangsbuch!$C$7:$C$506,"<"&DATE($B$4,11,1)) | F17: =SUMIFS(Eingangsbuch!$T$7:$T$506,Eingangsbuch!$C$7:$C$506,">="&DATE($B$4,10,1),Eingangsbuch!$C$7:$C$506,"<"&DATE($B$4,11,1)) | H17: =IF(Einstellungen!$A$17="","",Einstellungen!$A$17) | I17: =IF(H17="","",COUNTIFS(Eingangsbuch!$G$7:$G$506,H17,Eingangsbuch!$C$7:$C$506,">="&DATE($B$4,1,1),Eingangsbuch!$C$7:$C$506,"<"&DATE($B$4+1,1,1))) | J17: =IF(H17="","",SUMIFS(Eingangsbuch!$H$7:$H$506,Eingangsbuch!$G$7:$G$506,H17,Eingangsbuch!$C$7:$C$506,">="&DATE($B$4,1,1),Eingangsbuch!$C$7:$C$506,"<"&DATE($B$4+1,1,1))) | K17: =IF(OR(H17="",$C$20=0),"",J17/$C$20)
A18: November | B18: =COUNTIFS(Eingangsbuch!$C$7:$C$506,">="&DATE($B$4,11,1),Eingangsbuch!$C$7:$C$506,"<"&DATE($B$4,12,1)) | C18: =SUMIFS(Eingangsbuch!$H$7:$H$506,Eingangsbuch!$C$7:$C$506,">="&DATE($B$4,11,1),Eingangsbuch!$C$7:$C$506,"<"&DATE($B$4,12,1)) | D18: =SUMIFS(Eingangsbuch!$J$7:$J$506,Eingangsbuch!$C$7:$C$506,">="&DATE($B$4,11,1),Eingangsbuch!$C$7:$C$506,"<"&DATE($B$4,12,1)) | E18: =SUMIFS(Eingangsbuch!$K$7:$K$506,Eingangsbuch!$C$7:$C$506,">="&DATE($B$4,11,1),Eingangsbuch!$C$7:$C$506,"<"&DATE($B$4,12,1)) | F18: =SUMIFS(Eingangsbuch!$T$7:$T$506,Eingangsbuch!$C$7:$C$506,">="&DATE($B$4,11,1),Eingangsbuch!$C$7:$C$506,"<"&DATE($B$4,12,1)) | H18: =IF(Einstellungen!$A$18="","",Einstellungen!$A$18) | I18: =IF(H18="","",COUNTIFS(Eingangsbuch!$G$7:$G$506,H18,Eingangsbuch!$C$7:$C$506,">="&DATE($B$4,1,1),Eingangsbuch!$C$7:$C$506,"<"&DATE($B$4+1,1,1))) | J18: =IF(H18="","",SUMIFS(Eingangsbuch!$H$7:$H$506,Eingangsbuch!$G$7:$G$506,H18,Eingangsbuch!$C$7:$C$506,">="&DATE($B$4,1,1),Eingangsbuch!$C$7:$C$506,"<"&DATE($B$4+1,1,1))) | K18: =IF(OR(H18="",$C$20=0),"",J18/$C$20)
A19: Dezember | B19: =COUNTIFS(Eingangsbuch!$C$7:$C$506,">="&DATE($B$4,12,1),Eingangsbuch!$C$7:$C$506,"<"&DATE($B$4+1,1,1)) | C19: =SUMIFS(Eingangsbuch!$H$7:$H$506,Eingangsbuch!$C$7:$C$506,">="&DATE($B$4,12,1),Eingangsbuch!$C$7:$C$506,"<"&DATE($B$4+1,1,1)) | D19: =SUMIFS(Eingangsbuch!$J$7:$J$506,Eingangsbuch!$C$7:$C$506,">="&DATE($B$4,12,1),Eingangsbuch!$C$7:$C$506,"<"&DATE($B$4+1,1,1)) | E19: =SUMIFS(Eingangsbuch!$K$7:$K$506,Eingangsbuch!$C$7:$C$506,">="&DATE($B$4,12,1),Eingangsbuch!$C$7:$C$506,"<"&DATE($B$4+1,1,1)) | F19: =SUMIFS(Eingangsbuch!$T$7:$T$506,Eingangsbuch!$C$7:$C$506,">="&DATE($B$4,12,1),Eingangsbuch!$C$7:$C$506,"<"&DATE($B$4+1,1,1)) | H19: =IF(Einstellungen!$A$19="","",Einstellungen!$A$19) | I19: =IF(H19="","",COUNTIFS(Eingangsbuch!$G$7:$G$506,H19,Eingangsbuch!$C$7:$C$506,">="&DATE($B$4,1,1),Eingangsbuch!$C$7:$C$506,"<"&DATE($B$4+1,1,1))) | J19: =IF(H19="","",SUMIFS(Eingangsbuch!$H$7:$H$506,Eingangsbuch!$G$7:$G$506,H19,Eingangsbuch!$C$7:$C$506,">="&DATE($B$4,1,1),Eingangsbuch!$C$7:$C$506,"<"&DATE($B$4+1,1,1))) | K19: =IF(OR(H19="",$C$20=0),"",J19/$C$20)
A20: Jahr gesamt | B20: =SUM(B8:B19) | C20: =SUM(C8:C19) | D20: =SUM(D8:D19) | E20: =SUM(E8:E19) | F20: =SUM(F8:F19) | H20: =IF(Einstellungen!$A$20="","",Einstellungen!$A$20) | I20: =IF(H20="","",COUNTIFS(Eingangsbuch!$G$7:$G$506,H20,Eingangsbuch!$C$7:$C$506,">="&DATE($B$4,1,1),Eingangsbuch!$C$7:$C$506,"<"&DATE($B$4+1,1,1))) | J20: =IF(H20="","",SUMIFS(Eingangsbuch!$H$7:$H$506,Eingangsbuch!$G$7:$G$506,H20,Eingangsbuch!$C$7:$C$506,">="&DATE($B$4,1,1),Eingangsbuch!$C$7:$C$506,"<"&DATE($B$4+1,1,1))) | K20: =IF(OR(H20="",$C$20=0),"",J20/$C$20)
H21: =IF(Einstellungen!$A$21="","",Einstellungen!$A$21) | I21: =IF(H21="","",COUNTIFS(Eingangsbuch!$G$7:$G$506,H21,Eingangsbuch!$C$7:$C$506,">="&DATE($B$4,1,1),Eingangsbuch!$C$7:$C$506,"<"&DATE($B$4+1,1,1))) | J21: =IF(H21="","",SUMIFS(Eingangsbuch!$H$7:$H$506,Eingangsbuch!$G$7:$G$506,H21,Eingangsbuch!$C$7:$C$506,">="&DATE($B$4,1,1),Eingangsbuch!$C$7:$C$506,"<"&DATE($B$4+1,1,1))) | K21: =IF(OR(H21="",$C$20=0),"",J21/$C$20)
H22: =IF(Einstellungen!$A$22="","",Einstellungen!$A$22) | I22: =IF(H22="","",COUNTIFS(Eingangsbuch!$G$7:$G$506,H22,Eingangsbuch!$C$7:$C$506,">="&DATE($B$4,1,1),Eingangsbuch!$C$7:$C$506,"<"&DATE($B$4+1,1,1))) | J22: =IF(H22="","",SUMIFS(Eingangsbuch!$H$7:$H$506,Eingangsbuch!$G$7:$G$506,H22,Eingangsbuch!$C$7:$C$506,">="&DATE($B$4,1,1),Eingangsbuch!$C$7:$C$506,"<"&DATE($B$4+1,1,1))) | K22: =IF(OR(H22="",$C$20=0),"",J22/$C$20)
A23: Offene Rechnungen nach Fälligkeit (heute) | H23: =IF(Einstellungen!$A$23="","",Einstellungen!$A$23) | I23: =IF(H23="","",COUNTIFS(Eingangsbuch!$G$7:$G$506,H23,Eingangsbuch!$C$7:$C$506,">="&DATE($B$4,1,1),Eingangsbuch!$C$7:$C$506,"<"&DATE($B$4+1,1,1))) | J23: =IF(H23="","",SUMIFS(Eingangsbuch!$H$7:$H$506,Eingangsbuch!$G$7:$G$506,H23,Eingangsbuch!$C$7:$C$506,">="&DATE($B$4,1,1),Eingangsbuch!$C$7:$C$506,"<"&DATE($B$4+1,1,1))) | K23: =IF(OR(H23="",$C$20=0),"",J23/$C$20)
B24: Anzahl | C24: Betrag (€) | H24: =IF(Einstellungen!$A$24="","",Einstellungen!$A$24) | I24: =IF(H24="","",COUNTIFS(Eingangsbuch!$G$7:$G$506,H24,Eingangsbuch!$C$7:$C$506,">="&DATE($B$4,1,1),Eingangsbuch!$C$7:$C$506,"<"&DATE($B$4+1,1,1))) | J24: =IF(H24="","",SUMIFS(Eingangsbuch!$H$7:$H$506,Eingangsbuch!$G$7:$G$506,H24,Eingangsbuch!$C$7:$C$506,">="&DATE($B$4,1,1),Eingangsbuch!$C$7:$C$506,"<"&DATE($B$4+1,1,1))) | K24: =IF(OR(H24="",$C$20=0),"",J24/$C$20)
A25: überfällig | B25: =COUNTIF(Eingangsbuch!$U$7:$U$506,"überfällig") | C25: =SUMIF(Eingangsbuch!$U$7:$U$506,"überfällig",Eingangsbuch!$T$7:$T$506) | H25: =IF(Einstellungen!$A$25="","",Einstellungen!$A$25) | I25: =IF(H25="","",COUNTIFS(Eingangsbuch!$G$7:$G$506,H25,Eingangsbuch!$C$7:$C$506,">="&DATE($B$4,1,1),Eingangsbuch!$C$7:$C$506,"<"&DATE($B$4+1,1,1))) | J25: =IF(H25="","",SUMIFS(Eingangsbuch!$H$7:$H$506,Eingangsbuch!$G$7:$G$506,H25,Eingangsbuch!$C$7:$C$506,">="&DATE($B$4,1,1),Eingangsbuch!$C$7:$C$506,"<"&DATE($B$4+1,1,1))) | K25: =IF(OR(H25="",$C$20=0),"",J25/$C$20)
A26: fällig in 7 Tagen | B26: =COUNTIFS(Eingangsbuch!$U$7:$U$506,"offen",Eingangsbuch!$M$7:$M$506,"<="&TODAY()+7)+COUNTIFS(Eingangsbuch!$U$7:$U$506,"Skonto möglich",Eingangsbuch!$M$7:$M$506,"<="&TODAY()+7) | C26: =SUMIFS(Eingangsbuch!$T$7:$T$506,Eingangsbuch!$U$7:$U$506,"offen",Eingangsbuch!$M$7:$M$506,"<="&TODAY()+7)+SUMIFS(Eingangsbuch!$T$7:$T$506,Eingangsbuch!$U$7:$U$506,"Skonto möglich",Eingangsbuch!$M$7:$M$506,"<="&TODAY()+7) | H26: =IF(Einstellungen!$A$26="","",Einstellungen!$A$26) | I26: =IF(H26="","",COUNTIFS(Eingangsbuch!$G$7:$G$506,H26,Eingangsbuch!$C$7:$C$506,">="&DATE($B$4,1,1),Eingangsbuch!$C$7:$C$506,"<"&DATE($B$4+1,1,1))) | J26: =IF(H26="","",SUMIFS(Eingangsbuch!$H$7:$H$506,Eingangsbuch!$G$7:$G$506,H26,Eingangsbuch!$C$7:$C$506,">="&DATE($B$4,1,1),Eingangsbuch!$C$7:$C$506,"<"&DATE($B$4+1,1,1))) | K26: =IF(OR(H26="",$C$20=0),"",J26/$C$20)
A27: später fällig | B27: =COUNTIFS(Eingangsbuch!$U$7:$U$506,"offen",Eingangsbuch!$M$7:$M$506,">"&TODAY()+7)+COUNTIFS(Eingangsbuch!$U$7:$U$506,"Skonto möglich",Eingangsbuch!$M$7:$M$506,">"&TODAY()+7) | C27: =SUMIFS(Eingangsbuch!$T$7:$T$506,Eingangsbuch!$U$7:$U$506,"offen",Eingangsbuch!$M$7:$M$506,">"&TODAY()+7)+SUMIFS(Eingangsbuch!$T$7:$T$506,Eingangsbuch!$U$7:$U$506,"Skonto möglich",Eingangsbuch!$M$7:$M$506,">"&TODAY()+7) | H27: =IF(Einstellungen!$A$27="","",Einstellungen!$A$27) | I27: =IF(H27="","",COUNTIFS(Eingangsbuch!$G$7:$G$506,H27,Eingangsbuch!$C$7:$C$506,">="&DATE($B$4,1,1),Eingangsbuch!$C$7:$C$506,"<"&DATE($B$4+1,1,1))) | J27: =IF(H27="","",SUMIFS(Eingangsbuch!$H$7:$H$506,Eingangsbuch!$G$7:$G$506,H27,Eingangsbuch!$C$7:$C$506,">="&DATE($B$4,1,1),Eingangsbuch!$C$7:$C$506,"<"&DATE($B$4+1,1,1))) | K27: =IF(OR(H27="",$C$20=0),"",J27/$C$20)
A28: teilbezahlt | B28: =COUNTIF(Eingangsbuch!$U$7:$U$506,"teilbezahlt") | C28: =SUMIF(Eingangsbuch!$U$7:$U$506,"teilbezahlt",Eingangsbuch!$T$7:$T$506) | H28: =IF(Einstellungen!$A$28="","",Einstellungen!$A$28) | I28: =IF(H28="","",COUNTIFS(Eingangsbuch!$G$7:$G$506,H28,Eingangsbuch!$C$7:$C$506,">="&DATE($B$4,1,1),Eingangsbuch!$C$7:$C$506,"<"&DATE($B$4+1,1,1))) | J28: =IF(H28="","",SUMIFS(Eingangsbuch!$H$7:$H$506,Eingangsbuch!$G$7:$G$506,H28,Eingangsbuch!$C$7:$C$506,">="&DATE($B$4,1,1),Eingangsbuch!$C$7:$C$506,"<"&DATE($B$4+1,1,1))) | K28: =IF(OR(H28="",$C$20=0),"",J28/$C$20)
A29: Skonto jetzt möglich | B29: =COUNTIF(Eingangsbuch!$U$7:$U$506,"Skonto möglich") | C29: =SUMIF(Eingangsbuch!$U$7:$U$506,"Skonto möglich",Eingangsbuch!$P$7:$P$506) | H29: =IF(Einstellungen!$A$29="","",Einstellungen!$A$29) | I29: =IF(H29="","",COUNTIFS(Eingangsbuch!$G$7:$G$506,H29,Eingangsbuch!$C$7:$C$506,">="&DATE($B$4,1,1),Eingangsbuch!$C$7:$C$506,"<"&DATE($B$4+1,1,1))) | J29: =IF(H29="","",SUMIFS(Eingangsbuch!$H$7:$H$506,Eingangsbuch!$G$7:$G$506,H29,Eingangsbuch!$C$7:$C$506,">="&DATE($B$4,1,1),Eingangsbuch!$C$7:$C$506,"<"&DATE($B$4+1,1,1))) | K29: =IF(OR(H29="",$C$20=0),"",J29/$C$20)
H30: =IF(Einstellungen!$A$30="","",Einstellungen!$A$30) | I30: =IF(H30="","",COUNTIFS(Eingangsbuch!$G$7:$G$506,H30,Eingangsbuch!$C$7:$C$506,">="&DATE($B$4,1,1),Eingangsbuch!$C$7:$C$506,"<"&DATE($B$4+1,1,1))) | J30: =IF(H30="","",SUMIFS(Eingangsbuch!$H$7:$H$506,Eingangsbuch!$G$7:$G$506,H30,Eingangsbuch!$C$7:$C$506,">="&DATE($B$4,1,1),Eingangsbuch!$C$7:$C$506,"<"&DATE($B$4+1,1,1))) | K30: =IF(OR(H30="",$C$20=0),"",J30/$C$20)
A31: Bei 'Skonto jetzt möglich' steht die Ersparnis, nicht der Rechnungsbetrag. | H31: =IF(Einstellungen!$A$31="","",Einstellungen!$A$31) | I31: =IF(H31="","",COUNTIFS(Eingangsbuch!$G$7:$G$506,H31,Eingangsbuch!$C$7:$C$506,">="&DATE($B$4,1,1),Eingangsbuch!$C$7:$C$506,"<"&DATE($B$4+1,1,1))) | J31: =IF(H31="","",SUMIFS(Eingangsbuch!$H$7:$H$506,Eingangsbuch!$G$7:$G$506,H31,Eingangsbuch!$C$7:$C$506,">="&DATE($B$4,1,1),Eingangsbuch!$C$7:$C$506,"<"&DATE($B$4+1,1,1))) | K31: =IF(OR(H31="",$C$20=0),"",J31/$C$20)
H32: =IF(Einstellungen!$A$32="","",Einstellungen!$A$32) | I32: =IF(H32="","",COUNTIFS(Eingangsbuch!$G$7:$G$506,H32,Eingangsbuch!$C$7:$C$506,">="&DATE($B$4,1,1),Eingangsbuch!$C$7:$C$506,"<"&DATE($B$4+1,1,1))) | J32: =IF(H32="","",SUMIFS(Eingangsbuch!$H$7:$H$506,Eingangsbuch!$G$7:$G$506,H32,Eingangsbuch!$C$7:$C$506,">="&DATE($B$4,1,1),Eingangsbuch!$C$7:$C$506,"<"&DATE($B$4+1,1,1))) | K32: =IF(OR(H32="",$C$20=0),"",J32/$C$20)
A33: Für die Umsatzsteuer-Voranmeldung zählt nicht immer das Rechnungsdatum. Welcher Monat für deine Vorsteuer gilt, klärt dein Steuerberater. | H33: =IF(Einstellungen!$A$33="","",Einstellungen!$A$33) | I33: =IF(H33="","",COUNTIFS(Eingangsbuch!$G$7:$G$506,H33,Eingangsbuch!$C$7:$C$506,">="&DATE($B$4,1,1),Eingangsbuch!$C$7:$C$506,"<"&DATE($B$4+1,1,1))) | J33: =IF(H33="","",SUMIFS(Eingangsbuch!$H$7:$H$506,Eingangsbuch!$G$7:$G$506,H33,Eingangsbuch!$C$7:$C$506,">="&DATE($B$4,1,1),Eingangsbuch!$C$7:$C$506,"<"&DATE($B$4+1,1,1))) | K33: =IF(OR(H33="",$C$20=0),"",J33/$C$20)
H34: =IF(Einstellungen!$A$34="","",Einstellungen!$A$34) | I34: =IF(H34="","",COUNTIFS(Eingangsbuch!$G$7:$G$506,H34,Eingangsbuch!$C$7:$C$506,">="&DATE($B$4,1,1),Eingangsbuch!$C$7:$C$506,"<"&DATE($B$4+1,1,1))) | J34: =IF(H34="","",SUMIFS(Eingangsbuch!$H$7:$H$506,Eingangsbuch!$G$7:$G$506,H34,Eingangsbuch!$C$7:$C$506,">="&DATE($B$4,1,1),Eingangsbuch!$C$7:$C$506,"<"&DATE($B$4+1,1,1))) | K34: =IF(OR(H34="",$C$20=0),"",J34/$C$20)
H35: =IF(Einstellungen!$A$35="","",Einstellungen!$A$35) | I35: =IF(H35="","",COUNTIFS(Eingangsbuch!$G$7:$G$506,H35,Eingangsbuch!$C$7:$C$506,">="&DATE($B$4,1,1),Eingangsbuch!$C$7:$C$506,"<"&DATE($B$4+1,1,1))) | J35: =IF(H35="","",SUMIFS(Eingangsbuch!$H$7:$H$506,Eingangsbuch!$G$7:$G$506,H35,Eingangsbuch!$C$7:$C$506,">="&DATE($B$4,1,1),Eingangsbuch!$C$7:$C$506,"<"&DATE($B$4+1,1,1))) | K35: =IF(OR(H35="",$C$20=0),"",J35/$C$20)
H36: =IF(Einstellungen!$A$36="","",Einstellungen!$A$36) | I36: =IF(H36="","",COUNTIFS(Eingangsbuch!$G$7:$G$506,H36,Eingangsbuch!$C$7:$C$506,">="&DATE($B$4,1,1),Eingangsbuch!$C$7:$C$506,"<"&DATE($B$4+1,1,1))) | J36: =IF(H36="","",SUMIFS(Eingangsbuch!$H$7:$H$506,Eingangsbuch!$G$7:$G$506,H36,Eingangsbuch!$C$7:$C$506,">="&DATE($B$4,1,1),Eingangsbuch!$C$7:$C$506,"<"&DATE($B$4+1,1,1))) | K36: =IF(OR(H36="",$C$20=0),"",J36/$C$20)
H37: =IF(Einstellungen!$A$37="","",Einstellungen!$A$37) | I37: =IF(H37="","",COUNTIFS(Eingangsbuch!$G$7:$G$506,H37,Eingangsbuch!$C$7:$C$506,">="&DATE($B$4,1,1),Eingangsbuch!$C$7:$C$506,"<"&DATE($B$4+1,1,1))) | J37: =IF(H37="","",SUMIFS(Eingangsbuch!$H$7:$H$506,Eingangsbuch!$G$7:$G$506,H37,Eingangsbuch!$C$7:$C$506,">="&DATE($B$4,1,1),Eingangsbuch!$C$7:$C$506,"<"&DATE($B$4+1,1,1))) | K37: =IF(OR(H37="",$C$20=0),"",J37/$C$20)
H38: =IF(Einstellungen!$A$38="","",Einstellungen!$A$38) | I38: =IF(H38="","",COUNTIFS(Eingangsbuch!$G$7:$G$506,H38,Eingangsbuch!$C$7:$C$506,">="&DATE($B$4,1,1),Eingangsbuch!$C$7:$C$506,"<"&DATE($B$4+1,1,1))) | J38: =IF(H38="","",SUMIFS(Eingangsbuch!$H$7:$H$506,Eingangsbuch!$G$7:$G$506,H38,Eingangsbuch!$C$7:$C$506,">="&DATE($B$4,1,1),Eingangsbuch!$C$7:$C$506,"<"&DATE($B$4+1,1,1))) | K38: =IF(OR(H38="",$C$20=0),"",J38/$C$20)
H39: =IF(Einstellungen!$A$39="","",Einstellungen!$A$39) | I39: =IF(H39="","",COUNTIFS(Eingangsbuch!$G$7:$G$506,H39,Eingangsbuch!$C$7:$C$506,">="&DATE($B$4,1,1),Eingangsbuch!$C$7:$C$506,"<"&DATE($B$4+1,1,1))) | J39: =IF(H39="","",SUMIFS(Eingangsbuch!$H$7:$H$506,Eingangsbuch!$G$7:$G$506,H39,Eingangsbuch!$C$7:$C$506,">="&DATE($B$4,1,1),Eingangsbuch!$C$7:$C$506,"<"&DATE($B$4+1,1,1))) | K39: =IF(OR(H39="",$C$20=0),"",J39/$C$20)
H40: =IF(Einstellungen!$A$40="","",Einstellungen!$A$40) | I40: =IF(H40="","",COUNTIFS(Eingangsbuch!$G$7:$G$506,H40,Eingangsbuch!$C$7:$C$506,">="&DATE($B$4,1,1),Eingangsbuch!$C$7:$C$506,"<"&DATE($B$4+1,1,1))) | J40: =IF(H40="","",SUMIFS(Eingangsbuch!$H$7:$H$506,Eingangsbuch!$G$7:$G$506,H40,Eingangsbuch!$C$7:$C$506,">="&DATE($B$4,1,1),Eingangsbuch!$C$7:$C$506,"<"&DATE($B$4+1,1,1))) | K40: =IF(OR(H40="",$C$20=0),"",J40/$C$20)
H41: =IF(Einstellungen!$A$41="","",Einstellungen!$A$41) | I41: =IF(H41="","",COUNTIFS(Eingangsbuch!$G$7:$G$506,H41,Eingangsbuch!$C$7:$C$506,">="&DATE($B$4,1,1),Eingangsbuch!$C$7:$C$506,"<"&DATE($B$4+1,1,1))) | J41: =IF(H41="","",SUMIFS(Eingangsbuch!$H$7:$H$506,Eingangsbuch!$G$7:$G$506,H41,Eingangsbuch!$C$7:$C$506,">="&DATE($B$4,1,1),Eingangsbuch!$C$7:$C$506,"<"&DATE($B$4+1,1,1))) | K41: =IF(OR(H41="",$C$20=0),"",J41/$C$20)
H42: =IF(Einstellungen!$A$42="","",Einstellungen!$A$42) | I42: =IF(H42="","",COUNTIFS(Eingangsbuch!$G$7:$G$506,H42,Eingangsbuch!$C$7:$C$506,">="&DATE($B$4,1,1),Eingangsbuch!$C$7:$C$506,"<"&DATE($B$4+1,1,1))) | J42: =IF(H42="","",SUMIFS(Eingangsbuch!$H$7:$H$506,Eingangsbuch!$G$7:$G$506,H42,Eingangsbuch!$C$7:$C$506,">="&DATE($B$4,1,1),Eingangsbuch!$C$7:$C$506,"<"&DATE($B$4+1,1,1))) | K42: =IF(OR(H42="",$C$20=0),"",J42/$C$20)
...

Sheet Anleitung
A1: So nutzt du das Rechnungseingangsbuch
A2: Vorlage von ExcelDok · kostenlos, ohne Makros
B4: Farben
B5: Hellgelb: hier trägst du ein.
B6: Grau: rechnet die Datei selbst. Nicht überschreiben, außer der Steuerbetrag auf der Rechnung weicht ab.
B7: Hinter jeder Spaltenüberschrift steckt ein Kommentar mit Erklärung: Maus auf die Überschrift halten.
B9: Einrichten (einmal)
B10: 1. Blatt Einstellungen: Standard-Zahlungsziel prüfen, Kostenarten und Zahlungsarten an deinen Betrieb anpassen.
B11: 2. Blatt Lieferanten: deine regelmäßigen Lieferanten mit Zahlungsziel und Skonto anlegen. Die drei Beispiel-Lieferanten überschreiben.
B12: 3. Blatt Eingangsbuch: die drei Beispielzeilen löschen (Inhalte der hellgelben Zellen entfernen, die grauen bleiben).
B14: Jede Rechnung
B15: 1. Eine Zeile je Rechnung: Daten, Rechnungsnummer, Lieferant aus der Liste, Leistung, Kostenart, Netto und Steuersatz.
B16: 2. Steuer, Brutto, Fälligkeit, Skontofrist und Skontobetrag rechnet die Datei. Nennt die Rechnung ein eigenes Fälligkeitsdatum, trag es bei 'Fällig abweichend' ein.
B17: 3. Pflichtangaben prüfen und 'ja' setzen. Bei einer E-Rechnung die XML-Datei im Original ablegen und den Ort notieren.
... B35: Fragen oder Wünsche: info@exceldok.de · Igor Schmidt, ExcelDok
