Workbook
Name Name: Einstellungen!$B$4
Name Jahr: Einstellungen!$B$5
Name Bundesland: Einstellungen!$B$6
Name ErfassungAb: Einstellungen!$B$7
Name Uebertrag: Einstellungen!$B$8
Name UrlaubAnspruch: Einstellungen!$B$9
Name UrlaubRest: Einstellungen!$B$10
Name PauseErgaenzen: Einstellungen!$B$11
Name OhneEintragMinus: Einstellungen!$B$12
Name SollWoche: Einstellungen!$B$15:$B$21
Name LandKz: Einstellungen!$B$23
Name Beginn: Einstellungen!$B$24
Name Abw_Namen: Einstellungen!$D$4:$D$18
Name Abw_Gutschrift: Einstellungen!$E$4:$E$18
Name Abw_SollEntfaellt: Einstellungen!$F$4:$F$18
Name Abw_Urlaub: Einstellungen!$G$4:$G$18
Name Abw_Krank: Einstellungen!$H$4:$H$18
Name BL_Namen: Einstellungen!$J$4:$J$20
Name BL_Kuerzel: Einstellungen!$K$4:$K$20
Name FT_Name: Feiertage!$A$5:$A$31
Name FT_DatumGilt: Feiertage!$G$5:$G$31

Sheet Januar
A1: ="Stundenzettel Januar "&Jahr
A2: Kostenlose Vorlage von ExcelDok · exceldok.de · hellgelb eintragen, grau rechnet selbst · Erklärung im Blatt Anleitung
A3: Mitarbeiter | D3: Zeitkonto Vormonat | E3: Urlaub (Tage) | F3: Rest-urlaub | G3: Krank (Tage) | H3: Hinweise | I3: Ist | J3: Soll | K3: Saldo Monat | L3: Zeitkonto am Monatsende
A4: =IF(Name="","(Name in den Einstellungen)",Name) | D4: =Uebertrag | E4: =SUM(Q7:Q37) | F4: =UrlaubAnspruch+UrlaubRest-E4 | G4: =SUM(R7:R37) | H4: =COUNTIF(L7:L37,"?*") | I4: =SUM(I7:I37) | J4: =SUMPRODUCT(--(K7:K37<>""),J7:J37) | K4: =SUM(K7:K37) | L4: =D4+K4
A6: Datum | B6: Tag | C6: Feiertag | D6: Abwesenheit | E6: Kommen | F6: Gehen | G6: Pause (Min.) | H6: Pause gezählt | I6: Ist (Std.) | J6: Soll (Std.) | K6: Saldo (Std.) | L6: Hinweis | M6: Bemerkung / Projekt | N6: Brutto (Min.) | O6: Mindestpause | P6: Ende | Q6: Urlaubstage | R6: Krankheitstage | S6: Eintrag | T6: Sollbasis | U6: Abw.-Nr.
A7: =IF(MONTH(DATE(Jahr,1,1))=1,DATE(Jahr,1,1),"") | B7: =IF(A7="","",CHOOSE(WEEKDAY(A7,2),"Mo","Di","Mi","Do","Fr","Sa","So")) | C7: =IF(A7="","",IFERROR(INDEX(FT_Name,MATCH(A7,FT_DatumGilt,0)),"")) | H7: =IF(N7=0,"",IF(PauseErgaenzen="ja",MAX(N(G7),O7),N(G7))) | I7: =IF(OR(J7="",S7=""),"",(N7-N(H7))/60+IF(U7="",0,INDEX(Abw_Gutschrift,U7))*J7) | J7: =IF(OR(A7="",A7<Beginn),"",IF(OR(C7<>"",IF(U7="",FALSE,INDEX(Abw_SollEntfaellt,U7)="ja")),0,T7)) | K7: =IF(J7="","",IF(S7="",IF(OR(A7>=TODAY(),OhneEintragMinus<>"ja",J7=0),"",-J7),I7-J7)) | L7: =IF(A7="","",IF(AND(E7<>"",F7=""),IF(A7<TODAY(),"Gehen fehlt",""),IF(AND(F7<>"",E7=""),"Kommen fehlt",IF(AND(D7<>"",U7=""),"Abwesenheit unbekannt",IF(N7-N(H7)>600,"über 10 Std. (§ 3 ArbZG)",IF(AND(N7>0,N(G7)<O7),IF(PauseErgaenzen="ja","Pause ergänzt (§ 4 ArbZG)","Pause zu kurz (§ 4 ArbZG)"),IF(AND(E7<>"",0>0,A7+E7-0<11/24-1/2880),"Ruhezeit unter 11 Std. (§ 5 ArbZG)",IF(AND(S7="",N(J7)>0,A7<TODAY()),"kein Eintrag","")))))))) | N7: =IF(OR(A7="",E7="",F7=""),0,ROUND(MOD(F7-E7,1)*1440,0)) | O7: =MIN(MAX(N7-360,0),30)+MIN(MAX(N7-570,0),15) | P7: =IF(N7=0,"",A7+F7+IF(F7<E7,1,0)) | Q7: =IF(OR(U7="",N(J7)=0),0,INDEX(Abw_Urlaub,U7)) | R7: =IF(OR(U7="",N(J7)=0),0,INDEX(Abw_Krank,U7)) | S7: =IF(AND(A7<>"",OR(D7<>"",E7<>"",F7<>"")),A7,"") | T7: =IF(A7="",0,INDEX(SollWoche,WEEKDAY(A7,2))) | U7: =IF(D7="","",IFERROR(MATCH(D7,Abw_Namen,0),""))
A8: =IF(MONTH(DATE(Jahr,1,2))=1,DATE(Jahr,1,2),"") | B8: =IF(A8="","",CHOOSE(WEEKDAY(A8,2),"Mo","Di","Mi","Do","Fr","Sa","So")) | C8: =IF(A8="","",IFERROR(INDEX(FT_Name,MATCH(A8,FT_DatumGilt,0)),"")) | H8: =IF(N8=0,"",IF(PauseErgaenzen="ja",MAX(N(G8),O8),N(G8))) | I8: =IF(OR(J8="",S8=""),"",(N8-N(H8))/60+IF(U8="",0,INDEX(Abw_Gutschrift,U8))*J8) | J8: =IF(OR(A8="",A8<Beginn),"",IF(OR(C8<>"",IF(U8="",FALSE,INDEX(Abw_SollEntfaellt,U8)="ja")),0,T8)) | K8: =IF(J8="","",IF(S8="",IF(OR(A8>=TODAY(),OhneEintragMinus<>"ja",J8=0),"",-J8),I8-J8)) | L8: =IF(A8="","",IF(AND(E8<>"",F8=""),IF(A8<TODAY(),"Gehen fehlt",""),IF(AND(F8<>"",E8=""),"Kommen fehlt",IF(AND(D8<>"",U8=""),"Abwesenheit unbekannt",IF(N8-N(H8)>600,"über 10 Std. (§ 3 ArbZG)",IF(AND(N8>0,N(G8)<O8),IF(PauseErgaenzen="ja","Pause ergänzt (§ 4 ArbZG)","Pause zu kurz (§ 4 ArbZG)"),IF(AND(E8<>"",N(P7)>0,A8+E8-N(P7)<11/24-1/2880),"Ruhezeit unter 11 Std. (§ 5 ArbZG)",IF(AND(S8="",N(J8)>0,A8<TODAY()),"kein Eintrag","")))))))) | N8: =IF(OR(A8="",E8="",F8=""),0,ROUND(MOD(F8-E8,1)*1440,0)) | O8: =MIN(MAX(N8-360,0),30)+MIN(MAX(N8-570,0),15) | P8: =IF(N8=0,"",A8+F8+IF(F8<E8,1,0)) | Q8: =IF(OR(U8="",N(J8)=0),0,INDEX(Abw_Urlaub,U8)) | R8: =IF(OR(U8="",N(J8)=0),0,INDEX(Abw_Krank,U8)) | S8: =IF(AND(A8<>"",OR(D8<>"",E8<>"",F8<>"")),A8,"") | T8: =IF(A8="",0,INDEX(SollWoche,WEEKDAY(A8,2))) | U8: =IF(D8="","",IFERROR(MATCH(D8,Abw_Namen,0),""))
A9: =IF(MONTH(DATE(Jahr,1,3))=1,DATE(Jahr,1,3),"") | B9: =IF(A9="","",CHOOSE(WEEKDAY(A9,2),"Mo","Di","Mi","Do","Fr","Sa","So")) | C9: =IF(A9="","",IFERROR(INDEX(FT_Name,MATCH(A9,FT_DatumGilt,0)),"")) | H9: =IF(N9=0,"",IF(PauseErgaenzen="ja",MAX(N(G9),O9),N(G9))) | I9: =IF(OR(J9="",S9=""),"",(N9-N(H9))/60+IF(U9="",0,INDEX(Abw_Gutschrift,U9))*J9) | J9: =IF(OR(A9="",A9<Beginn),"",IF(OR(C9<>"",IF(U9="",FALSE,INDEX(Abw_SollEntfaellt,U9)="ja")),0,T9)) | K9: =IF(J9="","",IF(S9="",IF(OR(A9>=TODAY(),OhneEintragMinus<>"ja",J9=0),"",-J9),I9-J9)) | L9: =IF(A9="","",IF(AND(E9<>"",F9=""),IF(A9<TODAY(),"Gehen fehlt",""),IF(AND(F9<>"",E9=""),"Kommen fehlt",IF(AND(D9<>"",U9=""),"Abwesenheit unbekannt",IF(N9-N(H9)>600,"über 10 Std. (§ 3 ArbZG)",IF(AND(N9>0,N(G9)<O9),IF(PauseErgaenzen="ja","Pause ergänzt (§ 4 ArbZG)","Pause zu kurz (§ 4 ArbZG)"),IF(AND(E9<>"",N(P8)>0,A9+E9-N(P8)<11/24-1/2880),"Ruhezeit unter 11 Std. (§ 5 ArbZG)",IF(AND(S9="",N(J9)>0,A9<TODAY()),"kein Eintrag","")))))))) | N9: =IF(OR(A9="",E9="",F9=""),0,ROUND(MOD(F9-E9,1)*1440,0)) | O9: =MIN(MAX(N9-360,0),30)+MIN(MAX(N9-570,0),15) | P9: =IF(N9=0,"",A9+F9+IF(F9<E9,1,0)) | Q9: =IF(OR(U9="",N(J9)=0),0,INDEX(Abw_Urlaub,U9)) | R9: =IF(OR(U9="",N(J9)=0),0,INDEX(Abw_Krank,U9)) | S9: =IF(AND(A9<>"",OR(D9<>"",E9<>"",F9<>"")),A9,"") | T9: =IF(A9="",0,INDEX(SollWoche,WEEKDAY(A9,2))) | U9: =IF(D9="","",IFERROR(MATCH(D9,Abw_Namen,0),""))
A10: =IF(MONTH(DATE(Jahr,1,4))=1,DATE(Jahr,1,4),"") | B10: =IF(A10="","",CHOOSE(WEEKDAY(A10,2),"Mo","Di","Mi","Do","Fr","Sa","So")) | C10: =IF(A10="","",IFERROR(INDEX(FT_Name,MATCH(A10,FT_DatumGilt,0)),"")) | H10: =IF(N10=0,"",IF(PauseErgaenzen="ja",MAX(N(G10),O10),N(G10))) | I10: =IF(OR(J10="",S10=""),"",(N10-N(H10))/60+IF(U10="",0,INDEX(Abw_Gutschrift,U10))*J10) | J10: =IF(OR(A10="",A10<Beginn),"",IF(OR(C10<>"",IF(U10="",FALSE,INDEX(Abw_SollEntfaellt,U10)="ja")),0,T10)) | K10: =IF(J10="","",IF(S10="",IF(OR(A10>=TODAY(),OhneEintragMinus<>"ja",J10=0),"",-J10),I10-J10)) | L10: =IF(A10="","",IF(AND(E10<>"",F10=""),IF(A10<TODAY(),"Gehen fehlt",""),IF(AND(F10<>"",E10=""),"Kommen fehlt",IF(AND(D10<>"",U10=""),"Abwesenheit unbekannt",IF(N10-N(H10)>600,"über 10 Std. (§ 3 ArbZG)",IF(AND(N10>0,N(G10)<O10),IF(PauseErgaenzen="ja","Pause ergänzt (§ 4 ArbZG)","Pause zu kurz (§ 4 ArbZG)"),IF(AND(E10<>"",N(P9)>0,A10+E10-N(P9)<11/24-1/2880),"Ruhezeit unter 11 Std. (§ 5 ArbZG)",IF(AND(S10="",N(J10)>0,A10<TODAY()),"kein Eintrag","")))))))) | N10: =IF(OR(A10="",E10="",F10=""),0,ROUND(MOD(F10-E10,1)*1440,0)) | O10: =MIN(MAX(N10-360,0),30)+MIN(MAX(N10-570,0),15) | P10: =IF(N10=0,"",A10+F10+IF(F10<E10,1,0)) | Q10: =IF(OR(U10="",N(J10)=0),0,INDEX(Abw_Urlaub,U10)) | R10: =IF(OR(U10="",N(J10)=0),0,INDEX(Abw_Krank,U10)) | S10: =IF(AND(A10<>"",OR(D10<>"",E10<>"",F10<>"")),A10,"") | T10: =IF(A10="",0,INDEX(SollWoche,WEEKDAY(A10,2))) | U10: =IF(D10="","",IFERROR(MATCH(D10,Abw_Namen,0),""))
A11: =IF(MONTH(DATE(Jahr,1,5))=1,DATE(Jahr,1,5),"") | B11: =IF(A11="","",CHOOSE(WEEKDAY(A11,2),"Mo","Di","Mi","Do","Fr","Sa","So")) | C11: =IF(A11="","",IFERROR(INDEX(FT_Name,MATCH(A11,FT_DatumGilt,0)),"")) | H11: =IF(N11=0,"",IF(PauseErgaenzen="ja",MAX(N(G11),O11),N(G11))) | I11: =IF(OR(J11="",S11=""),"",(N11-N(H11))/60+IF(U11="",0,INDEX(Abw_Gutschrift,U11))*J11) | J11: =IF(OR(A11="",A11<Beginn),"",IF(OR(C11<>"",IF(U11="",FALSE,INDEX(Abw_SollEntfaellt,U11)="ja")),0,T11)) | K11: =IF(J11="","",IF(S11="",IF(OR(A11>=TODAY(),OhneEintragMinus<>"ja",J11=0),"",-J11),I11-J11)) | L11: =IF(A11="","",IF(AND(E11<>"",F11=""),IF(A11<TODAY(),"Gehen fehlt",""),IF(AND(F11<>"",E11=""),"Kommen fehlt",IF(AND(D11<>"",U11=""),"Abwesenheit unbekannt",IF(N11-N(H11)>600,"über 10 Std. (§ 3 ArbZG)",IF(AND(N11>0,N(G11)<O11),IF(PauseErgaenzen="ja","Pause ergänzt (§ 4 ArbZG)","Pause zu kurz (§ 4 ArbZG)"),IF(AND(E11<>"",N(P10)>0,A11+E11-N(P10)<11/24-1/2880),"Ruhezeit unter 11 Std. (§ 5 ArbZG)",IF(AND(S11="",N(J11)>0,A11<TODAY()),"kein Eintrag","")))))))) | N11: =IF(OR(A11="",E11="",F11=""),0,ROUND(MOD(F11-E11,1)*1440,0)) | O11: =MIN(MAX(N11-360,0),30)+MIN(MAX(N11-570,0),15) | P11: =IF(N11=0,"",A11+F11+IF(F11<E11,1,0)) | Q11: =IF(OR(U11="",N(J11)=0),0,INDEX(Abw_Urlaub,U11)) | R11: =IF(OR(U11="",N(J11)=0),0,INDEX(Abw_Krank,U11)) | S11: =IF(AND(A11<>"",OR(D11<>"",E11<>"",F11<>"")),A11,"") | T11: =IF(A11="",0,INDEX(SollWoche,WEEKDAY(A11,2))) | U11: =IF(D11="","",IFERROR(MATCH(D11,Abw_Namen,0),""))
A12: =IF(MONTH(DATE(Jahr,1,6))=1,DATE(Jahr,1,6),"") | B12: =IF(A12="","",CHOOSE(WEEKDAY(A12,2),"Mo","Di","Mi","Do","Fr","Sa","So")) | C12: =IF(A12="","",IFERROR(INDEX(FT_Name,MATCH(A12,FT_DatumGilt,0)),"")) | H12: =IF(N12=0,"",IF(PauseErgaenzen="ja",MAX(N(G12),O12),N(G12))) | I12: =IF(OR(J12="",S12=""),"",(N12-N(H12))/60+IF(U12="",0,INDEX(Abw_Gutschrift,U12))*J12) | J12: =IF(OR(A12="",A12<Beginn),"",IF(OR(C12<>"",IF(U12="",FALSE,INDEX(Abw_SollEntfaellt,U12)="ja")),0,T12)) | K12: =IF(J12="","",IF(S12="",IF(OR(A12>=TODAY(),OhneEintragMinus<>"ja",J12=0),"",-J12),I12-J12)) | L12: =IF(A12="","",IF(AND(E12<>"",F12=""),IF(A12<TODAY(),"Gehen fehlt",""),IF(AND(F12<>"",E12=""),"Kommen fehlt",IF(AND(D12<>"",U12=""),"Abwesenheit unbekannt",IF(N12-N(H12)>600,"über 10 Std. (§ 3 ArbZG)",IF(AND(N12>0,N(G12)<O12),IF(PauseErgaenzen="ja","Pause ergänzt (§ 4 ArbZG)","Pause zu kurz (§ 4 ArbZG)"),IF(AND(E12<>"",N(P11)>0,A12+E12-N(P11)<11/24-1/2880),"Ruhezeit unter 11 Std. (§ 5 ArbZG)",IF(AND(S12="",N(J12)>0,A12<TODAY()),"kein Eintrag","")))))))) | N12: =IF(OR(A12="",E12="",F12=""),0,ROUND(MOD(F12-E12,1)*1440,0)) | O12: =MIN(MAX(N12-360,0),30)+MIN(MAX(N12-570,0),15) | P12: =IF(N12=0,"",A12+F12+IF(F12<E12,1,0)) | Q12: =IF(OR(U12="",N(J12)=0),0,INDEX(Abw_Urlaub,U12)) | R12: =IF(OR(U12="",N(J12)=0),0,INDEX(Abw_Krank,U12)) | S12: =IF(AND(A12<>"",OR(D12<>"",E12<>"",F12<>"")),A12,"") | T12: =IF(A12="",0,INDEX(SollWoche,WEEKDAY(A12,2))) | U12: =IF(D12="","",IFERROR(MATCH(D12,Abw_Namen,0),""))
A13: =IF(MONTH(DATE(Jahr,1,7))=1,DATE(Jahr,1,7),"") | B13: =IF(A13="","",CHOOSE(WEEKDAY(A13,2),"Mo","Di","Mi","Do","Fr","Sa","So")) | C13: =IF(A13="","",IFERROR(INDEX(FT_Name,MATCH(A13,FT_DatumGilt,0)),"")) | H13: =IF(N13=0,"",IF(PauseErgaenzen="ja",MAX(N(G13),O13),N(G13))) | I13: =IF(OR(J13="",S13=""),"",(N13-N(H13))/60+IF(U13="",0,INDEX(Abw_Gutschrift,U13))*J13) | J13: =IF(OR(A13="",A13<Beginn),"",IF(OR(C13<>"",IF(U13="",FALSE,INDEX(Abw_SollEntfaellt,U13)="ja")),0,T13)) | K13: =IF(J13="","",IF(S13="",IF(OR(A13>=TODAY(),OhneEintragMinus<>"ja",J13=0),"",-J13),I13-J13)) | L13: =IF(A13="","",IF(AND(E13<>"",F13=""),IF(A13<TODAY(),"Gehen fehlt",""),IF(AND(F13<>"",E13=""),"Kommen fehlt",IF(AND(D13<>"",U13=""),"Abwesenheit unbekannt",IF(N13-N(H13)>600,"über 10 Std. (§ 3 ArbZG)",IF(AND(N13>0,N(G13)<O13),IF(PauseErgaenzen="ja","Pause ergänzt (§ 4 ArbZG)","Pause zu kurz (§ 4 ArbZG)"),IF(AND(E13<>"",N(P12)>0,A13+E13-N(P12)<11/24-1/2880),"Ruhezeit unter 11 Std. (§ 5 ArbZG)",IF(AND(S13="",N(J13)>0,A13<TODAY()),"kein Eintrag","")))))))) | N13: =IF(OR(A13="",E13="",F13=""),0,ROUND(MOD(F13-E13,1)*1440,0)) | O13: =MIN(MAX(N13-360,0),30)+MIN(MAX(N13-570,0),15) | P13: =IF(N13=0,"",A13+F13+IF(F13<E13,1,0)) | Q13: =IF(OR(U13="",N(J13)=0),0,INDEX(Abw_Urlaub,U13)) | R13: =IF(OR(U13="",N(J13)=0),0,INDEX(Abw_Krank,U13)) | S13: =IF(AND(A13<>"",OR(D13<>"",E13<>"",F13<>"")),A13,"") | T13: =IF(A13="",0,INDEX(SollWoche,WEEKDAY(A13,2))) | U13: =IF(D13="","",IFERROR(MATCH(D13,Abw_Namen,0),""))
A14: =IF(MONTH(DATE(Jahr,1,8))=1,DATE(Jahr,1,8),"") | B14: =IF(A14="","",CHOOSE(WEEKDAY(A14,2),"Mo","Di","Mi","Do","Fr","Sa","So")) | C14: =IF(A14="","",IFERROR(INDEX(FT_Name,MATCH(A14,FT_DatumGilt,0)),"")) | H14: =IF(N14=0,"",IF(PauseErgaenzen="ja",MAX(N(G14),O14),N(G14))) | I14: =IF(OR(J14="",S14=""),"",(N14-N(H14))/60+IF(U14="",0,INDEX(Abw_Gutschrift,U14))*J14) | J14: =IF(OR(A14="",A14<Beginn),"",IF(OR(C14<>"",IF(U14="",FALSE,INDEX(Abw_SollEntfaellt,U14)="ja")),0,T14)) | K14: =IF(J14="","",IF(S14="",IF(OR(A14>=TODAY(),OhneEintragMinus<>"ja",J14=0),"",-J14),I14-J14)) | L14: =IF(A14="","",IF(AND(E14<>"",F14=""),IF(A14<TODAY(),"Gehen fehlt",""),IF(AND(F14<>"",E14=""),"Kommen fehlt",IF(AND(D14<>"",U14=""),"Abwesenheit unbekannt",IF(N14-N(H14)>600,"über 10 Std. (§ 3 ArbZG)",IF(AND(N14>0,N(G14)<O14),IF(PauseErgaenzen="ja","Pause ergänzt (§ 4 ArbZG)","Pause zu kurz (§ 4 ArbZG)"),IF(AND(E14<>"",N(P13)>0,A14+E14-N(P13)<11/24-1/2880),"Ruhezeit unter 11 Std. (§ 5 ArbZG)",IF(AND(S14="",N(J14)>0,A14<TODAY()),"kein Eintrag","")))))))) | N14: =IF(OR(A14="",E14="",F14=""),0,ROUND(MOD(F14-E14,1)*1440,0)) | O14: =MIN(MAX(N14-360,0),30)+MIN(MAX(N14-570,0),15) | P14: =IF(N14=0,"",A14+F14+IF(F14<E14,1,0)) | Q14: =IF(OR(U14="",N(J14)=0),0,INDEX(Abw_Urlaub,U14)) | R14: =IF(OR(U14="",N(J14)=0),0,INDEX(Abw_Krank,U14)) | S14: =IF(AND(A14<>"",OR(D14<>"",E14<>"",F14<>"")),A14,"") | T14: =IF(A14="",0,INDEX(SollWoche,WEEKDAY(A14,2))) | U14: =IF(D14="","",IFERROR(MATCH(D14,Abw_Namen,0),""))
A15: =IF(MONTH(DATE(Jahr,1,9))=1,DATE(Jahr,1,9),"") | B15: =IF(A15="","",CHOOSE(WEEKDAY(A15,2),"Mo","Di","Mi","Do","Fr","Sa","So")) | C15: =IF(A15="","",IFERROR(INDEX(FT_Name,MATCH(A15,FT_DatumGilt,0)),"")) | H15: =IF(N15=0,"",IF(PauseErgaenzen="ja",MAX(N(G15),O15),N(G15))) | I15: =IF(OR(J15="",S15=""),"",(N15-N(H15))/60+IF(U15="",0,INDEX(Abw_Gutschrift,U15))*J15) | J15: =IF(OR(A15="",A15<Beginn),"",IF(OR(C15<>"",IF(U15="",FALSE,INDEX(Abw_SollEntfaellt,U15)="ja")),0,T15)) | K15: =IF(J15="","",IF(S15="",IF(OR(A15>=TODAY(),OhneEintragMinus<>"ja",J15=0),"",-J15),I15-J15)) | L15: =IF(A15="","",IF(AND(E15<>"",F15=""),IF(A15<TODAY(),"Gehen fehlt",""),IF(AND(F15<>"",E15=""),"Kommen fehlt",IF(AND(D15<>"",U15=""),"Abwesenheit unbekannt",IF(N15-N(H15)>600,"über 10 Std. (§ 3 ArbZG)",IF(AND(N15>0,N(G15)<O15),IF(PauseErgaenzen="ja","Pause ergänzt (§ 4 ArbZG)","Pause zu kurz (§ 4 ArbZG)"),IF(AND(E15<>"",N(P14)>0,A15+E15-N(P14)<11/24-1/2880),"Ruhezeit unter 11 Std. (§ 5 ArbZG)",IF(AND(S15="",N(J15)>0,A15<TODAY()),"kein Eintrag","")))))))) | N15: =IF(OR(A15="",E15="",F15=""),0,ROUND(MOD(F15-E15,1)*1440,0)) | O15: =MIN(MAX(N15-360,0),30)+MIN(MAX(N15-570,0),15) | P15: =IF(N15=0,"",A15+F15+IF(F15<E15,1,0)) | Q15: =IF(OR(U15="",N(J15)=0),0,INDEX(Abw_Urlaub,U15)) | R15: =IF(OR(U15="",N(J15)=0),0,INDEX(Abw_Krank,U15)) | S15: =IF(AND(A15<>"",OR(D15<>"",E15<>"",F15<>"")),A15,"") | T15: =IF(A15="",0,INDEX(SollWoche,WEEKDAY(A15,2))) | U15: =IF(D15="","",IFERROR(MATCH(D15,Abw_Namen,0),""))
A16: =IF(MONTH(DATE(Jahr,1,10))=1,DATE(Jahr,1,10),"") | B16: =IF(A16="","",CHOOSE(WEEKDAY(A16,2),"Mo","Di","Mi","Do","Fr","Sa","So")) | C16: =IF(A16="","",IFERROR(INDEX(FT_Name,MATCH(A16,FT_DatumGilt,0)),"")) | H16: =IF(N16=0,"",IF(PauseErgaenzen="ja",MAX(N(G16),O16),N(G16))) | I16: =IF(OR(J16="",S16=""),"",(N16-N(H16))/60+IF(U16="",0,INDEX(Abw_Gutschrift,U16))*J16) | J16: =IF(OR(A16="",A16<Beginn),"",IF(OR(C16<>"",IF(U16="",FALSE,INDEX(Abw_SollEntfaellt,U16)="ja")),0,T16)) | K16: =IF(J16="","",IF(S16="",IF(OR(A16>=TODAY(),OhneEintragMinus<>"ja",J16=0),"",-J16),I16-J16)) | L16: =IF(A16="","",IF(AND(E16<>"",F16=""),IF(A16<TODAY(),"Gehen fehlt",""),IF(AND(F16<>"",E16=""),"Kommen fehlt",IF(AND(D16<>"",U16=""),"Abwesenheit unbekannt",IF(N16-N(H16)>600,"über 10 Std. (§ 3 ArbZG)",IF(AND(N16>0,N(G16)<O16),IF(PauseErgaenzen="ja","Pause ergänzt (§ 4 ArbZG)","Pause zu kurz (§ 4 ArbZG)"),IF(AND(E16<>"",N(P15)>0,A16+E16-N(P15)<11/24-1/2880),"Ruhezeit unter 11 Std. (§ 5 ArbZG)",IF(AND(S16="",N(J16)>0,A16<TODAY()),"kein Eintrag","")))))))) | N16: =IF(OR(A16="",E16="",F16=""),0,ROUND(MOD(F16-E16,1)*1440,0)) | O16: =MIN(MAX(N16-360,0),30)+MIN(MAX(N16-570,0),15) | P16: =IF(N16=0,"",A16+F16+IF(F16<E16,1,0)) | Q16: =IF(OR(U16="",N(J16)=0),0,INDEX(Abw_Urlaub,U16)) | R16: =IF(OR(U16="",N(J16)=0),0,INDEX(Abw_Krank,U16)) | S16: =IF(AND(A16<>"",OR(D16<>"",E16<>"",F16<>"")),A16,"") | T16: =IF(A16="",0,INDEX(SollWoche,WEEKDAY(A16,2))) | U16: =IF(D16="","",IFERROR(MATCH(D16,Abw_Namen,0),""))
A17: =IF(MONTH(DATE(Jahr,1,11))=1,DATE(Jahr,1,11),"") | B17: =IF(A17="","",CHOOSE(WEEKDAY(A17,2),"Mo","Di","Mi","Do","Fr","Sa","So")) | C17: =IF(A17="","",IFERROR(INDEX(FT_Name,MATCH(A17,FT_DatumGilt,0)),"")) | H17: =IF(N17=0,"",IF(PauseErgaenzen="ja",MAX(N(G17),O17),N(G17))) | I17: =IF(OR(J17="",S17=""),"",(N17-N(H17))/60+IF(U17="",0,INDEX(Abw_Gutschrift,U17))*J17) | J17: =IF(OR(A17="",A17<Beginn),"",IF(OR(C17<>"",IF(U17="",FALSE,INDEX(Abw_SollEntfaellt,U17)="ja")),0,T17)) | K17: =IF(J17="","",IF(S17="",IF(OR(A17>=TODAY(),OhneEintragMinus<>"ja",J17=0),"",-J17),I17-J17)) | L17: =IF(A17="","",IF(AND(E17<>"",F17=""),IF(A17<TODAY(),"Gehen fehlt",""),IF(AND(F17<>"",E17=""),"Kommen fehlt",IF(AND(D17<>"",U17=""),"Abwesenheit unbekannt",IF(N17-N(H17)>600,"über 10 Std. (§ 3 ArbZG)",IF(AND(N17>0,N(G17)<O17),IF(PauseErgaenzen="ja","Pause ergänzt (§ 4 ArbZG)","Pause zu kurz (§ 4 ArbZG)"),IF(AND(E17<>"",N(P16)>0,A17+E17-N(P16)<11/24-1/2880),"Ruhezeit unter 11 Std. (§ 5 ArbZG)",IF(AND(S17="",N(J17)>0,A17<TODAY()),"kein Eintrag","")))))))) | N17: =IF(OR(A17="",E17="",F17=""),0,ROUND(MOD(F17-E17,1)*1440,0)) | O17: =MIN(MAX(N17-360,0),30)+MIN(MAX(N17-570,0),15) | P17: =IF(N17=0,"",A17+F17+IF(F17<E17,1,0)) | Q17: =IF(OR(U17="",N(J17)=0),0,INDEX(Abw_Urlaub,U17)) | R17: =IF(OR(U17="",N(J17)=0),0,INDEX(Abw_Krank,U17)) | S17: =IF(AND(A17<>"",OR(D17<>"",E17<>"",F17<>"")),A17,"") | T17: =IF(A17="",0,INDEX(SollWoche,WEEKDAY(A17,2))) | U17: =IF(D17="","",IFERROR(MATCH(D17,Abw_Namen,0),""))
A18: =IF(MONTH(DATE(Jahr,1,12))=1,DATE(Jahr,1,12),"") | B18: =IF(A18="","",CHOOSE(WEEKDAY(A18,2),"Mo","Di","Mi","Do","Fr","Sa","So")) | C18: =IF(A18="","",IFERROR(INDEX(FT_Name,MATCH(A18,FT_DatumGilt,0)),"")) | H18: =IF(N18=0,"",IF(PauseErgaenzen="ja",MAX(N(G18),O18),N(G18))) | I18: =IF(OR(J18="",S18=""),"",(N18-N(H18))/60+IF(U18="",0,INDEX(Abw_Gutschrift,U18))*J18) | J18: =IF(OR(A18="",A18<Beginn),"",IF(OR(C18<>"",IF(U18="",FALSE,INDEX(Abw_SollEntfaellt,U18)="ja")),0,T18)) | K18: =IF(J18="","",IF(S18="",IF(OR(A18>=TODAY(),OhneEintragMinus<>"ja",J18=0),"",-J18),I18-J18)) | L18: =IF(A18="","",IF(AND(E18<>"",F18=""),IF(A18<TODAY(),"Gehen fehlt",""),IF(AND(F18<>"",E18=""),"Kommen fehlt",IF(AND(D18<>"",U18=""),"Abwesenheit unbekannt",IF(N18-N(H18)>600,"über 10 Std. (§ 3 ArbZG)",IF(AND(N18>0,N(G18)<O18),IF(PauseErgaenzen="ja","Pause ergänzt (§ 4 ArbZG)","Pause zu kurz (§ 4 ArbZG)"),IF(AND(E18<>"",N(P17)>0,A18+E18-N(P17)<11/24-1/2880),"Ruhezeit unter 11 Std. (§ 5 ArbZG)",IF(AND(S18="",N(J18)>0,A18<TODAY()),"kein Eintrag","")))))))) | N18: =IF(OR(A18="",E18="",F18=""),0,ROUND(MOD(F18-E18,1)*1440,0)) | O18: =MIN(MAX(N18-360,0),30)+MIN(MAX(N18-570,0),15) | P18: =IF(N18=0,"",A18+F18+IF(F18<E18,1,0)) | Q18: =IF(OR(U18="",N(J18)=0),0,INDEX(Abw_Urlaub,U18)) | R18: =IF(OR(U18="",N(J18)=0),0,INDEX(Abw_Krank,U18)) | S18: =IF(AND(A18<>"",OR(D18<>"",E18<>"",F18<>"")),A18,"") | T18: =IF(A18="",0,INDEX(SollWoche,WEEKDAY(A18,2))) | U18: =IF(D18="","",IFERROR(MATCH(D18,Abw_Namen,0),""))
A19: =IF(MONTH(DATE(Jahr,1,13))=1,DATE(Jahr,1,13),"") | B19: =IF(A19="","",CHOOSE(WEEKDAY(A19,2),"Mo","Di","Mi","Do","Fr","Sa","So")) | C19: =IF(A19="","",IFERROR(INDEX(FT_Name,MATCH(A19,FT_DatumGilt,0)),"")) | H19: =IF(N19=0,"",IF(PauseErgaenzen="ja",MAX(N(G19),O19),N(G19))) | I19: =IF(OR(J19="",S19=""),"",(N19-N(H19))/60+IF(U19="",0,INDEX(Abw_Gutschrift,U19))*J19) | J19: =IF(OR(A19="",A19<Beginn),"",IF(OR(C19<>"",IF(U19="",FALSE,INDEX(Abw_SollEntfaellt,U19)="ja")),0,T19)) | K19: =IF(J19="","",IF(S19="",IF(OR(A19>=TODAY(),OhneEintragMinus<>"ja",J19=0),"",-J19),I19-J19)) | L19: =IF(A19="","",IF(AND(E19<>"",F19=""),IF(A19<TODAY(),"Gehen fehlt",""),IF(AND(F19<>"",E19=""),"Kommen fehlt",IF(AND(D19<>"",U19=""),"Abwesenheit unbekannt",IF(N19-N(H19)>600,"über 10 Std. (§ 3 ArbZG)",IF(AND(N19>0,N(G19)<O19),IF(PauseErgaenzen="ja","Pause ergänzt (§ 4 ArbZG)","Pause zu kurz (§ 4 ArbZG)"),IF(AND(E19<>"",N(P18)>0,A19+E19-N(P18)<11/24-1/2880),"Ruhezeit unter 11 Std. (§ 5 ArbZG)",IF(AND(S19="",N(J19)>0,A19<TODAY()),"kein Eintrag","")))))))) | N19: =IF(OR(A19="",E19="",F19=""),0,ROUND(MOD(F19-E19,1)*1440,0)) | O19: =MIN(MAX(N19-360,0),30)+MIN(MAX(N19-570,0),15) | P19: =IF(N19=0,"",A19+F19+IF(F19<E19,1,0)) | Q19: =IF(OR(U19="",N(J19)=0),0,INDEX(Abw_Urlaub,U19)) | R19: =IF(OR(U19="",N(J19)=0),0,INDEX(Abw_Krank,U19)) | S19: =IF(AND(A19<>"",OR(D19<>"",E19<>"",F19<>"")),A19,"") | T19: =IF(A19="",0,INDEX(SollWoche,WEEKDAY(A19,2))) | U19: =IF(D19="","",IFERROR(MATCH(D19,Abw_Namen,0),""))
A20: =IF(MONTH(DATE(Jahr,1,14))=1,DATE(Jahr,1,14),"") | B20: =IF(A20="","",CHOOSE(WEEKDAY(A20,2),"Mo","Di","Mi","Do","Fr","Sa","So")) | C20: =IF(A20="","",IFERROR(INDEX(FT_Name,MATCH(A20,FT_DatumGilt,0)),"")) | H20: =IF(N20=0,"",IF(PauseErgaenzen="ja",MAX(N(G20),O20),N(G20))) | I20: =IF(OR(J20="",S20=""),"",(N20-N(H20))/60+IF(U20="",0,INDEX(Abw_Gutschrift,U20))*J20) | J20: =IF(OR(A20="",A20<Beginn),"",IF(OR(C20<>"",IF(U20="",FALSE,INDEX(Abw_SollEntfaellt,U20)="ja")),0,T20)) | K20: =IF(J20="","",IF(S20="",IF(OR(A20>=TODAY(),OhneEintragMinus<>"ja",J20=0),"",-J20),I20-J20)) | L20: =IF(A20="","",IF(AND(E20<>"",F20=""),IF(A20<TODAY(),"Gehen fehlt",""),IF(AND(F20<>"",E20=""),"Kommen fehlt",IF(AND(D20<>"",U20=""),"Abwesenheit unbekannt",IF(N20-N(H20)>600,"über 10 Std. (§ 3 ArbZG)",IF(AND(N20>0,N(G20)<O20),IF(PauseErgaenzen="ja","Pause ergänzt (§ 4 ArbZG)","Pause zu kurz (§ 4 ArbZG)"),IF(AND(E20<>"",N(P19)>0,A20+E20-N(P19)<11/24-1/2880),"Ruhezeit unter 11 Std. (§ 5 ArbZG)",IF(AND(S20="",N(J20)>0,A20<TODAY()),"kein Eintrag","")))))))) | N20: =IF(OR(A20="",E20="",F20=""),0,ROUND(MOD(F20-E20,1)*1440,0)) | O20: =MIN(MAX(N20-360,0),30)+MIN(MAX(N20-570,0),15) | P20: =IF(N20=0,"",A20+F20+IF(F20<E20,1,0)) | Q20: =IF(OR(U20="",N(J20)=0),0,INDEX(Abw_Urlaub,U20)) | R20: =IF(OR(U20="",N(J20)=0),0,INDEX(Abw_Krank,U20)) | S20: =IF(AND(A20<>"",OR(D20<>"",E20<>"",F20<>"")),A20,"") | T20: =IF(A20="",0,INDEX(SollWoche,WEEKDAY(A20,2))) | U20: =IF(D20="","",IFERROR(MATCH(D20,Abw_Namen,0),""))
A21: =IF(MONTH(DATE(Jahr,1,15))=1,DATE(Jahr,1,15),"") | B21: =IF(A21="","",CHOOSE(WEEKDAY(A21,2),"Mo","Di","Mi","Do","Fr","Sa","So")) | C21: =IF(A21="","",IFERROR(INDEX(FT_Name,MATCH(A21,FT_DatumGilt,0)),"")) | H21: =IF(N21=0,"",IF(PauseErgaenzen="ja",MAX(N(G21),O21),N(G21))) | I21: =IF(OR(J21="",S21=""),"",(N21-N(H21))/60+IF(U21="",0,INDEX(Abw_Gutschrift,U21))*J21) | J21: =IF(OR(A21="",A21<Beginn),"",IF(OR(C21<>"",IF(U21="",FALSE,INDEX(Abw_SollEntfaellt,U21)="ja")),0,T21)) | K21: =IF(J21="","",IF(S21="",IF(OR(A21>=TODAY(),OhneEintragMinus<>"ja",J21=0),"",-J21),I21-J21)) | L21: =IF(A21="","",IF(AND(E21<>"",F21=""),IF(A21<TODAY(),"Gehen fehlt",""),IF(AND(F21<>"",E21=""),"Kommen fehlt",IF(AND(D21<>"",U21=""),"Abwesenheit unbekannt",IF(N21-N(H21)>600,"über 10 Std. (§ 3 ArbZG)",IF(AND(N21>0,N(G21)<O21),IF(PauseErgaenzen="ja","Pause ergänzt (§ 4 ArbZG)","Pause zu kurz (§ 4 ArbZG)"),IF(AND(E21<>"",N(P20)>0,A21+E21-N(P20)<11/24-1/2880),"Ruhezeit unter 11 Std. (§ 5 ArbZG)",IF(AND(S21="",N(J21)>0,A21<TODAY()),"kein Eintrag","")))))))) | N21: =IF(OR(A21="",E21="",F21=""),0,ROUND(MOD(F21-E21,1)*1440,0)) | O21: =MIN(MAX(N21-360,0),30)+MIN(MAX(N21-570,0),15) | P21: =IF(N21=0,"",A21+F21+IF(F21<E21,1,0)) | Q21: =IF(OR(U21="",N(J21)=0),0,INDEX(Abw_Urlaub,U21)) | R21: =IF(OR(U21="",N(J21)=0),0,INDEX(Abw_Krank,U21)) | S21: =IF(AND(A21<>"",OR(D21<>"",E21<>"",F21<>"")),A21,"") | T21: =IF(A21="",0,INDEX(SollWoche,WEEKDAY(A21,2))) | U21: =IF(D21="","",IFERROR(MATCH(D21,Abw_Namen,0),""))
A22: =IF(MONTH(DATE(Jahr,1,16))=1,DATE(Jahr,1,16),"") | B22: =IF(A22="","",CHOOSE(WEEKDAY(A22,2),"Mo","Di","Mi","Do","Fr","Sa","So")) | C22: =IF(A22="","",IFERROR(INDEX(FT_Name,MATCH(A22,FT_DatumGilt,0)),"")) | H22: =IF(N22=0,"",IF(PauseErgaenzen="ja",MAX(N(G22),O22),N(G22))) | I22: =IF(OR(J22="",S22=""),"",(N22-N(H22))/60+IF(U22="",0,INDEX(Abw_Gutschrift,U22))*J22) | J22: =IF(OR(A22="",A22<Beginn),"",IF(OR(C22<>"",IF(U22="",FALSE,INDEX(Abw_SollEntfaellt,U22)="ja")),0,T22)) | K22: =IF(J22="","",IF(S22="",IF(OR(A22>=TODAY(),OhneEintragMinus<>"ja",J22=0),"",-J22),I22-J22)) | L22: =IF(A22="","",IF(AND(E22<>"",F22=""),IF(A22<TODAY(),"Gehen fehlt",""),IF(AND(F22<>"",E22=""),"Kommen fehlt",IF(AND(D22<>"",U22=""),"Abwesenheit unbekannt",IF(N22-N(H22)>600,"über 10 Std. (§ 3 ArbZG)",IF(AND(N22>0,N(G22)<O22),IF(PauseErgaenzen="ja","Pause ergänzt (§ 4 ArbZG)","Pause zu kurz (§ 4 ArbZG)"),IF(AND(E22<>"",N(P21)>0,A22+E22-N(P21)<11/24-1/2880),"Ruhezeit unter 11 Std. (§ 5 ArbZG)",IF(AND(S22="",N(J22)>0,A22<TODAY()),"kein Eintrag","")))))))) | N22: =IF(OR(A22="",E22="",F22=""),0,ROUND(MOD(F22-E22,1)*1440,0)) | O22: =MIN(MAX(N22-360,0),30)+MIN(MAX(N22-570,0),15) | P22: =IF(N22=0,"",A22+F22+IF(F22<E22,1,0)) | Q22: =IF(OR(U22="",N(J22)=0),0,INDEX(Abw_Urlaub,U22)) | R22: =IF(OR(U22="",N(J22)=0),0,INDEX(Abw_Krank,U22)) | S22: =IF(AND(A22<>"",OR(D22<>"",E22<>"",F22<>"")),A22,"") | T22: =IF(A22="",0,INDEX(SollWoche,WEEKDAY(A22,2))) | U22: =IF(D22="","",IFERROR(MATCH(D22,Abw_Namen,0),""))
A23: =IF(MONTH(DATE(Jahr,1,17))=1,DATE(Jahr,1,17),"") | B23: =IF(A23="","",CHOOSE(WEEKDAY(A23,2),"Mo","Di","Mi","Do","Fr","Sa","So")) | C23: =IF(A23="","",IFERROR(INDEX(FT_Name,MATCH(A23,FT_DatumGilt,0)),"")) | H23: =IF(N23=0,"",IF(PauseErgaenzen="ja",MAX(N(G23),O23),N(G23))) | I23: =IF(OR(J23="",S23=""),"",(N23-N(H23))/60+IF(U23="",0,INDEX(Abw_Gutschrift,U23))*J23) | J23: =IF(OR(A23="",A23<Beginn),"",IF(OR(C23<>"",IF(U23="",FALSE,INDEX(Abw_SollEntfaellt,U23)="ja")),0,T23)) | K23: =IF(J23="","",IF(S23="",IF(OR(A23>=TODAY(),OhneEintragMinus<>"ja",J23=0),"",-J23),I23-J23)) | L23: =IF(A23="","",IF(AND(E23<>"",F23=""),IF(A23<TODAY(),"Gehen fehlt",""),IF(AND(F23<>"",E23=""),"Kommen fehlt",IF(AND(D23<>"",U23=""),"Abwesenheit unbekannt",IF(N23-N(H23)>600,"über 10 Std. (§ 3 ArbZG)",IF(AND(N23>0,N(G23)<O23),IF(PauseErgaenzen="ja","Pause ergänzt (§ 4 ArbZG)","Pause zu kurz (§ 4 ArbZG)"),IF(AND(E23<>"",N(P22)>0,A23+E23-N(P22)<11/24-1/2880),"Ruhezeit unter 11 Std. (§ 5 ArbZG)",IF(AND(S23="",N(J23)>0,A23<TODAY()),"kein Eintrag","")))))))) | N23: =IF(OR(A23="",E23="",F23=""),0,ROUND(MOD(F23-E23,1)*1440,0)) | O23: =MIN(MAX(N23-360,0),30)+MIN(MAX(N23-570,0),15) | P23: =IF(N23=0,"",A23+F23+IF(F23<E23,1,0)) | Q23: =IF(OR(U23="",N(J23)=0),0,INDEX(Abw_Urlaub,U23)) | R23: =IF(OR(U23="",N(J23)=0),0,INDEX(Abw_Krank,U23)) | S23: =IF(AND(A23<>"",OR(D23<>"",E23<>"",F23<>"")),A23,"") | T23: =IF(A23="",0,INDEX(SollWoche,WEEKDAY(A23,2))) | U23: =IF(D23="","",IFERROR(MATCH(D23,Abw_Namen,0),""))
A24: =IF(MONTH(DATE(Jahr,1,18))=1,DATE(Jahr,1,18),"") | B24: =IF(A24="","",CHOOSE(WEEKDAY(A24,2),"Mo","Di","Mi","Do","Fr","Sa","So")) | C24: =IF(A24="","",IFERROR(INDEX(FT_Name,MATCH(A24,FT_DatumGilt,0)),"")) | H24: =IF(N24=0,"",IF(PauseErgaenzen="ja",MAX(N(G24),O24),N(G24))) | I24: =IF(OR(J24="",S24=""),"",(N24-N(H24))/60+IF(U24="",0,INDEX(Abw_Gutschrift,U24))*J24) | J24: =IF(OR(A24="",A24<Beginn),"",IF(OR(C24<>"",IF(U24="",FALSE,INDEX(Abw_SollEntfaellt,U24)="ja")),0,T24)) | K24: =IF(J24="","",IF(S24="",IF(OR(A24>=TODAY(),OhneEintragMinus<>"ja",J24=0),"",-J24),I24-J24)) | L24: =IF(A24="","",IF(AND(E24<>"",F24=""),IF(A24<TODAY(),"Gehen fehlt",""),IF(AND(F24<>"",E24=""),"Kommen fehlt",IF(AND(D24<>"",U24=""),"Abwesenheit unbekannt",IF(N24-N(H24)>600,"über 10 Std. (§ 3 ArbZG)",IF(AND(N24>0,N(G24)<O24),IF(PauseErgaenzen="ja","Pause ergänzt (§ 4 ArbZG)","Pause zu kurz (§ 4 ArbZG)"),IF(AND(E24<>"",N(P23)>0,A24+E24-N(P23)<11/24-1/2880),"Ruhezeit unter 11 Std. (§ 5 ArbZG)",IF(AND(S24="",N(J24)>0,A24<TODAY()),"kein Eintrag","")))))))) | N24: =IF(OR(A24="",E24="",F24=""),0,ROUND(MOD(F24-E24,1)*1440,0)) | O24: =MIN(MAX(N24-360,0),30)+MIN(MAX(N24-570,0),15) | P24: =IF(N24=0,"",A24+F24+IF(F24<E24,1,0)) | Q24: =IF(OR(U24="",N(J24)=0),0,INDEX(Abw_Urlaub,U24)) | R24: =IF(OR(U24="",N(J24)=0),0,INDEX(Abw_Krank,U24)) | S24: =IF(AND(A24<>"",OR(D24<>"",E24<>"",F24<>"")),A24,"") | T24: =IF(A24="",0,INDEX(SollWoche,WEEKDAY(A24,2))) | U24: =IF(D24="","",IFERROR(MATCH(D24,Abw_Namen,0),""))
A25: =IF(MONTH(DATE(Jahr,1,19))=1,DATE(Jahr,1,19),"") | B25: =IF(A25="","",CHOOSE(WEEKDAY(A25,2),"Mo","Di","Mi","Do","Fr","Sa","So")) | C25: =IF(A25="","",IFERROR(INDEX(FT_Name,MATCH(A25,FT_DatumGilt,0)),"")) | H25: =IF(N25=0,"",IF(PauseErgaenzen="ja",MAX(N(G25),O25),N(G25))) | I25: =IF(OR(J25="",S25=""),"",(N25-N(H25))/60+IF(U25="",0,INDEX(Abw_Gutschrift,U25))*J25) | J25: =IF(OR(A25="",A25<Beginn),"",IF(OR(C25<>"",IF(U25="",FALSE,INDEX(Abw_SollEntfaellt,U25)="ja")),0,T25)) | K25: =IF(J25="","",IF(S25="",IF(OR(A25>=TODAY(),OhneEintragMinus<>"ja",J25=0),"",-J25),I25-J25)) | L25: =IF(A25="","",IF(AND(E25<>"",F25=""),IF(A25<TODAY(),"Gehen fehlt",""),IF(AND(F25<>"",E25=""),"Kommen fehlt",IF(AND(D25<>"",U25=""),"Abwesenheit unbekannt",IF(N25-N(H25)>600,"über 10 Std. (§ 3 ArbZG)",IF(AND(N25>0,N(G25)<O25),IF(PauseErgaenzen="ja","Pause ergänzt (§ 4 ArbZG)","Pause zu kurz (§ 4 ArbZG)"),IF(AND(E25<>"",N(P24)>0,A25+E25-N(P24)<11/24-1/2880),"Ruhezeit unter 11 Std. (§ 5 ArbZG)",IF(AND(S25="",N(J25)>0,A25<TODAY()),"kein Eintrag","")))))))) | N25: =IF(OR(A25="",E25="",F25=""),0,ROUND(MOD(F25-E25,1)*1440,0)) | O25: =MIN(MAX(N25-360,0),30)+MIN(MAX(N25-570,0),15) | P25: =IF(N25=0,"",A25+F25+IF(F25<E25,1,0)) | Q25: =IF(OR(U25="",N(J25)=0),0,INDEX(Abw_Urlaub,U25)) | R25: =IF(OR(U25="",N(J25)=0),0,INDEX(Abw_Krank,U25)) | S25: =IF(AND(A25<>"",OR(D25<>"",E25<>"",F25<>"")),A25,"") | T25: =IF(A25="",0,INDEX(SollWoche,WEEKDAY(A25,2))) | U25: =IF(D25="","",IFERROR(MATCH(D25,Abw_Namen,0),""))
A26: =IF(MONTH(DATE(Jahr,1,20))=1,DATE(Jahr,1,20),"") | B26: =IF(A26="","",CHOOSE(WEEKDAY(A26,2),"Mo","Di","Mi","Do","Fr","Sa","So")) | C26: =IF(A26="","",IFERROR(INDEX(FT_Name,MATCH(A26,FT_DatumGilt,0)),"")) | H26: =IF(N26=0,"",IF(PauseErgaenzen="ja",MAX(N(G26),O26),N(G26))) | I26: =IF(OR(J26="",S26=""),"",(N26-N(H26))/60+IF(U26="",0,INDEX(Abw_Gutschrift,U26))*J26) | J26: =IF(OR(A26="",A26<Beginn),"",IF(OR(C26<>"",IF(U26="",FALSE,INDEX(Abw_SollEntfaellt,U26)="ja")),0,T26)) | K26: =IF(J26="","",IF(S26="",IF(OR(A26>=TODAY(),OhneEintragMinus<>"ja",J26=0),"",-J26),I26-J26)) | L26: =IF(A26="","",IF(AND(E26<>"",F26=""),IF(A26<TODAY(),"Gehen fehlt",""),IF(AND(F26<>"",E26=""),"Kommen fehlt",IF(AND(D26<>"",U26=""),"Abwesenheit unbekannt",IF(N26-N(H26)>600,"über 10 Std. (§ 3 ArbZG)",IF(AND(N26>0,N(G26)<O26),IF(PauseErgaenzen="ja","Pause ergänzt (§ 4 ArbZG)","Pause zu kurz (§ 4 ArbZG)"),IF(AND(E26<>"",N(P25)>0,A26+E26-N(P25)<11/24-1/2880),"Ruhezeit unter 11 Std. (§ 5 ArbZG)",IF(AND(S26="",N(J26)>0,A26<TODAY()),"kein Eintrag","")))))))) | N26: =IF(OR(A26="",E26="",F26=""),0,ROUND(MOD(F26-E26,1)*1440,0)) | O26: =MIN(MAX(N26-360,0),30)+MIN(MAX(N26-570,0),15) | P26: =IF(N26=0,"",A26+F26+IF(F26<E26,1,0)) | Q26: =IF(OR(U26="",N(J26)=0),0,INDEX(Abw_Urlaub,U26)) | R26: =IF(OR(U26="",N(J26)=0),0,INDEX(Abw_Krank,U26)) | S26: =IF(AND(A26<>"",OR(D26<>"",E26<>"",F26<>"")),A26,"") | T26: =IF(A26="",0,INDEX(SollWoche,WEEKDAY(A26,2))) | U26: =IF(D26="","",IFERROR(MATCH(D26,Abw_Namen,0),""))
A27: =IF(MONTH(DATE(Jahr,1,21))=1,DATE(Jahr,1,21),"") | B27: =IF(A27="","",CHOOSE(WEEKDAY(A27,2),"Mo","Di","Mi","Do","Fr","Sa","So")) | C27: =IF(A27="","",IFERROR(INDEX(FT_Name,MATCH(A27,FT_DatumGilt,0)),"")) | H27: =IF(N27=0,"",IF(PauseErgaenzen="ja",MAX(N(G27),O27),N(G27))) | I27: =IF(OR(J27="",S27=""),"",(N27-N(H27))/60+IF(U27="",0,INDEX(Abw_Gutschrift,U27))*J27) | J27: =IF(OR(A27="",A27<Beginn),"",IF(OR(C27<>"",IF(U27="",FALSE,INDEX(Abw_SollEntfaellt,U27)="ja")),0,T27)) | K27: =IF(J27="","",IF(S27="",IF(OR(A27>=TODAY(),OhneEintragMinus<>"ja",J27=0),"",-J27),I27-J27)) | L27: =IF(A27="","",IF(AND(E27<>"",F27=""),IF(A27<TODAY(),"Gehen fehlt",""),IF(AND(F27<>"",E27=""),"Kommen fehlt",IF(AND(D27<>"",U27=""),"Abwesenheit unbekannt",IF(N27-N(H27)>600,"über 10 Std. (§ 3 ArbZG)",IF(AND(N27>0,N(G27)<O27),IF(PauseErgaenzen="ja","Pause ergänzt (§ 4 ArbZG)","Pause zu kurz (§ 4 ArbZG)"),IF(AND(E27<>"",N(P26)>0,A27+E27-N(P26)<11/24-1/2880),"Ruhezeit unter 11 Std. (§ 5 ArbZG)",IF(AND(S27="",N(J27)>0,A27<TODAY()),"kein Eintrag","")))))))) | N27: =IF(OR(A27="",E27="",F27=""),0,ROUND(MOD(F27-E27,1)*1440,0)) | O27: =MIN(MAX(N27-360,0),30)+MIN(MAX(N27-570,0),15) | P27: =IF(N27=0,"",A27+F27+IF(F27<E27,1,0)) | Q27: =IF(OR(U27="",N(J27)=0),0,INDEX(Abw_Urlaub,U27)) | R27: =IF(OR(U27="",N(J27)=0),0,INDEX(Abw_Krank,U27)) | S27: =IF(AND(A27<>"",OR(D27<>"",E27<>"",F27<>"")),A27,"") | T27: =IF(A27="",0,INDEX(SollWoche,WEEKDAY(A27,2))) | U27: =IF(D27="","",IFERROR(MATCH(D27,Abw_Namen,0),""))
A28: =IF(MONTH(DATE(Jahr,1,22))=1,DATE(Jahr,1,22),"") | B28: =IF(A28="","",CHOOSE(WEEKDAY(A28,2),"Mo","Di","Mi","Do","Fr","Sa","So")) | C28: =IF(A28="","",IFERROR(INDEX(FT_Name,MATCH(A28,FT_DatumGilt,0)),"")) | H28: =IF(N28=0,"",IF(PauseErgaenzen="ja",MAX(N(G28),O28),N(G28))) | I28: =IF(OR(J28="",S28=""),"",(N28-N(H28))/60+IF(U28="",0,INDEX(Abw_Gutschrift,U28))*J28) | J28: =IF(OR(A28="",A28<Beginn),"",IF(OR(C28<>"",IF(U28="",FALSE,INDEX(Abw_SollEntfaellt,U28)="ja")),0,T28)) | K28: =IF(J28="","",IF(S28="",IF(OR(A28>=TODAY(),OhneEintragMinus<>"ja",J28=0),"",-J28),I28-J28)) | L28: =IF(A28="","",IF(AND(E28<>"",F28=""),IF(A28<TODAY(),"Gehen fehlt",""),IF(AND(F28<>"",E28=""),"Kommen fehlt",IF(AND(D28<>"",U28=""),"Abwesenheit unbekannt",IF(N28-N(H28)>600,"über 10 Std. (§ 3 ArbZG)",IF(AND(N28>0,N(G28)<O28),IF(PauseErgaenzen="ja","Pause ergänzt (§ 4 ArbZG)","Pause zu kurz (§ 4 ArbZG)"),IF(AND(E28<>"",N(P27)>0,A28+E28-N(P27)<11/24-1/2880),"Ruhezeit unter 11 Std. (§ 5 ArbZG)",IF(AND(S28="",N(J28)>0,A28<TODAY()),"kein Eintrag","")))))))) | N28: =IF(OR(A28="",E28="",F28=""),0,ROUND(MOD(F28-E28,1)*1440,0)) | O28: =MIN(MAX(N28-360,0),30)+MIN(MAX(N28-570,0),15) | P28: =IF(N28=0,"",A28+F28+IF(F28<E28,1,0)) | Q28: =IF(OR(U28="",N(J28)=0),0,INDEX(Abw_Urlaub,U28)) | R28: =IF(OR(U28="",N(J28)=0),0,INDEX(Abw_Krank,U28)) | S28: =IF(AND(A28<>"",OR(D28<>"",E28<>"",F28<>"")),A28,"") | T28: =IF(A28="",0,INDEX(SollWoche,WEEKDAY(A28,2))) | U28: =IF(D28="","",IFERROR(MATCH(D28,Abw_Namen,0),""))
A29: =IF(MONTH(DATE(Jahr,1,23))=1,DATE(Jahr,1,23),"") | B29: =IF(A29="","",CHOOSE(WEEKDAY(A29,2),"Mo","Di","Mi","Do","Fr","Sa","So")) | C29: =IF(A29="","",IFERROR(INDEX(FT_Name,MATCH(A29,FT_DatumGilt,0)),"")) | H29: =IF(N29=0,"",IF(PauseErgaenzen="ja",MAX(N(G29),O29),N(G29))) | I29: =IF(OR(J29="",S29=""),"",(N29-N(H29))/60+IF(U29="",0,INDEX(Abw_Gutschrift,U29))*J29) | J29: =IF(OR(A29="",A29<Beginn),"",IF(OR(C29<>"",IF(U29="",FALSE,INDEX(Abw_SollEntfaellt,U29)="ja")),0,T29)) | K29: =IF(J29="","",IF(S29="",IF(OR(A29>=TODAY(),OhneEintragMinus<>"ja",J29=0),"",-J29),I29-J29)) | L29: =IF(A29="","",IF(AND(E29<>"",F29=""),IF(A29<TODAY(),"Gehen fehlt",""),IF(AND(F29<>"",E29=""),"Kommen fehlt",IF(AND(D29<>"",U29=""),"Abwesenheit unbekannt",IF(N29-N(H29)>600,"über 10 Std. (§ 3 ArbZG)",IF(AND(N29>0,N(G29)<O29),IF(PauseErgaenzen="ja","Pause ergänzt (§ 4 ArbZG)","Pause zu kurz (§ 4 ArbZG)"),IF(AND(E29<>"",N(P28)>0,A29+E29-N(P28)<11/24-1/2880),"Ruhezeit unter 11 Std. (§ 5 ArbZG)",IF(AND(S29="",N(J29)>0,A29<TODAY()),"kein Eintrag","")))))))) | N29: =IF(OR(A29="",E29="",F29=""),0,ROUND(MOD(F29-E29,1)*1440,0)) | O29: =MIN(MAX(N29-360,0),30)+MIN(MAX(N29-570,0),15) | P29: =IF(N29=0,"",A29+F29+IF(F29<E29,1,0)) | Q29: =IF(OR(U29="",N(J29)=0),0,INDEX(Abw_Urlaub,U29)) | R29: =IF(OR(U29="",N(J29)=0),0,INDEX(Abw_Krank,U29)) | S29: =IF(AND(A29<>"",OR(D29<>"",E29<>"",F29<>"")),A29,"") | T29: =IF(A29="",0,INDEX(SollWoche,WEEKDAY(A29,2))) | U29: =IF(D29="","",IFERROR(MATCH(D29,Abw_Namen,0),""))
A30: =IF(MONTH(DATE(Jahr,1,24))=1,DATE(Jahr,1,24),"") | B30: =IF(A30="","",CHOOSE(WEEKDAY(A30,2),"Mo","Di","Mi","Do","Fr","Sa","So")) | C30: =IF(A30="","",IFERROR(INDEX(FT_Name,MATCH(A30,FT_DatumGilt,0)),"")) | H30: =IF(N30=0,"",IF(PauseErgaenzen="ja",MAX(N(G30),O30),N(G30))) | I30: =IF(OR(J30="",S30=""),"",(N30-N(H30))/60+IF(U30="",0,INDEX(Abw_Gutschrift,U30))*J30) | J30: =IF(OR(A30="",A30<Beginn),"",IF(OR(C30<>"",IF(U30="",FALSE,INDEX(Abw_SollEntfaellt,U30)="ja")),0,T30)) | K30: =IF(J30="","",IF(S30="",IF(OR(A30>=TODAY(),OhneEintragMinus<>"ja",J30=0),"",-J30),I30-J30)) | L30: =IF(A30="","",IF(AND(E30<>"",F30=""),IF(A30<TODAY(),"Gehen fehlt",""),IF(AND(F30<>"",E30=""),"Kommen fehlt",IF(AND(D30<>"",U30=""),"Abwesenheit unbekannt",IF(N30-N(H30)>600,"über 10 Std. (§ 3 ArbZG)",IF(AND(N30>0,N(G30)<O30),IF(PauseErgaenzen="ja","Pause ergänzt (§ 4 ArbZG)","Pause zu kurz (§ 4 ArbZG)"),IF(AND(E30<>"",N(P29)>0,A30+E30-N(P29)<11/24-1/2880),"Ruhezeit unter 11 Std. (§ 5 ArbZG)",IF(AND(S30="",N(J30)>0,A30<TODAY()),"kein Eintrag","")))))))) | N30: =IF(OR(A30="",E30="",F30=""),0,ROUND(MOD(F30-E30,1)*1440,0)) | O30: =MIN(MAX(N30-360,0),30)+MIN(MAX(N30-570,0),15) | P30: =IF(N30=0,"",A30+F30+IF(F30<E30,1,0)) | Q30: =IF(OR(U30="",N(J30)=0),0,INDEX(Abw_Urlaub,U30)) | R30: =IF(OR(U30="",N(J30)=0),0,INDEX(Abw_Krank,U30)) | S30: =IF(AND(A30<>"",OR(D30<>"",E30<>"",F30<>"")),A30,"") | T30: =IF(A30="",0,INDEX(SollWoche,WEEKDAY(A30,2))) | U30: =IF(D30="","",IFERROR(MATCH(D30,Abw_Namen,0),""))
A31: =IF(MONTH(DATE(Jahr,1,25))=1,DATE(Jahr,1,25),"") | B31: =IF(A31="","",CHOOSE(WEEKDAY(A31,2),"Mo","Di","Mi","Do","Fr","Sa","So")) | C31: =IF(A31="","",IFERROR(INDEX(FT_Name,MATCH(A31,FT_DatumGilt,0)),"")) | H31: =IF(N31=0,"",IF(PauseErgaenzen="ja",MAX(N(G31),O31),N(G31))) | I31: =IF(OR(J31="",S31=""),"",(N31-N(H31))/60+IF(U31="",0,INDEX(Abw_Gutschrift,U31))*J31) | J31: =IF(OR(A31="",A31<Beginn),"",IF(OR(C31<>"",IF(U31="",FALSE,INDEX(Abw_SollEntfaellt,U31)="ja")),0,T31)) | K31: =IF(J31="","",IF(S31="",IF(OR(A31>=TODAY(),OhneEintragMinus<>"ja",J31=0),"",-J31),I31-J31)) | L31: =IF(A31="","",IF(AND(E31<>"",F31=""),IF(A31<TODAY(),"Gehen fehlt",""),IF(AND(F31<>"",E31=""),"Kommen fehlt",IF(AND(D31<>"",U31=""),"Abwesenheit unbekannt",IF(N31-N(H31)>600,"über 10 Std. (§ 3 ArbZG)",IF(AND(N31>0,N(G31)<O31),IF(PauseErgaenzen="ja","Pause ergänzt (§ 4 ArbZG)","Pause zu kurz (§ 4 ArbZG)"),IF(AND(E31<>"",N(P30)>0,A31+E31-N(P30)<11/24-1/2880),"Ruhezeit unter 11 Std. (§ 5 ArbZG)",IF(AND(S31="",N(J31)>0,A31<TODAY()),"kein Eintrag","")))))))) | N31: =IF(OR(A31="",E31="",F31=""),0,ROUND(MOD(F31-E31,1)*1440,0)) | O31: =MIN(MAX(N31-360,0),30)+MIN(MAX(N31-570,0),15) | P31: =IF(N31=0,"",A31+F31+IF(F31<E31,1,0)) | Q31: =IF(OR(U31="",N(J31)=0),0,INDEX(Abw_Urlaub,U31)) | R31: =IF(OR(U31="",N(J31)=0),0,INDEX(Abw_Krank,U31)) | S31: =IF(AND(A31<>"",OR(D31<>"",E31<>"",F31<>"")),A31,"") | T31: =IF(A31="",0,INDEX(SollWoche,WEEKDAY(A31,2))) | U31: =IF(D31="","",IFERROR(MATCH(D31,Abw_Namen,0),""))
A32: =IF(MONTH(DATE(Jahr,1,26))=1,DATE(Jahr,1,26),"") | B32: =IF(A32="","",CHOOSE(WEEKDAY(A32,2),"Mo","Di","Mi","Do","Fr","Sa","So")) | C32: =IF(A32="","",IFERROR(INDEX(FT_Name,MATCH(A32,FT_DatumGilt,0)),"")) | H32: =IF(N32=0,"",IF(PauseErgaenzen="ja",MAX(N(G32),O32),N(G32))) | I32: =IF(OR(J32="",S32=""),"",(N32-N(H32))/60+IF(U32="",0,INDEX(Abw_Gutschrift,U32))*J32) | J32: =IF(OR(A32="",A32<Beginn),"",IF(OR(C32<>"",IF(U32="",FALSE,INDEX(Abw_SollEntfaellt,U32)="ja")),0,T32)) | K32: =IF(J32="","",IF(S32="",IF(OR(A32>=TODAY(),OhneEintragMinus<>"ja",J32=0),"",-J32),I32-J32)) | L32: =IF(A32="","",IF(AND(E32<>"",F32=""),IF(A32<TODAY(),"Gehen fehlt",""),IF(AND(F32<>"",E32=""),"Kommen fehlt",IF(AND(D32<>"",U32=""),"Abwesenheit unbekannt",IF(N32-N(H32)>600,"über 10 Std. (§ 3 ArbZG)",IF(AND(N32>0,N(G32)<O32),IF(PauseErgaenzen="ja","Pause ergänzt (§ 4 ArbZG)","Pause zu kurz (§ 4 ArbZG)"),IF(AND(E32<>"",N(P31)>0,A32+E32-N(P31)<11/24-1/2880),"Ruhezeit unter 11 Std. (§ 5 ArbZG)",IF(AND(S32="",N(J32)>0,A32<TODAY()),"kein Eintrag","")))))))) | N32: =IF(OR(A32="",E32="",F32=""),0,ROUND(MOD(F32-E32,1)*1440,0)) | O32: =MIN(MAX(N32-360,0),30)+MIN(MAX(N32-570,0),15) | P32: =IF(N32=0,"",A32+F32+IF(F32<E32,1,0)) | Q32: =IF(OR(U32="",N(J32)=0),0,INDEX(Abw_Urlaub,U32)) | R32: =IF(OR(U32="",N(J32)=0),0,INDEX(Abw_Krank,U32)) | S32: =IF(AND(A32<>"",OR(D32<>"",E32<>"",F32<>"")),A32,"") | T32: =IF(A32="",0,INDEX(SollWoche,WEEKDAY(A32,2))) | U32: =IF(D32="","",IFERROR(MATCH(D32,Abw_Namen,0),""))
A33: =IF(MONTH(DATE(Jahr,1,27))=1,DATE(Jahr,1,27),"") | B33: =IF(A33="","",CHOOSE(WEEKDAY(A33,2),"Mo","Di","Mi","Do","Fr","Sa","So")) | C33: =IF(A33="","",IFERROR(INDEX(FT_Name,MATCH(A33,FT_DatumGilt,0)),"")) | H33: =IF(N33=0,"",IF(PauseErgaenzen="ja",MAX(N(G33),O33),N(G33))) | I33: =IF(OR(J33="",S33=""),"",(N33-N(H33))/60+IF(U33="",0,INDEX(Abw_Gutschrift,U33))*J33) | J33: =IF(OR(A33="",A33<Beginn),"",IF(OR(C33<>"",IF(U33="",FALSE,INDEX(Abw_SollEntfaellt,U33)="ja")),0,T33)) | K33: =IF(J33="","",IF(S33="",IF(OR(A33>=TODAY(),OhneEintragMinus<>"ja",J33=0),"",-J33),I33-J33)) | L33: =IF(A33="","",IF(AND(E33<>"",F33=""),IF(A33<TODAY(),"Gehen fehlt",""),IF(AND(F33<>"",E33=""),"Kommen fehlt",IF(AND(D33<>"",U33=""),"Abwesenheit unbekannt",IF(N33-N(H33)>600,"über 10 Std. (§ 3 ArbZG)",IF(AND(N33>0,N(G33)<O33),IF(PauseErgaenzen="ja","Pause ergänzt (§ 4 ArbZG)","Pause zu kurz (§ 4 ArbZG)"),IF(AND(E33<>"",N(P32)>0,A33+E33-N(P32)<11/24-1/2880),"Ruhezeit unter 11 Std. (§ 5 ArbZG)",IF(AND(S33="",N(J33)>0,A33<TODAY()),"kein Eintrag","")))))))) | N33: =IF(OR(A33="",E33="",F33=""),0,ROUND(MOD(F33-E33,1)*1440,0)) | O33: =MIN(MAX(N33-360,0),30)+MIN(MAX(N33-570,0),15) | P33: =IF(N33=0,"",A33+F33+IF(F33<E33,1,0)) | Q33: =IF(OR(U33="",N(J33)=0),0,INDEX(Abw_Urlaub,U33)) | R33: =IF(OR(U33="",N(J33)=0),0,INDEX(Abw_Krank,U33)) | S33: =IF(AND(A33<>"",OR(D33<>"",E33<>"",F33<>"")),A33,"") | T33: =IF(A33="",0,INDEX(SollWoche,WEEKDAY(A33,2))) | U33: =IF(D33="","",IFERROR(MATCH(D33,Abw_Namen,0),""))
A34: =IF(MONTH(DATE(Jahr,1,28))=1,DATE(Jahr,1,28),"") | B34: =IF(A34="","",CHOOSE(WEEKDAY(A34,2),"Mo","Di","Mi","Do","Fr","Sa","So")) | C34: =IF(A34="","",IFERROR(INDEX(FT_Name,MATCH(A34,FT_DatumGilt,0)),"")) | H34: =IF(N34=0,"",IF(PauseErgaenzen="ja",MAX(N(G34),O34),N(G34))) | I34: =IF(OR(J34="",S34=""),"",(N34-N(H34))/60+IF(U34="",0,INDEX(Abw_Gutschrift,U34))*J34) | J34: =IF(OR(A34="",A34<Beginn),"",IF(OR(C34<>"",IF(U34="",FALSE,INDEX(Abw_SollEntfaellt,U34)="ja")),0,T34)) | K34: =IF(J34="","",IF(S34="",IF(OR(A34>=TODAY(),OhneEintragMinus<>"ja",J34=0),"",-J34),I34-J34)) | L34: =IF(A34="","",IF(AND(E34<>"",F34=""),IF(A34<TODAY(),"Gehen fehlt",""),IF(AND(F34<>"",E34=""),"Kommen fehlt",IF(AND(D34<>"",U34=""),"Abwesenheit unbekannt",IF(N34-N(H34)>600,"über 10 Std. (§ 3 ArbZG)",IF(AND(N34>0,N(G34)<O34),IF(PauseErgaenzen="ja","Pause ergänzt (§ 4 ArbZG)","Pause zu kurz (§ 4 ArbZG)"),IF(AND(E34<>"",N(P33)>0,A34+E34-N(P33)<11/24-1/2880),"Ruhezeit unter 11 Std. (§ 5 ArbZG)",IF(AND(S34="",N(J34)>0,A34<TODAY()),"kein Eintrag","")))))))) | N34: =IF(OR(A34="",E34="",F34=""),0,ROUND(MOD(F34-E34,1)*1440,0)) | O34: =MIN(MAX(N34-360,0),30)+MIN(MAX(N34-570,0),15) | P34: =IF(N34=0,"",A34+F34+IF(F34<E34,1,0)) | Q34: =IF(OR(U34="",N(J34)=0),0,INDEX(Abw_Urlaub,U34)) | R34: =IF(OR(U34="",N(J34)=0),0,INDEX(Abw_Krank,U34)) | S34: =IF(AND(A34<>"",OR(D34<>"",E34<>"",F34<>"")),A34,"") | T34: =IF(A34="",0,INDEX(SollWoche,WEEKDAY(A34,2))) | U34: =IF(D34="","",IFERROR(MATCH(D34,Abw_Namen,0),""))
A35: =IF(MONTH(DATE(Jahr,1,29))=1,DATE(Jahr,1,29),"") | B35: =IF(A35="","",CHOOSE(WEEKDAY(A35,2),"Mo","Di","Mi","Do","Fr","Sa","So")) | C35: =IF(A35="","",IFERROR(INDEX(FT_Name,MATCH(A35,FT_DatumGilt,0)),"")) | H35: =IF(N35=0,"",IF(PauseErgaenzen="ja",MAX(N(G35),O35),N(G35))) | I35: =IF(OR(J35="",S35=""),"",(N35-N(H35))/60+IF(U35="",0,INDEX(Abw_Gutschrift,U35))*J35) | J35: =IF(OR(A35="",A35<Beginn),"",IF(OR(C35<>"",IF(U35="",FALSE,INDEX(Abw_SollEntfaellt,U35)="ja")),0,T35)) | K35: =IF(J35="","",IF(S35="",IF(OR(A35>=TODAY(),OhneEintragMinus<>"ja",J35=0),"",-J35),I35-J35)) | L35: =IF(A35="","",IF(AND(E35<>"",F35=""),IF(A35<TODAY(),"Gehen fehlt",""),IF(AND(F35<>"",E35=""),"Kommen fehlt",IF(AND(D35<>"",U35=""),"Abwesenheit unbekannt",IF(N35-N(H35)>600,"über 10 Std. (§ 3 ArbZG)",IF(AND(N35>0,N(G35)<O35),IF(PauseErgaenzen="ja","Pause ergänzt (§ 4 ArbZG)","Pause zu kurz (§ 4 ArbZG)"),IF(AND(E35<>"",N(P34)>0,A35+E35-N(P34)<11/24-1/2880),"Ruhezeit unter 11 Std. (§ 5 ArbZG)",IF(AND(S35="",N(J35)>0,A35<TODAY()),"kein Eintrag","")))))))) | N35: =IF(OR(A35="",E35="",F35=""),0,ROUND(MOD(F35-E35,1)*1440,0)) | O35: =MIN(MAX(N35-360,0),30)+MIN(MAX(N35-570,0),15) | P35: =IF(N35=0,"",A35+F35+IF(F35<E35,1,0)) | Q35: =IF(OR(U35="",N(J35)=0),0,INDEX(Abw_Urlaub,U35)) | R35: =IF(OR(U35="",N(J35)=0),0,INDEX(Abw_Krank,U35)) | S35: =IF(AND(A35<>"",OR(D35<>"",E35<>"",F35<>"")),A35,"") | T35: =IF(A35="",0,INDEX(SollWoche,WEEKDAY(A35,2))) | U35: =IF(D35="","",IFERROR(MATCH(D35,Abw_Namen,0),""))
A36: =IF(MONTH(DATE(Jahr,1,30))=1,DATE(Jahr,1,30),"") | B36: =IF(A36="","",CHOOSE(WEEKDAY(A36,2),"Mo","Di","Mi","Do","Fr","Sa","So")) | C36: =IF(A36="","",IFERROR(INDEX(FT_Name,MATCH(A36,FT_DatumGilt,0)),"")) | H36: =IF(N36=0,"",IF(PauseErgaenzen="ja",MAX(N(G36),O36),N(G36))) | I36: =IF(OR(J36="",S36=""),"",(N36-N(H36))/60+IF(U36="",0,INDEX(Abw_Gutschrift,U36))*J36) | J36: =IF(OR(A36="",A36<Beginn),"",IF(OR(C36<>"",IF(U36="",FALSE,INDEX(Abw_SollEntfaellt,U36)="ja")),0,T36)) | K36: =IF(J36="","",IF(S36="",IF(OR(A36>=TODAY(),OhneEintragMinus<>"ja",J36=0),"",-J36),I36-J36)) | L36: =IF(A36="","",IF(AND(E36<>"",F36=""),IF(A36<TODAY(),"Gehen fehlt",""),IF(AND(F36<>"",E36=""),"Kommen fehlt",IF(AND(D36<>"",U36=""),"Abwesenheit unbekannt",IF(N36-N(H36)>600,"über 10 Std. (§ 3 ArbZG)",IF(AND(N36>0,N(G36)<O36),IF(PauseErgaenzen="ja","Pause ergänzt (§ 4 ArbZG)","Pause zu kurz (§ 4 ArbZG)"),IF(AND(E36<>"",N(P35)>0,A36+E36-N(P35)<11/24-1/2880),"Ruhezeit unter 11 Std. (§ 5 ArbZG)",IF(AND(S36="",N(J36)>0,A36<TODAY()),"kein Eintrag","")))))))) | N36: =IF(OR(A36="",E36="",F36=""),0,ROUND(MOD(F36-E36,1)*1440,0)) | O36: =MIN(MAX(N36-360,0),30)+MIN(MAX(N36-570,0),15) | P36: =IF(N36=0,"",A36+F36+IF(F36<E36,1,0)) | Q36: =IF(OR(U36="",N(J36)=0),0,INDEX(Abw_Urlaub,U36)) | R36: =IF(OR(U36="",N(J36)=0),0,INDEX(Abw_Krank,U36)) | S36: =IF(AND(A36<>"",OR(D36<>"",E36<>"",F36<>"")),A36,"") | T36: =IF(A36="",0,INDEX(SollWoche,WEEKDAY(A36,2))) | U36: =IF(D36="","",IFERROR(MATCH(D36,Abw_Namen,0),""))
A37: =IF(MONTH(DATE(Jahr,1,31))=1,DATE(Jahr,1,31),"") | B37: =IF(A37="","",CHOOSE(WEEKDAY(A37,2),"Mo","Di","Mi","Do","Fr","Sa","So")) | C37: =IF(A37="","",IFERROR(INDEX(FT_Name,MATCH(A37,FT_DatumGilt,0)),"")) | H37: =IF(N37=0,"",IF(PauseErgaenzen="ja",MAX(N(G37),O37),N(G37))) | I37: =IF(OR(J37="",S37=""),"",(N37-N(H37))/60+IF(U37="",0,INDEX(Abw_Gutschrift,U37))*J37) | J37: =IF(OR(A37="",A37<Beginn),"",IF(OR(C37<>"",IF(U37="",FALSE,INDEX(Abw_SollEntfaellt,U37)="ja")),0,T37)) | K37: =IF(J37="","",IF(S37="",IF(OR(A37>=TODAY(),OhneEintragMinus<>"ja",J37=0),"",-J37),I37-J37)) | L37: =IF(A37="","",IF(AND(E37<>"",F37=""),IF(A37<TODAY(),"Gehen fehlt",""),IF(AND(F37<>"",E37=""),"Kommen fehlt",IF(AND(D37<>"",U37=""),"Abwesenheit unbekannt",IF(N37-N(H37)>600,"über 10 Std. (§ 3 ArbZG)",IF(AND(N37>0,N(G37)<O37),IF(PauseErgaenzen="ja","Pause ergänzt (§ 4 ArbZG)","Pause zu kurz (§ 4 ArbZG)"),IF(AND(E37<>"",N(P36)>0,A37+E37-N(P36)<11/24-1/2880),"Ruhezeit unter 11 Std. (§ 5 ArbZG)",IF(AND(S37="",N(J37)>0,A37<TODAY()),"kein Eintrag","")))))))) | N37: =IF(OR(A37="",E37="",F37=""),0,ROUND(MOD(F37-E37,1)*1440,0)) | O37: =MIN(MAX(N37-360,0),30)+MIN(MAX(N37-570,0),15) | P37: =IF(N37=0,"",A37+F37+IF(F37<E37,1,0)) | Q37: =IF(OR(U37="",N(J37)=0),0,INDEX(Abw_Urlaub,U37)) | R37: =IF(OR(U37="",N(J37)=0),0,INDEX(Abw_Krank,U37)) | S37: =IF(AND(A37<>"",OR(D37<>"",E37<>"",F37<>"")),A37,"") | T37: =IF(A37="",0,INDEX(SollWoche,WEEKDAY(A37,2))) | U37: =IF(D37="","",IFERROR(MATCH(D37,Abw_Namen,0),""))
A40: Datum, Unterschrift Mitarbeiter | H40: Datum, Unterschrift Arbeitgeber

Sheet Februar
A1: ="Stundenzettel Februar "&Jahr
A2: Kostenlose Vorlage von ExcelDok · exceldok.de · hellgelb eintragen, grau rechnet selbst · Erklärung im Blatt Anleitung
A3: Mitarbeiter | D3: Zeitkonto Vormonat | E3: Urlaub (Tage) | F3: Rest-urlaub | G3: Krank (Tage) | H3: Hinweise | I3: Ist | J3: Soll | K3: Saldo Monat | L3: Zeitkonto am Monatsende
A4: =IF(Name="","(Name in den Einstellungen)",Name) | D4: ='Januar'!$L$4 | E4: =SUM(Q7:Q37) | F4: ='Januar'!$F$4-E4 | G4: =SUM(R7:R37) | H4: =COUNTIF(L7:L37,"?*") | I4: =SUM(I7:I37) | J4: =SUMPRODUCT(--(K7:K37<>""),J7:J37) | K4: =SUM(K7:K37) | L4: =D4+K4
A6: Datum | B6: Tag | C6: Feiertag | D6: Abwesenheit | E6: Kommen | F6: Gehen | G6: Pause (Min.) | H6: Pause gezählt | I6: Ist (Std.) | J6: Soll (Std.) | K6: Saldo (Std.) | L6: Hinweis | M6: Bemerkung / Projekt | N6: Brutto (Min.) | O6: Mindestpause | P6: Ende | Q6: Urlaubstage | R6: Krankheitstage | S6: Eintrag | T6: Sollbasis | U6: Abw.-Nr.
A7: =IF(MONTH(DATE(Jahr,2,1))=2,DATE(Jahr,2,1),"") | B7: =IF(A7="","",CHOOSE(WEEKDAY(A7,2),"Mo","Di","Mi","Do","Fr","Sa","So")) | C7: =IF(A7="","",IFERROR(INDEX(FT_Name,MATCH(A7,FT_DatumGilt,0)),"")) | H7: =IF(N7=0,"",IF(PauseErgaenzen="ja",MAX(N(G7),O7),N(G7))) | I7: =IF(OR(J7="",S7=""),"",(N7-N(H7))/60+IF(U7="",0,INDEX(Abw_Gutschrift,U7))*J7) | J7: =IF(OR(A7="",A7<Beginn),"",IF(OR(C7<>"",IF(U7="",FALSE,INDEX(Abw_SollEntfaellt,U7)="ja")),0,T7)) | K7: =IF(J7="","",IF(S7="",IF(OR(A7>=TODAY(),OhneEintragMinus<>"ja",J7=0),"",-J7),I7-J7)) | L7: =IF(A7="","",IF(AND(E7<>"",F7=""),IF(A7<TODAY(),"Gehen fehlt",""),IF(AND(F7<>"",E7=""),"Kommen fehlt",IF(AND(D7<>"",U7=""),"Abwesenheit unbekannt",IF(N7-N(H7)>600,"über 10 Std. (§ 3 ArbZG)",IF(AND(N7>0,N(G7)<O7),IF(PauseErgaenzen="ja","Pause ergänzt (§ 4 ArbZG)","Pause zu kurz (§ 4 ArbZG)"),IF(AND(E7<>"",MAX('Januar'!$P$7:$P$37)>0,A7+E7-MAX('Januar'!$P$7:$P$37)<11/24-1/2880),"Ruhezeit unter 11 Std. (§ 5 ArbZG)",IF(AND(S7="",N(J7)>0,A7<TODAY()),"kein Eintrag","")))))))) | N7: =IF(OR(A7="",E7="",F7=""),0,ROUND(MOD(F7-E7,1)*1440,0)) | O7: =MIN(MAX(N7-360,0),30)+MIN(MAX(N7-570,0),15) | P7: =IF(N7=0,"",A7+F7+IF(F7<E7,1,0)) | Q7: =IF(OR(U7="",N(J7)=0),0,INDEX(Abw_Urlaub,U7)) | R7: =IF(OR(U7="",N(J7)=0),0,INDEX(Abw_Krank,U7)) | S7: =IF(AND(A7<>"",OR(D7<>"",E7<>"",F7<>"")),A7,"") | T7: =IF(A7="",0,INDEX(SollWoche,WEEKDAY(A7,2))) | U7: =IF(D7="","",IFERROR(MATCH(D7,Abw_Namen,0),""))
A8: =IF(MONTH(DATE(Jahr,2,2))=2,DATE(Jahr,2,2),"") | B8: =IF(A8="","",CHOOSE(WEEKDAY(A8,2),"Mo","Di","Mi","Do","Fr","Sa","So")) | C8: =IF(A8="","",IFERROR(INDEX(FT_Name,MATCH(A8,FT_DatumGilt,0)),"")) | H8: =IF(N8=0,"",IF(PauseErgaenzen="ja",MAX(N(G8),O8),N(G8))) | I8: =IF(OR(J8="",S8=""),"",(N8-N(H8))/60+IF(U8="",0,INDEX(Abw_Gutschrift,U8))*J8) | J8: =IF(OR(A8="",A8<Beginn),"",IF(OR(C8<>"",IF(U8="",FALSE,INDEX(Abw_SollEntfaellt,U8)="ja")),0,T8)) | K8: =IF(J8="","",IF(S8="",IF(OR(A8>=TODAY(),OhneEintragMinus<>"ja",J8=0),"",-J8),I8-J8)) | L8: =IF(A8="","",IF(AND(E8<>"",F8=""),IF(A8<TODAY(),"Gehen fehlt",""),IF(AND(F8<>"",E8=""),"Kommen fehlt",IF(AND(D8<>"",U8=""),"Abwesenheit unbekannt",IF(N8-N(H8)>600,"über 10 Std. (§ 3 ArbZG)",IF(AND(N8>0,N(G8)<O8),IF(PauseErgaenzen="ja","Pause ergänzt (§ 4 ArbZG)","Pause zu kurz (§ 4 ArbZG)"),IF(AND(E8<>"",N(P7)>0,A8+E8-N(P7)<11/24-1/2880),"Ruhezeit unter 11 Std. (§ 5 ArbZG)",IF(AND(S8="",N(J8)>0,A8<TODAY()),"kein Eintrag","")))))))) | N8: =IF(OR(A8="",E8="",F8=""),0,ROUND(MOD(F8-E8,1)*1440,0)) | O8: =MIN(MAX(N8-360,0),30)+MIN(MAX(N8-570,0),15) | P8: =IF(N8=0,"",A8+F8+IF(F8<E8,1,0)) | Q8: =IF(OR(U8="",N(J8)=0),0,INDEX(Abw_Urlaub,U8)) | R8: =IF(OR(U8="",N(J8)=0),0,INDEX(Abw_Krank,U8)) | S8: =IF(AND(A8<>"",OR(D8<>"",E8<>"",F8<>"")),A8,"") | T8: =IF(A8="",0,INDEX(SollWoche,WEEKDAY(A8,2))) | U8: =IF(D8="","",IFERROR(MATCH(D8,Abw_Namen,0),""))
A9: =IF(MONTH(DATE(Jahr,2,3))=2,DATE(Jahr,2,3),"") | B9: =IF(A9="","",CHOOSE(WEEKDAY(A9,2),"Mo","Di","Mi","Do","Fr","Sa","So")) | C9: =IF(A9="","",IFERROR(INDEX(FT_Name,MATCH(A9,FT_DatumGilt,0)),"")) | H9: =IF(N9=0,"",IF(PauseErgaenzen="ja",MAX(N(G9),O9),N(G9))) | I9: =IF(OR(J9="",S9=""),"",(N9-N(H9))/60+IF(U9="",0,INDEX(Abw_Gutschrift,U9))*J9) | J9: =IF(OR(A9="",A9<Beginn),"",IF(OR(C9<>"",IF(U9="",FALSE,INDEX(Abw_SollEntfaellt,U9)="ja")),0,T9)) | K9: =IF(J9="","",IF(S9="",IF(OR(A9>=TODAY(),OhneEintragMinus<>"ja",J9=0),"",-J9),I9-J9)) | L9: =IF(A9="","",IF(AND(E9<>"",F9=""),IF(A9<TODAY(),"Gehen fehlt",""),IF(AND(F9<>"",E9=""),"Kommen fehlt",IF(AND(D9<>"",U9=""),"Abwesenheit unbekannt",IF(N9-N(H9)>600,"über 10 Std. (§ 3 ArbZG)",IF(AND(N9>0,N(G9)<O9),IF(PauseErgaenzen="ja","Pause ergänzt (§ 4 ArbZG)","Pause zu kurz (§ 4 ArbZG)"),IF(AND(E9<>"",N(P8)>0,A9+E9-N(P8)<11/24-1/2880),"Ruhezeit unter 11 Std. (§ 5 ArbZG)",IF(AND(S9="",N(J9)>0,A9<TODAY()),"kein Eintrag","")))))))) | N9: =IF(OR(A9="",E9="",F9=""),0,ROUND(MOD(F9-E9,1)*1440,0)) | O9: =MIN(MAX(N9-360,0),30)+MIN(MAX(N9-570,0),15) | P9: =IF(N9=0,"",A9+F9+IF(F9<E9,1,0)) | Q9: =IF(OR(U9="",N(J9)=0),0,INDEX(Abw_Urlaub,U9)) | R9: =IF(OR(U9="",N(J9)=0),0,INDEX(Abw_Krank,U9)) | S9: =IF(AND(A9<>"",OR(D9<>"",E9<>"",F9<>"")),A9,"") | T9: =IF(A9="",0,INDEX(SollWoche,WEEKDAY(A9,2))) | U9: =IF(D9="","",IFERROR(MATCH(D9,Abw_Namen,0),""))
A10: =IF(MONTH(DATE(Jahr,2,4))=2,DATE(Jahr,2,4),"") | B10: =IF(A10="","",CHOOSE(WEEKDAY(A10,2),"Mo","Di","Mi","Do","Fr","Sa","So")) | C10: =IF(A10="","",IFERROR(INDEX(FT_Name,MATCH(A10,FT_DatumGilt,0)),"")) | H10: =IF(N10=0,"",IF(PauseErgaenzen="ja",MAX(N(G10),O10),N(G10))) | I10: =IF(OR(J10="",S10=""),"",(N10-N(H10))/60+IF(U10="",0,INDEX(Abw_Gutschrift,U10))*J10) | J10: =IF(OR(A10="",A10<Beginn),"",IF(OR(C10<>"",IF(U10="",FALSE,INDEX(Abw_SollEntfaellt,U10)="ja")),0,T10)) | K10: =IF(J10="","",IF(S10="",IF(OR(A10>=TODAY(),OhneEintragMinus<>"ja",J10=0),"",-J10),I10-J10)) | L10: =IF(A10="","",IF(AND(E10<>"",F10=""),IF(A10<TODAY(),"Gehen fehlt",""),IF(AND(F10<>"",E10=""),"Kommen fehlt",IF(AND(D10<>"",U10=""),"Abwesenheit unbekannt",IF(N10-N(H10)>600,"über 10 Std. (§ 3 ArbZG)",IF(AND(N10>0,N(G10)<O10),IF(PauseErgaenzen="ja","Pause ergänzt (§ 4 ArbZG)","Pause zu kurz (§ 4 ArbZG)"),IF(AND(E10<>"",N(P9)>0,A10+E10-N(P9)<11/24-1/2880),"Ruhezeit unter 11 Std. (§ 5 ArbZG)",IF(AND(S10="",N(J10)>0,A10<TODAY()),"kein Eintrag","")))))))) | N10: =IF(OR(A10="",E10="",F10=""),0,ROUND(MOD(F10-E10,1)*1440,0)) | O10: =MIN(MAX(N10-360,0),30)+MIN(MAX(N10-570,0),15) | P10: =IF(N10=0,"",A10+F10+IF(F10<E10,1,0)) | Q10: =IF(OR(U10="",N(J10)=0),0,INDEX(Abw_Urlaub,U10)) | R10: =IF(OR(U10="",N(J10)=0),0,INDEX(Abw_Krank,U10)) | S10: =IF(AND(A10<>"",OR(D10<>"",E10<>"",F10<>"")),A10,"") | T10: =IF(A10="",0,INDEX(SollWoche,WEEKDAY(A10,2))) | U10: =IF(D10="","",IFERROR(MATCH(D10,Abw_Namen,0),""))
A11: =IF(MONTH(DATE(Jahr,2,5))=2,DATE(Jahr,2,5),"") | B11: =IF(A11="","",CHOOSE(WEEKDAY(A11,2),"Mo","Di","Mi","Do","Fr","Sa","So")) | C11: =IF(A11="","",IFERROR(INDEX(FT_Name,MATCH(A11,FT_DatumGilt,0)),"")) | H11: =IF(N11=0,"",IF(PauseErgaenzen="ja",MAX(N(G11),O11),N(G11))) | I11: =IF(OR(J11="",S11=""),"",(N11-N(H11))/60+IF(U11="",0,INDEX(Abw_Gutschrift,U11))*J11) | J11: =IF(OR(A11="",A11<Beginn),"",IF(OR(C11<>"",IF(U11="",FALSE,INDEX(Abw_SollEntfaellt,U11)="ja")),0,T11)) | K11: =IF(J11="","",IF(S11="",IF(OR(A11>=TODAY(),OhneEintragMinus<>"ja",J11=0),"",-J11),I11-J11)) | L11: =IF(A11="","",IF(AND(E11<>"",F11=""),IF(A11<TODAY(),"Gehen fehlt",""),IF(AND(F11<>"",E11=""),"Kommen fehlt",IF(AND(D11<>"",U11=""),"Abwesenheit unbekannt",IF(N11-N(H11)>600,"über 10 Std. (§ 3 ArbZG)",IF(AND(N11>0,N(G11)<O11),IF(PauseErgaenzen="ja","Pause ergänzt (§ 4 ArbZG)","Pause zu kurz (§ 4 ArbZG)"),IF(AND(E11<>"",N(P10)>0,A11+E11-N(P10)<11/24-1/2880),"Ruhezeit unter 11 Std. (§ 5 ArbZG)",IF(AND(S11="",N(J11)>0,A11<TODAY()),"kein Eintrag","")))))))) | N11: =IF(OR(A11="",E11="",F11=""),0,ROUND(MOD(F11-E11,1)*1440,0)) | O11: =MIN(MAX(N11-360,0),30)+MIN(MAX(N11-570,0),15) | P11: =IF(N11=0,"",A11+F11+IF(F11<E11,1,0)) | Q11: =IF(OR(U11="",N(J11)=0),0,INDEX(Abw_Urlaub,U11)) | R11: =IF(OR(U11="",N(J11)=0),0,INDEX(Abw_Krank,U11)) | S11: =IF(AND(A11<>"",OR(D11<>"",E11<>"",F11<>"")),A11,"") | T11: =IF(A11="",0,INDEX(SollWoche,WEEKDAY(A11,2))) | U11: =IF(D11="","",IFERROR(MATCH(D11,Abw_Namen,0),""))
A12: =IF(MONTH(DATE(Jahr,2,6))=2,DATE(Jahr,2,6),"") | B12: =IF(A12="","",CHOOSE(WEEKDAY(A12,2),"Mo","Di","Mi","Do","Fr","Sa","So")) | C12: =IF(A12="","",IFERROR(INDEX(FT_Name,MATCH(A12,FT_DatumGilt,0)),"")) | H12: =IF(N12=0,"",IF(PauseErgaenzen="ja",MAX(N(G12),O12),N(G12))) | I12: =IF(OR(J12="",S12=""),"",(N12-N(H12))/60+IF(U12="",0,INDEX(Abw_Gutschrift,U12))*J12) | J12: =IF(OR(A12="",A12<Beginn),"",IF(OR(C12<>"",IF(U12="",FALSE,INDEX(Abw_SollEntfaellt,U12)="ja")),0,T12)) | K12: =IF(J12="","",IF(S12="",IF(OR(A12>=TODAY(),OhneEintragMinus<>"ja",J12=0),"",-J12),I12-J12)) | L12: =IF(A12="","",IF(AND(E12<>"",F12=""),IF(A12<TODAY(),"Gehen fehlt",""),IF(AND(F12<>"",E12=""),"Kommen fehlt",IF(AND(D12<>"",U12=""),"Abwesenheit unbekannt",IF(N12-N(H12)>600,"über 10 Std. (§ 3 ArbZG)",IF(AND(N12>0,N(G12)<O12),IF(PauseErgaenzen="ja","Pause ergänzt (§ 4 ArbZG)","Pause zu kurz (§ 4 ArbZG)"),IF(AND(E12<>"",N(P11)>0,A12+E12-N(P11)<11/24-1/2880),"Ruhezeit unter 11 Std. (§ 5 ArbZG)",IF(AND(S12="",N(J12)>0,A12<TODAY()),"kein Eintrag","")))))))) | N12: =IF(OR(A12="",E12="",F12=""),0,ROUND(MOD(F12-E12,1)*1440,0)) | O12: =MIN(MAX(N12-360,0),30)+MIN(MAX(N12-570,0),15) | P12: =IF(N12=0,"",A12+F12+IF(F12<E12,1,0)) | Q12: =IF(OR(U12="",N(J12)=0),0,INDEX(Abw_Urlaub,U12)) | R12: =IF(OR(U12="",N(J12)=0),0,INDEX(Abw_Krank,U12)) | S12: =IF(AND(A12<>"",OR(D12<>"",E12<>"",F12<>"")),A12,"") | T12: =IF(A12="",0,INDEX(SollWoche,WEEKDAY(A12,2))) | U12: =IF(D12="","",IFERROR(MATCH(D12,Abw_Namen,0),""))
A13: =IF(MONTH(DATE(Jahr,2,7))=2,DATE(Jahr,2,7),"") | B13: =IF(A13="","",CHOOSE(WEEKDAY(A13,2),"Mo","Di","Mi","Do","Fr","Sa","So")) | C13: =IF(A13="","",IFERROR(INDEX(FT_Name,MATCH(A13,FT_DatumGilt,0)),"")) | H13: =IF(N13=0,"",IF(PauseErgaenzen="ja",MAX(N(G13),O13),N(G13))) | I13: =IF(OR(J13="",S13=""),"",(N13-N(H13))/60+IF(U13="",0,INDEX(Abw_Gutschrift,U13))*J13) | J13: =IF(OR(A13="",A13<Beginn),"",IF(OR(C13<>"",IF(U13="",FALSE,INDEX(Abw_SollEntfaellt,U13)="ja")),0,T13)) | K13: =IF(J13="","",IF(S13="",IF(OR(A13>=TODAY(),OhneEintragMinus<>"ja",J13=0),"",-J13),I13-J13)) | L13: =IF(A13="","",IF(AND(E13<>"",F13=""),IF(A13<TODAY(),"Gehen fehlt",""),IF(AND(F13<>"",E13=""),"Kommen fehlt",IF(AND(D13<>"",U13=""),"Abwesenheit unbekannt",IF(N13-N(H13)>600,"über 10 Std. (§ 3 ArbZG)",IF(AND(N13>0,N(G13)<O13),IF(PauseErgaenzen="ja","Pause ergänzt (§ 4 ArbZG)","Pause zu kurz (§ 4 ArbZG)"),IF(AND(E13<>"",N(P12)>0,A13+E13-N(P12)<11/24-1/2880),"Ruhezeit unter 11 Std. (§ 5 ArbZG)",IF(AND(S13="",N(J13)>0,A13<TODAY()),"kein Eintrag","")))))))) | N13: =IF(OR(A13="",E13="",F13=""),0,ROUND(MOD(F13-E13,1)*1440,0)) | O13: =MIN(MAX(N13-360,0),30)+MIN(MAX(N13-570,0),15) | P13: =IF(N13=0,"",A13+F13+IF(F13<E13,1,0)) | Q13: =IF(OR(U13="",N(J13)=0),0,INDEX(Abw_Urlaub,U13)) | R13: =IF(OR(U13="",N(J13)=0),0,INDEX(Abw_Krank,U13)) | S13: =IF(AND(A13<>"",OR(D13<>"",E13<>"",F13<>"")),A13,"") | T13: =IF(A13="",0,INDEX(SollWoche,WEEKDAY(A13,2))) | U13: =IF(D13="","",IFERROR(MATCH(D13,Abw_Namen,0),""))
A14: =IF(MONTH(DATE(Jahr,2,8))=2,DATE(Jahr,2,8),"") | B14: =IF(A14="","",CHOOSE(WEEKDAY(A14,2),"Mo","Di","Mi","Do","Fr","Sa","So")) | C14: =IF(A14="","",IFERROR(INDEX(FT_Name,MATCH(A14,FT_DatumGilt,0)),"")) | H14: =IF(N14=0,"",IF(PauseErgaenzen="ja",MAX(N(G14),O14),N(G14))) | I14: =IF(OR(J14="",S14=""),"",(N14-N(H14))/60+IF(U14="",0,INDEX(Abw_Gutschrift,U14))*J14) | J14: =IF(OR(A14="",A14<Beginn),"",IF(OR(C14<>"",IF(U14="",FALSE,INDEX(Abw_SollEntfaellt,U14)="ja")),0,T14)) | K14: =IF(J14="","",IF(S14="",IF(OR(A14>=TODAY(),OhneEintragMinus<>"ja",J14=0),"",-J14),I14-J14)) | L14: =IF(A14="","",IF(AND(E14<>"",F14=""),IF(A14<TODAY(),"Gehen fehlt",""),IF(AND(F14<>"",E14=""),"Kommen fehlt",IF(AND(D14<>"",U14=""),"Abwesenheit unbekannt",IF(N14-N(H14)>600,"über 10 Std. (§ 3 ArbZG)",IF(AND(N14>0,N(G14)<O14),IF(PauseErgaenzen="ja","Pause ergänzt (§ 4 ArbZG)","Pause zu kurz (§ 4 ArbZG)"),IF(AND(E14<>"",N(P13)>0,A14+E14-N(P13)<11/24-1/2880),"Ruhezeit unter 11 Std. (§ 5 ArbZG)",IF(AND(S14="",N(J14)>0,A14<TODAY()),"kein Eintrag","")))))))) | N14: =IF(OR(A14="",E14="",F14=""),0,ROUND(MOD(F14-E14,1)*1440,0)) | O14: =MIN(MAX(N14-360,0),30)+MIN(MAX(N14-570,0),15) | P14: =IF(N14=0,"",A14+F14+IF(F14<E14,1,0)) | Q14: =IF(OR(U14="",N(J14)=0),0,INDEX(Abw_Urlaub,U14)) | R14: =IF(OR(U14="",N(J14)=0),0,INDEX(Abw_Krank,U14)) | S14: =IF(AND(A14<>"",OR(D14<>"",E14<>"",F14<>"")),A14,"") | T14: =IF(A14="",0,INDEX(SollWoche,WEEKDAY(A14,2))) | U14: =IF(D14="","",IFERROR(MATCH(D14,Abw_Namen,0),""))
A15: =IF(MONTH(DATE(Jahr,2,9))=2,DATE(Jahr,2,9),"") | B15: =IF(A15="","",CHOOSE(WEEKDAY(A15,2),"Mo","Di","Mi","Do","Fr","Sa","So")) | C15: =IF(A15="","",IFERROR(INDEX(FT_Name,MATCH(A15,FT_DatumGilt,0)),"")) | H15: =IF(N15=0,"",IF(PauseErgaenzen="ja",MAX(N(G15),O15),N(G15))) | I15: =IF(OR(J15="",S15=""),"",(N15-N(H15))/60+IF(U15="",0,INDEX(Abw_Gutschrift,U15))*J15) | J15: =IF(OR(A15="",A15<Beginn),"",IF(OR(C15<>"",IF(U15="",FALSE,INDEX(Abw_SollEntfaellt,U15)="ja")),0,T15)) | K15: =IF(J15="","",IF(S15="",IF(OR(A15>=TODAY(),OhneEintragMinus<>"ja",J15=0),"",-J15),I15-J15)) | L15: =IF(A15="","",IF(AND(E15<>"",F15=""),IF(A15<TODAY(),"Gehen fehlt",""),IF(AND(F15<>"",E15=""),"Kommen fehlt",IF(AND(D15<>"",U15=""),"Abwesenheit unbekannt",IF(N15-N(H15)>600,"über 10 Std. (§ 3 ArbZG)",IF(AND(N15>0,N(G15)<O15),IF(PauseErgaenzen="ja","Pause ergänzt (§ 4 ArbZG)","Pause zu kurz (§ 4 ArbZG)"),IF(AND(E15<>"",N(P14)>0,A15+E15-N(P14)<11/24-1/2880),"Ruhezeit unter 11 Std. (§ 5 ArbZG)",IF(AND(S15="",N(J15)>0,A15<TODAY()),"kein Eintrag","")))))))) | N15: =IF(OR(A15="",E15="",F15=""),0,ROUND(MOD(F15-E15,1)*1440,0)) | O15: =MIN(MAX(N15-360,0),30)+MIN(MAX(N15-570,0),15) | P15: =IF(N15=0,"",A15+F15+IF(F15<E15,1,0)) | Q15: =IF(OR(U15="",N(J15)=0),0,INDEX(Abw_Urlaub,U15)) | R15: =IF(OR(U15="",N(J15)=0),0,INDEX(Abw_Krank,U15)) | S15: =IF(AND(A15<>"",OR(D15<>"",E15<>"",F15<>"")),A15,"") | T15: =IF(A15="",0,INDEX(SollWoche,WEEKDAY(A15,2))) | U15: =IF(D15="","",IFERROR(MATCH(D15,Abw_Namen,0),""))
A16: =IF(MONTH(DATE(Jahr,2,10))=2,DATE(Jahr,2,10),"") | B16: =IF(A16="","",CHOOSE(WEEKDAY(A16,2),"Mo","Di","Mi","Do","Fr","Sa","So")) | C16: =IF(A16="","",IFERROR(INDEX(FT_Name,MATCH(A16,FT_DatumGilt,0)),"")) | H16: =IF(N16=0,"",IF(PauseErgaenzen="ja",MAX(N(G16),O16),N(G16))) | I16: =IF(OR(J16="",S16=""),"",(N16-N(H16))/60+IF(U16="",0,INDEX(Abw_Gutschrift,U16))*J16) | J16: =IF(OR(A16="",A16<Beginn),"",IF(OR(C16<>"",IF(U16="",FALSE,INDEX(Abw_SollEntfaellt,U16)="ja")),0,T16)) | K16: =IF(J16="","",IF(S16="",IF(OR(A16>=TODAY(),OhneEintragMinus<>"ja",J16=0),"",-J16),I16-J16)) | L16: =IF(A16="","",IF(AND(E16<>"",F16=""),IF(A16<TODAY(),"Gehen fehlt",""),IF(AND(F16<>"",E16=""),"Kommen fehlt",IF(AND(D16<>"",U16=""),"Abwesenheit unbekannt",IF(N16-N(H16)>600,"über 10 Std. (§ 3 ArbZG)",IF(AND(N16>0,N(G16)<O16),IF(PauseErgaenzen="ja","Pause ergänzt (§ 4 ArbZG)","Pause zu kurz (§ 4 ArbZG)"),IF(AND(E16<>"",N(P15)>0,A16+E16-N(P15)<11/24-1/2880),"Ruhezeit unter 11 Std. (§ 5 ArbZG)",IF(AND(S16="",N(J16)>0,A16<TODAY()),"kein Eintrag","")))))))) | N16: =IF(OR(A16="",E16="",F16=""),0,ROUND(MOD(F16-E16,1)*1440,0)) | O16: =MIN(MAX(N16-360,0),30)+MIN(MAX(N16-570,0),15) | P16: =IF(N16=0,"",A16+F16+IF(F16<E16,1,0)) | Q16: =IF(OR(U16="",N(J16)=0),0,INDEX(Abw_Urlaub,U16)) | R16: =IF(OR(U16="",N(J16)=0),0,INDEX(Abw_Krank,U16)) | S16: =IF(AND(A16<>"",OR(D16<>"",E16<>"",F16<>"")),A16,"") | T16: =IF(A16="",0,INDEX(SollWoche,WEEKDAY(A16,2))) | U16: =IF(D16="","",IFERROR(MATCH(D16,Abw_Namen,0),""))
A17: =IF(MONTH(DATE(Jahr,2,11))=2,DATE(Jahr,2,11),"") | B17: =IF(A17="","",CHOOSE(WEEKDAY(A17,2),"Mo","Di","Mi","Do","Fr","Sa","So")) | C17: =IF(A17="","",IFERROR(INDEX(FT_Name,MATCH(A17,FT_DatumGilt,0)),"")) | H17: =IF(N17=0,"",IF(PauseErgaenzen="ja",MAX(N(G17),O17),N(G17))) | I17: =IF(OR(J17="",S17=""),"",(N17-N(H17))/60+IF(U17="",0,INDEX(Abw_Gutschrift,U17))*J17) | J17: =IF(OR(A17="",A17<Beginn),"",IF(OR(C17<>"",IF(U17="",FALSE,INDEX(Abw_SollEntfaellt,U17)="ja")),0,T17)) | K17: =IF(J17="","",IF(S17="",IF(OR(A17>=TODAY(),OhneEintragMinus<>"ja",J17=0),"",-J17),I17-J17)) | L17: =IF(A17="","",IF(AND(E17<>"",F17=""),IF(A17<TODAY(),"Gehen fehlt",""),IF(AND(F17<>"",E17=""),"Kommen fehlt",IF(AND(D17<>"",U17=""),"Abwesenheit unbekannt",IF(N17-N(H17)>600,"über 10 Std. (§ 3 ArbZG)",IF(AND(N17>0,N(G17)<O17),IF(PauseErgaenzen="ja","Pause ergänzt (§ 4 ArbZG)","Pause zu kurz (§ 4 ArbZG)"),IF(AND(E17<>"",N(P16)>0,A17+E17-N(P16)<11/24-1/2880),"Ruhezeit unter 11 Std. (§ 5 ArbZG)",IF(AND(S17="",N(J17)>0,A17<TODAY()),"kein Eintrag","")))))))) | N17: =IF(OR(A17="",E17="",F17=""),0,ROUND(MOD(F17-E17,1)*1440,0)) | O17: =MIN(MAX(N17-360,0),30)+MIN(MAX(N17-570,0),15) | P17: =IF(N17=0,"",A17+F17+IF(F17<E17,1,0)) | Q17: =IF(OR(U17="",N(J17)=0),0,INDEX(Abw_Urlaub,U17)) | R17: =IF(OR(U17="",N(J17)=0),0,INDEX(Abw_Krank,U17)) | S17: =IF(AND(A17<>"",OR(D17<>"",E17<>"",F17<>"")),A17,"") | T17: =IF(A17="",0,INDEX(SollWoche,WEEKDAY(A17,2))) | U17: =IF(D17="","",IFERROR(MATCH(D17,Abw_Namen,0),""))
A18: =IF(MONTH(DATE(Jahr,2,12))=2,DATE(Jahr,2,12),"") | B18: =IF(A18="","",CHOOSE(WEEKDAY(A18,2),"Mo","Di","Mi","Do","Fr","Sa","So")) | C18: =IF(A18="","",IFERROR(INDEX(FT_Name,MATCH(A18,FT_DatumGilt,0)),"")) | H18: =IF(N18=0,"",IF(PauseErgaenzen="ja",MAX(N(G18),O18),N(G18))) | I18: =IF(OR(J18="",S18=""),"",(N18-N(H18))/60+IF(U18="",0,INDEX(Abw_Gutschrift,U18))*J18) | J18: =IF(OR(A18="",A18<Beginn),"",IF(OR(C18<>"",IF(U18="",FALSE,INDEX(Abw_SollEntfaellt,U18)="ja")),0,T18)) | K18: =IF(J18="","",IF(S18="",IF(OR(A18>=TODAY(),OhneEintragMinus<>"ja",J18=0),"",-J18),I18-J18)) | L18: =IF(A18="","",IF(AND(E18<>"",F18=""),IF(A18<TODAY(),"Gehen fehlt",""),IF(AND(F18<>"",E18=""),"Kommen fehlt",IF(AND(D18<>"",U18=""),"Abwesenheit unbekannt",IF(N18-N(H18)>600,"über 10 Std. (§ 3 ArbZG)",IF(AND(N18>0,N(G18)<O18),IF(PauseErgaenzen="ja","Pause ergänzt (§ 4 ArbZG)","Pause zu kurz (§ 4 ArbZG)"),IF(AND(E18<>"",N(P17)>0,A18+E18-N(P17)<11/24-1/2880),"Ruhezeit unter 11 Std. (§ 5 ArbZG)",IF(AND(S18="",N(J18)>0,A18<TODAY()),"kein Eintrag","")))))))) | N18: =IF(OR(A18="",E18="",F18=""),0,ROUND(MOD(F18-E18,1)*1440,0)) | O18: =MIN(MAX(N18-360,0),30)+MIN(MAX(N18-570,0),15) | P18: =IF(N18=0,"",A18+F18+IF(F18<E18,1,0)) | Q18: =IF(OR(U18="",N(J18)=0),0,INDEX(Abw_Urlaub,U18)) | R18: =IF(OR(U18="",N(J18)=0),0,INDEX(Abw_Krank,U18)) | S18: =IF(AND(A18<>"",OR(D18<>"",E18<>"",F18<>"")),A18,"") | T18: =IF(A18="",0,INDEX(SollWoche,WEEKDAY(A18,2))) | U18: =IF(D18="","",IFERROR(MATCH(D18,Abw_Namen,0),""))
A19: =IF(MONTH(DATE(Jahr,2,13))=2,DATE(Jahr,2,13),"") | B19: =IF(A19="","",CHOOSE(WEEKDAY(A19,2),"Mo","Di","Mi","Do","Fr","Sa","So")) | C19: =IF(A19="","",IFERROR(INDEX(FT_Name,MATCH(A19,FT_DatumGilt,0)),"")) | H19: =IF(N19=0,"",IF(PauseErgaenzen="ja",MAX(N(G19),O19),N(G19))) | I19: =IF(OR(J19="",S19=""),"",(N19-N(H19))/60+IF(U19="",0,INDEX(Abw_Gutschrift,U19))*J19) | J19: =IF(OR(A19="",A19<Beginn),"",IF(OR(C19<>"",IF(U19="",FALSE,INDEX(Abw_SollEntfaellt,U19)="ja")),0,T19)) | K19: =IF(J19="","",IF(S19="",IF(OR(A19>=TODAY(),OhneEintragMinus<>"ja",J19=0),"",-J19),I19-J19)) | L19: =IF(A19="","",IF(AND(E19<>"",F19=""),IF(A19<TODAY(),"Gehen fehlt",""),IF(AND(F19<>"",E19=""),"Kommen fehlt",IF(AND(D19<>"",U19=""),"Abwesenheit unbekannt",IF(N19-N(H19)>600,"über 10 Std. (§ 3 ArbZG)",IF(AND(N19>0,N(G19)<O19),IF(PauseErgaenzen="ja","Pause ergänzt (§ 4 ArbZG)","Pause zu kurz (§ 4 ArbZG)"),IF(AND(E19<>"",N(P18)>0,A19+E19-N(P18)<11/24-1/2880),"Ruhezeit unter 11 Std. (§ 5 ArbZG)",IF(AND(S19="",N(J19)>0,A19<TODAY()),"kein Eintrag","")))))))) | N19: =IF(OR(A19="",E19="",F19=""),0,ROUND(MOD(F19-E19,1)*1440,0)) | O19: =MIN(MAX(N19-360,0),30)+MIN(MAX(N19-570,0),15) | P19: =IF(N19=0,"",A19+F19+IF(F19<E19,1,0)) | Q19: =IF(OR(U19="",N(J19)=0),0,INDEX(Abw_Urlaub,U19)) | R19: =IF(OR(U19="",N(J19)=0),0,INDEX(Abw_Krank,U19)) | S19: =IF(AND(A19<>"",OR(D19<>"",E19<>"",F19<>"")),A19,"") | T19: =IF(A19="",0,INDEX(SollWoche,WEEKDAY(A19,2))) | U19: =IF(D19="","",IFERROR(MATCH(D19,Abw_Namen,0),""))
A20: =IF(MONTH(DATE(Jahr,2,14))=2,DATE(Jahr,2,14),"") | B20: =IF(A20="","",CHOOSE(WEEKDAY(A20,2),"Mo","Di","Mi","Do","Fr","Sa","So")) | C20: =IF(A20="","",IFERROR(INDEX(FT_Name,MATCH(A20,FT_DatumGilt,0)),"")) | H20: =IF(N20=0,"",IF(PauseErgaenzen="ja",MAX(N(G20),O20),N(G20))) | I20: =IF(OR(J20="",S20=""),"",(N20-N(H20))/60+IF(U20="",0,INDEX(Abw_Gutschrift,U20))*J20) | J20: =IF(OR(A20="",A20<Beginn),"",IF(OR(C20<>"",IF(U20="",FALSE,INDEX(Abw_SollEntfaellt,U20)="ja")),0,T20)) | K20: =IF(J20="","",IF(S20="",IF(OR(A20>=TODAY(),OhneEintragMinus<>"ja",J20=0),"",-J20),I20-J20)) | L20: =IF(A20="","",IF(AND(E20<>"",F20=""),IF(A20<TODAY(),"Gehen fehlt",""),IF(AND(F20<>"",E20=""),"Kommen fehlt",IF(AND(D20<>"",U20=""),"Abwesenheit unbekannt",IF(N20-N(H20)>600,"über 10 Std. (§ 3 ArbZG)",IF(AND(N20>0,N(G20)<O20),IF(PauseErgaenzen="ja","Pause ergänzt (§ 4 ArbZG)","Pause zu kurz (§ 4 ArbZG)"),IF(AND(E20<>"",N(P19)>0,A20+E20-N(P19)<11/24-1/2880),"Ruhezeit unter 11 Std. (§ 5 ArbZG)",IF(AND(S20="",N(J20)>0,A20<TODAY()),"kein Eintrag","")))))))) | N20: =IF(OR(A20="",E20="",F20=""),0,ROUND(MOD(F20-E20,1)*1440,0)) | O20: =MIN(MAX(N20-360,0),30)+MIN(MAX(N20-570,0),15) | P20: =IF(N20=0,"",A20+F20+IF(F20<E20,1,0)) | Q20: =IF(OR(U20="",N(J20)=0),0,INDEX(Abw_Urlaub,U20)) | R20: =IF(OR(U20="",N(J20)=0),0,INDEX(Abw_Krank,U20)) | S20: =IF(AND(A20<>"",OR(D20<>"",E20<>"",F20<>"")),A20,"") | T20: =IF(A20="",0,INDEX(SollWoche,WEEKDAY(A20,2))) | U20: =IF(D20="","",IFERROR(MATCH(D20,Abw_Namen,0),""))
A21: =IF(MONTH(DATE(Jahr,2,15))=2,DATE(Jahr,2,15),"") | B21: =IF(A21="","",CHOOSE(WEEKDAY(A21,2),"Mo","Di","Mi","Do","Fr","Sa","So")) | C21: =IF(A21="","",IFERROR(INDEX(FT_Name,MATCH(A21,FT_DatumGilt,0)),"")) | H21: =IF(N21=0,"",IF(PauseErgaenzen="ja",MAX(N(G21),O21),N(G21))) | I21: =IF(OR(J21="",S21=""),"",(N21-N(H21))/60+IF(U21="",0,INDEX(Abw_Gutschrift,U21))*J21) | J21: =IF(OR(A21="",A21<Beginn),"",IF(OR(C21<>"",IF(U21="",FALSE,INDEX(Abw_SollEntfaellt,U21)="ja")),0,T21)) | K21: =IF(J21="","",IF(S21="",IF(OR(A21>=TODAY(),OhneEintragMinus<>"ja",J21=0),"",-J21),I21-J21)) | L21: =IF(A21="","",IF(AND(E21<>"",F21=""),IF(A21<TODAY(),"Gehen fehlt",""),IF(AND(F21<>"",E21=""),"Kommen fehlt",IF(AND(D21<>"",U21=""),"Abwesenheit unbekannt",IF(N21-N(H21)>600,"über 10 Std. (§ 3 ArbZG)",IF(AND(N21>0,N(G21)<O21),IF(PauseErgaenzen="ja","Pause ergänzt (§ 4 ArbZG)","Pause zu kurz (§ 4 ArbZG)"),IF(AND(E21<>"",N(P20)>0,A21+E21-N(P20)<11/24-1/2880),"Ruhezeit unter 11 Std. (§ 5 ArbZG)",IF(AND(S21="",N(J21)>0,A21<TODAY()),"kein Eintrag","")))))))) | N21: =IF(OR(A21="",E21="",F21=""),0,ROUND(MOD(F21-E21,1)*1440,0)) | O21: =MIN(MAX(N21-360,0),30)+MIN(MAX(N21-570,0),15) | P21: =IF(N21=0,"",A21+F21+IF(F21<E21,1,0)) | Q21: =IF(OR(U21="",N(J21)=0),0,INDEX(Abw_Urlaub,U21)) | R21: =IF(OR(U21="",N(J21)=0),0,INDEX(Abw_Krank,U21)) | S21: =IF(AND(A21<>"",OR(D21<>"",E21<>"",F21<>"")),A21,"") | T21: =IF(A21="",0,INDEX(SollWoche,WEEKDAY(A21,2))) | U21: =IF(D21="","",IFERROR(MATCH(D21,Abw_Namen,0),""))
A22: =IF(MONTH(DATE(Jahr,2,16))=2,DATE(Jahr,2,16),"") | B22: =IF(A22="","",CHOOSE(WEEKDAY(A22,2),"Mo","Di","Mi","Do","Fr","Sa","So")) | C22: =IF(A22="","",IFERROR(INDEX(FT_Name,MATCH(A22,FT_DatumGilt,0)),"")) | H22: =IF(N22=0,"",IF(PauseErgaenzen="ja",MAX(N(G22),O22),N(G22))) | I22: =IF(OR(J22="",S22=""),"",(N22-N(H22))/60+IF(U22="",0,INDEX(Abw_Gutschrift,U22))*J22) | J22: =IF(OR(A22="",A22<Beginn),"",IF(OR(C22<>"",IF(U22="",FALSE,INDEX(Abw_SollEntfaellt,U22)="ja")),0,T22)) | K22: =IF(J22="","",IF(S22="",IF(OR(A22>=TODAY(),OhneEintragMinus<>"ja",J22=0),"",-J22),I22-J22)) | L22: =IF(A22="","",IF(AND(E22<>"",F22=""),IF(A22<TODAY(),"Gehen fehlt",""),IF(AND(F22<>"",E22=""),"Kommen fehlt",IF(AND(D22<>"",U22=""),"Abwesenheit unbekannt",IF(N22-N(H22)>600,"über 10 Std. (§ 3 ArbZG)",IF(AND(N22>0,N(G22)<O22),IF(PauseErgaenzen="ja","Pause ergänzt (§ 4 ArbZG)","Pause zu kurz (§ 4 ArbZG)"),IF(AND(E22<>"",N(P21)>0,A22+E22-N(P21)<11/24-1/2880),"Ruhezeit unter 11 Std. (§ 5 ArbZG)",IF(AND(S22="",N(J22)>0,A22<TODAY()),"kein Eintrag","")))))))) | N22: =IF(OR(A22="",E22="",F22=""),0,ROUND(MOD(F22-E22,1)*1440,0)) | O22: =MIN(MAX(N22-360,0),30)+MIN(MAX(N22-570,0),15) | P22: =IF(N22=0,"",A22+F22+IF(F22<E22,1,0)) | Q22: =IF(OR(U22="",N(J22)=0),0,INDEX(Abw_Urlaub,U22)) | R22: =IF(OR(U22="",N(J22)=0),0,INDEX(Abw_Krank,U22)) | S22: =IF(AND(A22<>"",OR(D22<>"",E22<>"",F22<>"")),A22,"") | T22: =IF(A22="",0,INDEX(SollWoche,WEEKDAY(A22,2))) | U22: =IF(D22="","",IFERROR(MATCH(D22,Abw_Namen,0),""))
A23: =IF(MONTH(DATE(Jahr,2,17))=2,DATE(Jahr,2,17),"") | B23: =IF(A23="","",CHOOSE(WEEKDAY(A23,2),"Mo","Di","Mi","Do","Fr","Sa","So")) | C23: =IF(A23="","",IFERROR(INDEX(FT_Name,MATCH(A23,FT_DatumGilt,0)),"")) | H23: =IF(N23=0,"",IF(PauseErgaenzen="ja",MAX(N(G23),O23),N(G23))) | I23: =IF(OR(J23="",S23=""),"",(N23-N(H23))/60+IF(U23="",0,INDEX(Abw_Gutschrift,U23))*J23) | J23: =IF(OR(A23="",A23<Beginn),"",IF(OR(C23<>"",IF(U23="",FALSE,INDEX(Abw_SollEntfaellt,U23)="ja")),0,T23)) | K23: =IF(J23="","",IF(S23="",IF(OR(A23>=TODAY(),OhneEintragMinus<>"ja",J23=0),"",-J23),I23-J23)) | L23: =IF(A23="","",IF(AND(E23<>"",F23=""),IF(A23<TODAY(),"Gehen fehlt",""),IF(AND(F23<>"",E23=""),"Kommen fehlt",IF(AND(D23<>"",U23=""),"Abwesenheit unbekannt",IF(N23-N(H23)>600,"über 10 Std. (§ 3 ArbZG)",IF(AND(N23>0,N(G23)<O23),IF(PauseErgaenzen="ja","Pause ergänzt (§ 4 ArbZG)","Pause zu kurz (§ 4 ArbZG)"),IF(AND(E23<>"",N(P22)>0,A23+E23-N(P22)<11/24-1/2880),"Ruhezeit unter 11 Std. (§ 5 ArbZG)",IF(AND(S23="",N(J23)>0,A23<TODAY()),"kein Eintrag","")))))))) | N23: =IF(OR(A23="",E23="",F23=""),0,ROUND(MOD(F23-E23,1)*1440,0)) | O23: =MIN(MAX(N23-360,0),30)+MIN(MAX(N23-570,0),15) | P23: =IF(N23=0,"",A23+F23+IF(F23<E23,1,0)) | Q23: =IF(OR(U23="",N(J23)=0),0,INDEX(Abw_Urlaub,U23)) | R23: =IF(OR(U23="",N(J23)=0),0,INDEX(Abw_Krank,U23)) | S23: =IF(AND(A23<>"",OR(D23<>"",E23<>"",F23<>"")),A23,"") | T23: =IF(A23="",0,INDEX(SollWoche,WEEKDAY(A23,2))) | U23: =IF(D23="","",IFERROR(MATCH(D23,Abw_Namen,0),""))
A24: =IF(MONTH(DATE(Jahr,2,18))=2,DATE(Jahr,2,18),"") | B24: =IF(A24="","",CHOOSE(WEEKDAY(A24,2),"Mo","Di","Mi","Do","Fr","Sa","So")) | C24: =IF(A24="","",IFERROR(INDEX(FT_Name,MATCH(A24,FT_DatumGilt,0)),"")) | H24: =IF(N24=0,"",IF(PauseErgaenzen="ja",MAX(N(G24),O24),N(G24))) | I24: =IF(OR(J24="",S24=""),"",(N24-N(H24))/60+IF(U24="",0,INDEX(Abw_Gutschrift,U24))*J24) | J24: =IF(OR(A24="",A24<Beginn),"",IF(OR(C24<>"",IF(U24="",FALSE,INDEX(Abw_SollEntfaellt,U24)="ja")),0,T24)) | K24: =IF(J24="","",IF(S24="",IF(OR(A24>=TODAY(),OhneEintragMinus<>"ja",J24=0),"",-J24),I24-J24)) | L24: =IF(A24="","",IF(AND(E24<>"",F24=""),IF(A24<TODAY(),"Gehen fehlt",""),IF(AND(F24<>"",E24=""),"Kommen fehlt",IF(AND(D24<>"",U24=""),"Abwesenheit unbekannt",IF(N24-N(H24)>600,"über 10 Std. (§ 3 ArbZG)",IF(AND(N24>0,N(G24)<O24),IF(PauseErgaenzen="ja","Pause ergänzt (§ 4 ArbZG)","Pause zu kurz (§ 4 ArbZG)"),IF(AND(E24<>"",N(P23)>0,A24+E24-N(P23)<11/24-1/2880),"Ruhezeit unter 11 Std. (§ 5 ArbZG)",IF(AND(S24="",N(J24)>0,A24<TODAY()),"kein Eintrag","")))))))) | N24: =IF(OR(A24="",E24="",F24=""),0,ROUND(MOD(F24-E24,1)*1440,0)) | O24: =MIN(MAX(N24-360,0),30)+MIN(MAX(N24-570,0),15) | P24: =IF(N24=0,"",A24+F24+IF(F24<E24,1,0)) | Q24: =IF(OR(U24="",N(J24)=0),0,INDEX(Abw_Urlaub,U24)) | R24: =IF(OR(U24="",N(J24)=0),0,INDEX(Abw_Krank,U24)) | S24: =IF(AND(A24<>"",OR(D24<>"",E24<>"",F24<>"")),A24,"") | T24: =IF(A24="",0,INDEX(SollWoche,WEEKDAY(A24,2))) | U24: =IF(D24="","",IFERROR(MATCH(D24,Abw_Namen,0),""))
A25: =IF(MONTH(DATE(Jahr,2,19))=2,DATE(Jahr,2,19),"") | B25: =IF(A25="","",CHOOSE(WEEKDAY(A25,2),"Mo","Di","Mi","Do","Fr","Sa","So")) | C25: =IF(A25="","",IFERROR(INDEX(FT_Name,MATCH(A25,FT_DatumGilt,0)),"")) | H25: =IF(N25=0,"",IF(PauseErgaenzen="ja",MAX(N(G25),O25),N(G25))) | I25: =IF(OR(J25="",S25=""),"",(N25-N(H25))/60+IF(U25="",0,INDEX(Abw_Gutschrift,U25))*J25) | J25: =IF(OR(A25="",A25<Beginn),"",IF(OR(C25<>"",IF(U25="",FALSE,INDEX(Abw_SollEntfaellt,U25)="ja")),0,T25)) | K25: =IF(J25="","",IF(S25="",IF(OR(A25>=TODAY(),OhneEintragMinus<>"ja",J25=0),"",-J25),I25-J25)) | L25: =IF(A25="","",IF(AND(E25<>"",F25=""),IF(A25<TODAY(),"Gehen fehlt",""),IF(AND(F25<>"",E25=""),"Kommen fehlt",IF(AND(D25<>"",U25=""),"Abwesenheit unbekannt",IF(N25-N(H25)>600,"über 10 Std. (§ 3 ArbZG)",IF(AND(N25>0,N(G25)<O25),IF(PauseErgaenzen="ja","Pause ergänzt (§ 4 ArbZG)","Pause zu kurz (§ 4 ArbZG)"),IF(AND(E25<>"",N(P24)>0,A25+E25-N(P24)<11/24-1/2880),"Ruhezeit unter 11 Std. (§ 5 ArbZG)",IF(AND(S25="",N(J25)>0,A25<TODAY()),"kein Eintrag","")))))))) | N25: =IF(OR(A25="",E25="",F25=""),0,ROUND(MOD(F25-E25,1)*1440,0)) | O25: =MIN(MAX(N25-360,0),30)+MIN(MAX(N25-570,0),15) | P25: =IF(N25=0,"",A25+F25+IF(F25<E25,1,0)) | Q25: =IF(OR(U25="",N(J25)=0),0,INDEX(Abw_Urlaub,U25)) | R25: =IF(OR(U25="",N(J25)=0),0,INDEX(Abw_Krank,U25)) | S25: =IF(AND(A25<>"",OR(D25<>"",E25<>"",F25<>"")),A25,"") | T25: =IF(A25="",0,INDEX(SollWoche,WEEKDAY(A25,2))) | U25: =IF(D25="","",IFERROR(MATCH(D25,Abw_Namen,0),""))
A26: =IF(MONTH(DATE(Jahr,2,20))=2,DATE(Jahr,2,20),"") | B26: =IF(A26="","",CHOOSE(WEEKDAY(A26,2),"Mo","Di","Mi","Do","Fr","Sa","So")) | C26: =IF(A26="","",IFERROR(INDEX(FT_Name,MATCH(A26,FT_DatumGilt,0)),"")) | H26: =IF(N26=0,"",IF(PauseErgaenzen="ja",MAX(N(G26),O26),N(G26))) | I26: =IF(OR(J26="",S26=""),"",(N26-N(H26))/60+IF(U26="",0,INDEX(Abw_Gutschrift,U26))*J26) | J26: =IF(OR(A26="",A26<Beginn),"",IF(OR(C26<>"",IF(U26="",FALSE,INDEX(Abw_SollEntfaellt,U26)="ja")),0,T26)) | K26: =IF(J26="","",IF(S26="",IF(OR(A26>=TODAY(),OhneEintragMinus<>"ja",J26=0),"",-J26),I26-J26)) | L26: =IF(A26="","",IF(AND(E26<>"",F26=""),IF(A26<TODAY(),"Gehen fehlt",""),IF(AND(F26<>"",E26=""),"Kommen fehlt",IF(AND(D26<>"",U26=""),"Abwesenheit unbekannt",IF(N26-N(H26)>600,"über 10 Std. (§ 3 ArbZG)",IF(AND(N26>0,N(G26)<O26),IF(PauseErgaenzen="ja","Pause ergänzt (§ 4 ArbZG)","Pause zu kurz (§ 4 ArbZG)"),IF(AND(E26<>"",N(P25)>0,A26+E26-N(P25)<11/24-1/2880),"Ruhezeit unter 11 Std. (§ 5 ArbZG)",IF(AND(S26="",N(J26)>0,A26<TODAY()),"kein Eintrag","")))))))) | N26: =IF(OR(A26="",E26="",F26=""),0,ROUND(MOD(F26-E26,1)*1440,0)) | O26: =MIN(MAX(N26-360,0),30)+MIN(MAX(N26-570,0),15) | P26: =IF(N26=0,"",A26+F26+IF(F26<E26,1,0)) | Q26: =IF(OR(U26="",N(J26)=0),0,INDEX(Abw_Urlaub,U26)) | R26: =IF(OR(U26="",N(J26)=0),0,INDEX(Abw_Krank,U26)) | S26: =IF(AND(A26<>"",OR(D26<>"",E26<>"",F26<>"")),A26,"") | T26: =IF(A26="",0,INDEX(SollWoche,WEEKDAY(A26,2))) | U26: =IF(D26="","",IFERROR(MATCH(D26,Abw_Namen,0),""))
A27: =IF(MONTH(DATE(Jahr,2,21))=2,DATE(Jahr,2,21),"") | B27: =IF(A27="","",CHOOSE(WEEKDAY(A27,2),"Mo","Di","Mi","Do","Fr","Sa","So")) | C27: =IF(A27="","",IFERROR(INDEX(FT_Name,MATCH(A27,FT_DatumGilt,0)),"")) | H27: =IF(N27=0,"",IF(PauseErgaenzen="ja",MAX(N(G27),O27),N(G27))) | I27: =IF(OR(J27="",S27=""),"",(N27-N(H27))/60+IF(U27="",0,INDEX(Abw_Gutschrift,U27))*J27) | J27: =IF(OR(A27="",A27<Beginn),"",IF(OR(C27<>"",IF(U27="",FALSE,INDEX(Abw_SollEntfaellt,U27)="ja")),0,T27)) | K27: =IF(J27="","",IF(S27="",IF(OR(A27>=TODAY(),OhneEintragMinus<>"ja",J27=0),"",-J27),I27-J27)) | L27: =IF(A27="","",IF(AND(E27<>"",F27=""),IF(A27<TODAY(),"Gehen fehlt",""),IF(AND(F27<>"",E27=""),"Kommen fehlt",IF(AND(D27<>"",U27=""),"Abwesenheit unbekannt",IF(N27-N(H27)>600,"über 10 Std. (§ 3 ArbZG)",IF(AND(N27>0,N(G27)<O27),IF(PauseErgaenzen="ja","Pause ergänzt (§ 4 ArbZG)","Pause zu kurz (§ 4 ArbZG)"),IF(AND(E27<>"",N(P26)>0,A27+E27-N(P26)<11/24-1/2880),"Ruhezeit unter 11 Std. (§ 5 ArbZG)",IF(AND(S27="",N(J27)>0,A27<TODAY()),"kein Eintrag","")))))))) | N27: =IF(OR(A27="",E27="",F27=""),0,ROUND(MOD(F27-E27,1)*1440,0)) | O27: =MIN(MAX(N27-360,0),30)+MIN(MAX(N27-570,0),15) | P27: =IF(N27=0,"",A27+F27+IF(F27<E27,1,0)) | Q27: =IF(OR(U27="",N(J27)=0),0,INDEX(Abw_Urlaub,U27)) | R27: =IF(OR(U27="",N(J27)=0),0,INDEX(Abw_Krank,U27)) | S27: =IF(AND(A27<>"",OR(D27<>"",E27<>"",F27<>"")),A27,"") | T27: =IF(A27="",0,INDEX(SollWoche,WEEKDAY(A27,2))) | U27: =IF(D27="","",IFERROR(MATCH(D27,Abw_Namen,0),""))
A28: =IF(MONTH(DATE(Jahr,2,22))=2,DATE(Jahr,2,22),"") | B28: =IF(A28="","",CHOOSE(WEEKDAY(A28,2),"Mo","Di","Mi","Do","Fr","Sa","So")) | C28: =IF(A28="","",IFERROR(INDEX(FT_Name,MATCH(A28,FT_DatumGilt,0)),"")) | H28: =IF(N28=0,"",IF(PauseErgaenzen="ja",MAX(N(G28),O28),N(G28))) | I28: =IF(OR(J28="",S28=""),"",(N28-N(H28))/60+IF(U28="",0,INDEX(Abw_Gutschrift,U28))*J28) | J28: =IF(OR(A28="",A28<Beginn),"",IF(OR(C28<>"",IF(U28="",FALSE,INDEX(Abw_SollEntfaellt,U28)="ja")),0,T28)) | K28: =IF(J28="","",IF(S28="",IF(OR(A28>=TODAY(),OhneEintragMinus<>"ja",J28=0),"",-J28),I28-J28)) | L28: =IF(A28="","",IF(AND(E28<>"",F28=""),IF(A28<TODAY(),"Gehen fehlt",""),IF(AND(F28<>"",E28=""),"Kommen fehlt",IF(AND(D28<>"",U28=""),"Abwesenheit unbekannt",IF(N28-N(H28)>600,"über 10 Std. (§ 3 ArbZG)",IF(AND(N28>0,N(G28)<O28),IF(PauseErgaenzen="ja","Pause ergänzt (§ 4 ArbZG)","Pause zu kurz (§ 4 ArbZG)"),IF(AND(E28<>"",N(P27)>0,A28+E28-N(P27)<11/24-1/2880),"Ruhezeit unter 11 Std. (§ 5 ArbZG)",IF(AND(S28="",N(J28)>0,A28<TODAY()),"kein Eintrag","")))))))) | N28: =IF(OR(A28="",E28="",F28=""),0,ROUND(MOD(F28-E28,1)*1440,0)) | O28: =MIN(MAX(N28-360,0),30)+MIN(MAX(N28-570,0),15) | P28: =IF(N28=0,"",A28+F28+IF(F28<E28,1,0)) | Q28: =IF(OR(U28="",N(J28)=0),0,INDEX(Abw_Urlaub,U28)) | R28: =IF(OR(U28="",N(J28)=0),0,INDEX(Abw_Krank,U28)) | S28: =IF(AND(A28<>"",OR(D28<>"",E28<>"",F28<>"")),A28,"") | T28: =IF(A28="",0,INDEX(SollWoche,WEEKDAY(A28,2))) | U28: =IF(D28="","",IFERROR(MATCH(D28,Abw_Namen,0),""))
A29: =IF(MONTH(DATE(Jahr,2,23))=2,DATE(Jahr,2,23),"") | B29: =IF(A29="","",CHOOSE(WEEKDAY(A29,2),"Mo","Di","Mi","Do","Fr","Sa","So")) | C29: =IF(A29="","",IFERROR(INDEX(FT_Name,MATCH(A29,FT_DatumGilt,0)),"")) | H29: =IF(N29=0,"",IF(PauseErgaenzen="ja",MAX(N(G29),O29),N(G29))) | I29: =IF(OR(J29="",S29=""),"",(N29-N(H29))/60+IF(U29="",0,INDEX(Abw_Gutschrift,U29))*J29) | J29: =IF(OR(A29="",A29<Beginn),"",IF(OR(C29<>"",IF(U29="",FALSE,INDEX(Abw_SollEntfaellt,U29)="ja")),0,T29)) | K29: =IF(J29="","",IF(S29="",IF(OR(A29>=TODAY(),OhneEintragMinus<>"ja",J29=0),"",-J29),I29-J29)) | L29: =IF(A29="","",IF(AND(E29<>"",F29=""),IF(A29<TODAY(),"Gehen fehlt",""),IF(AND(F29<>"",E29=""),"Kommen fehlt",IF(AND(D29<>"",U29=""),"Abwesenheit unbekannt",IF(N29-N(H29)>600,"über 10 Std. (§ 3 ArbZG)",IF(AND(N29>0,N(G29)<O29),IF(PauseErgaenzen="ja","Pause ergänzt (§ 4 ArbZG)","Pause zu kurz (§ 4 ArbZG)"),IF(AND(E29<>"",N(P28)>0,A29+E29-N(P28)<11/24-1/2880),"Ruhezeit unter 11 Std. (§ 5 ArbZG)",IF(AND(S29="",N(J29)>0,A29<TODAY()),"kein Eintrag","")))))))) | N29: =IF(OR(A29="",E29="",F29=""),0,ROUND(MOD(F29-E29,1)*1440,0)) | O29: =MIN(MAX(N29-360,0),30)+MIN(MAX(N29-570,0),15) | P29: =IF(N29=0,"",A29+F29+IF(F29<E29,1,0)) | Q29: =IF(OR(U29="",N(J29)=0),0,INDEX(Abw_Urlaub,U29)) | R29: =IF(OR(U29="",N(J29)=0),0,INDEX(Abw_Krank,U29)) | S29: =IF(AND(A29<>"",OR(D29<>"",E29<>"",F29<>"")),A29,"") | T29: =IF(A29="",0,INDEX(SollWoche,WEEKDAY(A29,2))) | U29: =IF(D29="","",IFERROR(MATCH(D29,Abw_Namen,0),""))
A30: =IF(MONTH(DATE(Jahr,2,24))=2,DATE(Jahr,2,24),"") | B30: =IF(A30="","",CHOOSE(WEEKDAY(A30,2),"Mo","Di","Mi","Do","Fr","Sa","So")) | C30: =IF(A30="","",IFERROR(INDEX(FT_Name,MATCH(A30,FT_DatumGilt,0)),"")) | H30: =IF(N30=0,"",IF(PauseErgaenzen="ja",MAX(N(G30),O30),N(G30))) | I30: =IF(OR(J30="",S30=""),"",(N30-N(H30))/60+IF(U30="",0,INDEX(Abw_Gutschrift,U30))*J30) | J30: =IF(OR(A30="",A30<Beginn),"",IF(OR(C30<>"",IF(U30="",FALSE,INDEX(Abw_SollEntfaellt,U30)="ja")),0,T30)) | K30: =IF(J30="","",IF(S30="",IF(OR(A30>=TODAY(),OhneEintragMinus<>"ja",J30=0),"",-J30),I30-J30)) | L30: =IF(A30="","",IF(AND(E30<>"",F30=""),IF(A30<TODAY(),"Gehen fehlt",""),IF(AND(F30<>"",E30=""),"Kommen fehlt",IF(AND(D30<>"",U30=""),"Abwesenheit unbekannt",IF(N30-N(H30)>600,"über 10 Std. (§ 3 ArbZG)",IF(AND(N30>0,N(G30)<O30),IF(PauseErgaenzen="ja","Pause ergänzt (§ 4 ArbZG)","Pause zu kurz (§ 4 ArbZG)"),IF(AND(E30<>"",N(P29)>0,A30+E30-N(P29)<11/24-1/2880),"Ruhezeit unter 11 Std. (§ 5 ArbZG)",IF(AND(S30="",N(J30)>0,A30<TODAY()),"kein Eintrag","")))))))) | N30: =IF(OR(A30="",E30="",F30=""),0,ROUND(MOD(F30-E30,1)*1440,0)) | O30: =MIN(MAX(N30-360,0),30)+MIN(MAX(N30-570,0),15) | P30: =IF(N30=0,"",A30+F30+IF(F30<E30,1,0)) | Q30: =IF(OR(U30="",N(J30)=0),0,INDEX(Abw_Urlaub,U30)) | R30: =IF(OR(U30="",N(J30)=0),0,INDEX(Abw_Krank,U30)) | S30: =IF(AND(A30<>"",OR(D30<>"",E30<>"",F30<>"")),A30,"") | T30: =IF(A30="",0,INDEX(SollWoche,WEEKDAY(A30,2))) | U30: =IF(D30="","",IFERROR(MATCH(D30,Abw_Namen,0),""))
A31: =IF(MONTH(DATE(Jahr,2,25))=2,DATE(Jahr,2,25),"") | B31: =IF(A31="","",CHOOSE(WEEKDAY(A31,2),"Mo","Di","Mi","Do","Fr","Sa","So")) | C31: =IF(A31="","",IFERROR(INDEX(FT_Name,MATCH(A31,FT_DatumGilt,0)),"")) | H31: =IF(N31=0,"",IF(PauseErgaenzen="ja",MAX(N(G31),O31),N(G31))) | I31: =IF(OR(J31="",S31=""),"",(N31-N(H31))/60+IF(U31="",0,INDEX(Abw_Gutschrift,U31))*J31) | J31: =IF(OR(A31="",A31<Beginn),"",IF(OR(C31<>"",IF(U31="",FALSE,INDEX(Abw_SollEntfaellt,U31)="ja")),0,T31)) | K31: =IF(J31="","",IF(S31="",IF(OR(A31>=TODAY(),OhneEintragMinus<>"ja",J31=0),"",-J31),I31-J31)) | L31: =IF(A31="","",IF(AND(E31<>"",F31=""),IF(A31<TODAY(),"Gehen fehlt",""),IF(AND(F31<>"",E31=""),"Kommen fehlt",IF(AND(D31<>"",U31=""),"Abwesenheit unbekannt",IF(N31-N(H31)>600,"über 10 Std. (§ 3 ArbZG)",IF(AND(N31>0,N(G31)<O31),IF(PauseErgaenzen="ja","Pause ergänzt (§ 4 ArbZG)","Pause zu kurz (§ 4 ArbZG)"),IF(AND(E31<>"",N(P30)>0,A31+E31-N(P30)<11/24-1/2880),"Ruhezeit unter 11 Std. (§ 5 ArbZG)",IF(AND(S31="",N(J31)>0,A31<TODAY()),"kein Eintrag","")))))))) | N31: =IF(OR(A31="",E31="",F31=""),0,ROUND(MOD(F31-E31,1)*1440,0)) | O31: =MIN(MAX(N31-360,0),30)+MIN(MAX(N31-570,0),15) | P31: =IF(N31=0,"",A31+F31+IF(F31<E31,1,0)) | Q31: =IF(OR(U31="",N(J31)=0),0,INDEX(Abw_Urlaub,U31)) | R31: =IF(OR(U31="",N(J31)=0),0,INDEX(Abw_Krank,U31)) | S31: =IF(AND(A31<>"",OR(D31<>"",E31<>"",F31<>"")),A31,"") | T31: =IF(A31="",0,INDEX(SollWoche,WEEKDAY(A31,2))) | U31: =IF(D31="","",IFERROR(MATCH(D31,Abw_Namen,0),""))
A32: =IF(MONTH(DATE(Jahr,2,26))=2,DATE(Jahr,2,26),"") | B32: =IF(A32="","",CHOOSE(WEEKDAY(A32,2),"Mo","Di","Mi","Do","Fr","Sa","So")) | C32: =IF(A32="","",IFERROR(INDEX(FT_Name,MATCH(A32,FT_DatumGilt,0)),"")) | H32: =IF(N32=0,"",IF(PauseErgaenzen="ja",MAX(N(G32),O32),N(G32))) | I32: =IF(OR(J32="",S32=""),"",(N32-N(H32))/60+IF(U32="",0,INDEX(Abw_Gutschrift,U32))*J32) | J32: =IF(OR(A32="",A32<Beginn),"",IF(OR(C32<>"",IF(U32="",FALSE,INDEX(Abw_SollEntfaellt,U32)="ja")),0,T32)) | K32: =IF(J32="","",IF(S32="",IF(OR(A32>=TODAY(),OhneEintragMinus<>"ja",J32=0),"",-J32),I32-J32)) | L32: =IF(A32="","",IF(AND(E32<>"",F32=""),IF(A32<TODAY(),"Gehen fehlt",""),IF(AND(F32<>"",E32=""),"Kommen fehlt",IF(AND(D32<>"",U32=""),"Abwesenheit unbekannt",IF(N32-N(H32)>600,"über 10 Std. (§ 3 ArbZG)",IF(AND(N32>0,N(G32)<O32),IF(PauseErgaenzen="ja","Pause ergänzt (§ 4 ArbZG)","Pause zu kurz (§ 4 ArbZG)"),IF(AND(E32<>"",N(P31)>0,A32+E32-N(P31)<11/24-1/2880),"Ruhezeit unter 11 Std. (§ 5 ArbZG)",IF(AND(S32="",N(J32)>0,A32<TODAY()),"kein Eintrag","")))))))) | N32: =IF(OR(A32="",E32="",F32=""),0,ROUND(MOD(F32-E32,1)*1440,0)) | O32: =MIN(MAX(N32-360,0),30)+MIN(MAX(N32-570,0),15) | P32: =IF(N32=0,"",A32+F32+IF(F32<E32,1,0)) | Q32: =IF(OR(U32="",N(J32)=0),0,INDEX(Abw_Urlaub,U32)) | R32: =IF(OR(U32="",N(J32)=0),0,INDEX(Abw_Krank,U32)) | S32: =IF(AND(A32<>"",OR(D32<>"",E32<>"",F32<>"")),A32,"") | T32: =IF(A32="",0,INDEX(SollWoche,WEEKDAY(A32,2))) | U32: =IF(D32="","",IFERROR(MATCH(D32,Abw_Namen,0),""))
A33: =IF(MONTH(DATE(Jahr,2,27))=2,DATE(Jahr,2,27),"") | B33: =IF(A33="","",CHOOSE(WEEKDAY(A33,2),"Mo","Di","Mi","Do","Fr","Sa","So")) | C33: =IF(A33="","",IFERROR(INDEX(FT_Name,MATCH(A33,FT_DatumGilt,0)),"")) | H33: =IF(N33=0,"",IF(PauseErgaenzen="ja",MAX(N(G33),O33),N(G33))) | I33: =IF(OR(J33="",S33=""),"",(N33-N(H33))/60+IF(U33="",0,INDEX(Abw_Gutschrift,U33))*J33) | J33: =IF(OR(A33="",A33<Beginn),"",IF(OR(C33<>"",IF(U33="",FALSE,INDEX(Abw_SollEntfaellt,U33)="ja")),0,T33)) | K33: =IF(J33="","",IF(S33="",IF(OR(A33>=TODAY(),OhneEintragMinus<>"ja",J33=0),"",-J33),I33-J33)) | L33: =IF(A33="","",IF(AND(E33<>"",F33=""),IF(A33<TODAY(),"Gehen fehlt",""),IF(AND(F33<>"",E33=""),"Kommen fehlt",IF(AND(D33<>"",U33=""),"Abwesenheit unbekannt",IF(N33-N(H33)>600,"über 10 Std. (§ 3 ArbZG)",IF(AND(N33>0,N(G33)<O33),IF(PauseErgaenzen="ja","Pause ergänzt (§ 4 ArbZG)","Pause zu kurz (§ 4 ArbZG)"),IF(AND(E33<>"",N(P32)>0,A33+E33-N(P32)<11/24-1/2880),"Ruhezeit unter 11 Std. (§ 5 ArbZG)",IF(AND(S33="",N(J33)>0,A33<TODAY()),"kein Eintrag","")))))))) | N33: =IF(OR(A33="",E33="",F33=""),0,ROUND(MOD(F33-E33,1)*1440,0)) | O33: =MIN(MAX(N33-360,0),30)+MIN(MAX(N33-570,0),15) | P33: =IF(N33=0,"",A33+F33+IF(F33<E33,1,0)) | Q33: =IF(OR(U33="",N(J33)=0),0,INDEX(Abw_Urlaub,U33)) | R33: =IF(OR(U33="",N(J33)=0),0,INDEX(Abw_Krank,U33)) | S33: =IF(AND(A33<>"",OR(D33<>"",E33<>"",F33<>"")),A33,"") | T33: =IF(A33="",0,INDEX(SollWoche,WEEKDAY(A33,2))) | U33: =IF(D33="","",IFERROR(MATCH(D33,Abw_Namen,0),""))
A34: =IF(MONTH(DATE(Jahr,2,28))=2,DATE(Jahr,2,28),"") | B34: =IF(A34="","",CHOOSE(WEEKDAY(A34,2),"Mo","Di","Mi","Do","Fr","Sa","So")) | C34: =IF(A34="","",IFERROR(INDEX(FT_Name,MATCH(A34,FT_DatumGilt,0)),"")) | H34: =IF(N34=0,"",IF(PauseErgaenzen="ja",MAX(N(G34),O34),N(G34))) | I34: =IF(OR(J34="",S34=""),"",(N34-N(H34))/60+IF(U34="",0,INDEX(Abw_Gutschrift,U34))*J34) | J34: =IF(OR(A34="",A34<Beginn),"",IF(OR(C34<>"",IF(U34="",FALSE,INDEX(Abw_SollEntfaellt,U34)="ja")),0,T34)) | K34: =IF(J34="","",IF(S34="",IF(OR(A34>=TODAY(),OhneEintragMinus<>"ja",J34=0),"",-J34),I34-J34)) | L34: =IF(A34="","",IF(AND(E34<>"",F34=""),IF(A34<TODAY(),"Gehen fehlt",""),IF(AND(F34<>"",E34=""),"Kommen fehlt",IF(AND(D34<>"",U34=""),"Abwesenheit unbekannt",IF(N34-N(H34)>600,"über 10 Std. (§ 3 ArbZG)",IF(AND(N34>0,N(G34)<O34),IF(PauseErgaenzen="ja","Pause ergänzt (§ 4 ArbZG)","Pause zu kurz (§ 4 ArbZG)"),IF(AND(E34<>"",N(P33)>0,A34+E34-N(P33)<11/24-1/2880),"Ruhezeit unter 11 Std. (§ 5 ArbZG)",IF(AND(S34="",N(J34)>0,A34<TODAY()),"kein Eintrag","")))))))) | N34: =IF(OR(A34="",E34="",F34=""),0,ROUND(MOD(F34-E34,1)*1440,0)) | O34: =MIN(MAX(N34-360,0),30)+MIN(MAX(N34-570,0),15) | P34: =IF(N34=0,"",A34+F34+IF(F34<E34,1,0)) | Q34: =IF(OR(U34="",N(J34)=0),0,INDEX(Abw_Urlaub,U34)) | R34: =IF(OR(U34="",N(J34)=0),0,INDEX(Abw_Krank,U34)) | S34: =IF(AND(A34<>"",OR(D34<>"",E34<>"",F34<>"")),A34,"") | T34: =IF(A34="",0,INDEX(SollWoche,WEEKDAY(A34,2))) | U34: =IF(D34="","",IFERROR(MATCH(D34,Abw_Namen,0),""))
A35: =IF(MONTH(DATE(Jahr,2,29))=2,DATE(Jahr,2,29),"") | B35: =IF(A35="","",CHOOSE(WEEKDAY(A35,2),"Mo","Di","Mi","Do","Fr","Sa","So")) | C35: =IF(A35="","",IFERROR(INDEX(FT_Name,MATCH(A35,FT_DatumGilt,0)),"")) | H35: =IF(N35=0,"",IF(PauseErgaenzen="ja",MAX(N(G35),O35),N(G35))) | I35: =IF(OR(J35="",S35=""),"",(N35-N(H35))/60+IF(U35="",0,INDEX(Abw_Gutschrift,U35))*J35) | J35: =IF(OR(A35="",A35<Beginn),"",IF(OR(C35<>"",IF(U35="",FALSE,INDEX(Abw_SollEntfaellt,U35)="ja")),0,T35)) | K35: =IF(J35="","",IF(S35="",IF(OR(A35>=TODAY(),OhneEintragMinus<>"ja",J35=0),"",-J35),I35-J35)) | L35: =IF(A35="","",IF(AND(E35<>"",F35=""),IF(A35<TODAY(),"Gehen fehlt",""),IF(AND(F35<>"",E35=""),"Kommen fehlt",IF(AND(D35<>"",U35=""),"Abwesenheit unbekannt",IF(N35-N(H35)>600,"über 10 Std. (§ 3 ArbZG)",IF(AND(N35>0,N(G35)<O35),IF(PauseErgaenzen="ja","Pause ergänzt (§ 4 ArbZG)","Pause zu kurz (§ 4 ArbZG)"),IF(AND(E35<>"",N(P34)>0,A35+E35-N(P34)<11/24-1/2880),"Ruhezeit unter 11 Std. (§ 5 ArbZG)",IF(AND(S35="",N(J35)>0,A35<TODAY()),"kein Eintrag","")))))))) | N35: =IF(OR(A35="",E35="",F35=""),0,ROUND(MOD(F35-E35,1)*1440,0)) | O35: =MIN(MAX(N35-360,0),30)+MIN(MAX(N35-570,0),15) | P35: =IF(N35=0,"",A35+F35+IF(F35<E35,1,0)) | Q35: =IF(OR(U35="",N(J35)=0),0,INDEX(Abw_Urlaub,U35)) | R35: =IF(OR(U35="",N(J35)=0),0,INDEX(Abw_Krank,U35)) | S35: =IF(AND(A35<>"",OR(D35<>"",E35<>"",F35<>"")),A35,"") | T35: =IF(A35="",0,INDEX(SollWoche,WEEKDAY(A35,2))) | U35: =IF(D35="","",IFERROR(MATCH(D35,Abw_Namen,0),""))
A36: =IF(MONTH(DATE(Jahr,2,30))=2,DATE(Jahr,2,30),"") | B36: =IF(A36="","",CHOOSE(WEEKDAY(A36,2),"Mo","Di","Mi","Do","Fr","Sa","So")) | C36: =IF(A36="","",IFERROR(INDEX(FT_Name,MATCH(A36,FT_DatumGilt,0)),"")) | H36: =IF(N36=0,"",IF(PauseErgaenzen="ja",MAX(N(G36),O36),N(G36))) | I36: =IF(OR(J36="",S36=""),"",(N36-N(H36))/60+IF(U36="",0,INDEX(Abw_Gutschrift,U36))*J36) | J36: =IF(OR(A36="",A36<Beginn),"",IF(OR(C36<>"",IF(U36="",FALSE,INDEX(Abw_SollEntfaellt,U36)="ja")),0,T36)) | K36: =IF(J36="","",IF(S36="",IF(OR(A36>=TODAY(),OhneEintragMinus<>"ja",J36=0),"",-J36),I36-J36)) | L36: =IF(A36="","",IF(AND(E36<>"",F36=""),IF(A36<TODAY(),"Gehen fehlt",""),IF(AND(F36<>"",E36=""),"Kommen fehlt",IF(AND(D36<>"",U36=""),"Abwesenheit unbekannt",IF(N36-N(H36)>600,"über 10 Std. (§ 3 ArbZG)",IF(AND(N36>0,N(G36)<O36),IF(PauseErgaenzen="ja","Pause ergänzt (§ 4 ArbZG)","Pause zu kurz (§ 4 ArbZG)"),IF(AND(E36<>"",N(P35)>0,A36+E36-N(P35)<11/24-1/2880),"Ruhezeit unter 11 Std. (§ 5 ArbZG)",IF(AND(S36="",N(J36)>0,A36<TODAY()),"kein Eintrag","")))))))) | N36: =IF(OR(A36="",E36="",F36=""),0,ROUND(MOD(F36-E36,1)*1440,0)) | O36: =MIN(MAX(N36-360,0),30)+MIN(MAX(N36-570,0),15) | P36: =IF(N36=0,"",A36+F36+IF(F36<E36,1,0)) | Q36: =IF(OR(U36="",N(J36)=0),0,INDEX(Abw_Urlaub,U36)) | R36: =IF(OR(U36="",N(J36)=0),0,INDEX(Abw_Krank,U36)) | S36: =IF(AND(A36<>"",OR(D36<>"",E36<>"",F36<>"")),A36,"") | T36: =IF(A36="",0,INDEX(SollWoche,WEEKDAY(A36,2))) | U36: =IF(D36="","",IFERROR(MATCH(D36,Abw_Namen,0),""))
A37: =IF(MONTH(DATE(Jahr,2,31))=2,DATE(Jahr,2,31),"") | B37: =IF(A37="","",CHOOSE(WEEKDAY(A37,2),"Mo","Di","Mi","Do","Fr","Sa","So")) | C37: =IF(A37="","",IFERROR(INDEX(FT_Name,MATCH(A37,FT_DatumGilt,0)),"")) | H37: =IF(N37=0,"",IF(PauseErgaenzen="ja",MAX(N(G37),O37),N(G37))) | I37: =IF(OR(J37="",S37=""),"",(N37-N(H37))/60+IF(U37="",0,INDEX(Abw_Gutschrift,U37))*J37) | J37: =IF(OR(A37="",A37<Beginn),"",IF(OR(C37<>"",IF(U37="",FALSE,INDEX(Abw_SollEntfaellt,U37)="ja")),0,T37)) | K37: =IF(J37="","",IF(S37="",IF(OR(A37>=TODAY(),OhneEintragMinus<>"ja",J37=0),"",-J37),I37-J37)) | L37: =IF(A37="","",IF(AND(E37<>"",F37=""),IF(A37<TODAY(),"Gehen fehlt",""),IF(AND(F37<>"",E37=""),"Kommen fehlt",IF(AND(D37<>"",U37=""),"Abwesenheit unbekannt",IF(N37-N(H37)>600,"über 10 Std. (§ 3 ArbZG)",IF(AND(N37>0,N(G37)<O37),IF(PauseErgaenzen="ja","Pause ergänzt (§ 4 ArbZG)","Pause zu kurz (§ 4 ArbZG)"),IF(AND(E37<>"",N(P36)>0,A37+E37-N(P36)<11/24-1/2880),"Ruhezeit unter 11 Std. (§ 5 ArbZG)",IF(AND(S37="",N(J37)>0,A37<TODAY()),"kein Eintrag","")))))))) | N37: =IF(OR(A37="",E37="",F37=""),0,ROUND(MOD(F37-E37,1)*1440,0)) | O37: =MIN(MAX(N37-360,0),30)+MIN(MAX(N37-570,0),15) | P37: =IF(N37=0,"",A37+F37+IF(F37<E37,1,0)) | Q37: =IF(OR(U37="",N(J37)=0),0,INDEX(Abw_Urlaub,U37)) | R37: =IF(OR(U37="",N(J37)=0),0,INDEX(Abw_Krank,U37)) | S37: =IF(AND(A37<>"",OR(D37<>"",E37<>"",F37<>"")),A37,"") | T37: =IF(A37="",0,INDEX(SollWoche,WEEKDAY(A37,2))) | U37: =IF(D37="","",IFERROR(MATCH(D37,Abw_Namen,0),""))
A40: Datum, Unterschrift Mitarbeiter | H40: Datum, Unterschrift Arbeitgeber

Sheet März
A1: ="Stundenzettel März "&Jahr
A2: Kostenlose Vorlage von ExcelDok · exceldok.de · hellgelb eintragen, grau rechnet selbst · Erklärung im Blatt Anleitung
A3: Mitarbeiter | D3: Zeitkonto Vormonat | E3: Urlaub (Tage) | F3: Rest-urlaub | G3: Krank (Tage) | H3: Hinweise | I3: Ist | J3: Soll | K3: Saldo Monat | L3: Zeitkonto am Monatsende
A4: =IF(Name="","(Name in den Einstellungen)",Name) | D4: ='Februar'!$L$4 | E4: =SUM(Q7:Q37) | F4: ='Februar'!$F$4-E4 | G4: =SUM(R7:R37) | H4: =COUNTIF(L7:L37,"?*") | I4: =SUM(I7:I37) | J4: =SUMPRODUCT(--(K7:K37<>""),J7:J37) | K4: =SUM(K7:K37) | L4: =D4+K4
A6: Datum | B6: Tag | C6: Feiertag | D6: Abwesenheit | E6: Kommen | F6: Gehen | G6: Pause (Min.) | H6: Pause gezählt | I6: Ist (Std.) | J6: Soll (Std.) | K6: Saldo (Std.) | L6: Hinweis | M6: Bemerkung / Projekt | N6: Brutto (Min.) | O6: Mindestpause | P6: Ende | Q6: Urlaubstage | R6: Krankheitstage | S6: Eintrag | T6: Sollbasis | U6: Abw.-Nr.
A7: =IF(MONTH(DATE(Jahr,3,1))=3,DATE(Jahr,3,1),"") | B7: =IF(A7="","",CHOOSE(WEEKDAY(A7,2),"Mo","Di","Mi","Do","Fr","Sa","So")) | C7: =IF(A7="","",IFERROR(INDEX(FT_Name,MATCH(A7,FT_DatumGilt,0)),"")) | H7: =IF(N7=0,"",IF(PauseErgaenzen="ja",MAX(N(G7),O7),N(G7))) | I7: =IF(OR(J7="",S7=""),"",(N7-N(H7))/60+IF(U7="",0,INDEX(Abw_Gutschrift,U7))*J7) | J7: =IF(OR(A7="",A7<Beginn),"",IF(OR(C7<>"",IF(U7="",FALSE,INDEX(Abw_SollEntfaellt,U7)="ja")),0,T7)) | K7: =IF(J7="","",IF(S7="",IF(OR(A7>=TODAY(),OhneEintragMinus<>"ja",J7=0),"",-J7),I7-J7)) | L7: =IF(A7="","",IF(AND(E7<>"",F7=""),IF(A7<TODAY(),"Gehen fehlt",""),IF(AND(F7<>"",E7=""),"Kommen fehlt",IF(AND(D7<>"",U7=""),"Abwesenheit unbekannt",IF(N7-N(H7)>600,"über 10 Std. (§ 3 ArbZG)",IF(AND(N7>0,N(G7)<O7),IF(PauseErgaenzen="ja","Pause ergänzt (§ 4 ArbZG)","Pause zu kurz (§ 4 ArbZG)"),IF(AND(E7<>"",MAX('Februar'!$P$7:$P$37)>0,A7+E7-MAX('Februar'!$P$7:$P$37)<11/24-1/2880),"Ruhezeit unter 11 Std. (§ 5 ArbZG)",IF(AND(S7="",N(J7)>0,A7<TODAY()),"kein Eintrag","")))))))) | N7: =IF(OR(A7="",E7="",F7=""),0,ROUND(MOD(F7-E7,1)*1440,0)) | O7: =MIN(MAX(N7-360,0),30)+MIN(MAX(N7-570,0),15) | P7: =IF(N7=0,"",A7+F7+IF(F7<E7,1,0)) | Q7: =IF(OR(U7="",N(J7)=0),0,INDEX(Abw_Urlaub,U7)) | R7: =IF(OR(U7="",N(J7)=0),0,INDEX(Abw_Krank,U7)) | S7: =IF(AND(A7<>"",OR(D7<>"",E7<>"",F7<>"")),A7,"") | T7: =IF(A7="",0,INDEX(SollWoche,WEEKDAY(A7,2))) | U7: =IF(D7="","",IFERROR(MATCH(D7,Abw_Namen,0),""))
A8: =IF(MONTH(DATE(Jahr,3,2))=3,DATE(Jahr,3,2),"") | B8: =IF(A8="","",CHOOSE(WEEKDAY(A8,2),"Mo","Di","Mi","Do","Fr","Sa","So")) | C8: =IF(A8="","",IFERROR(INDEX(FT_Name,MATCH(A8,FT_DatumGilt,0)),"")) | H8: =IF(N8=0,"",IF(PauseErgaenzen="ja",MAX(N(G8),O8),N(G8))) | I8: =IF(OR(J8="",S8=""),"",(N8-N(H8))/60+IF(U8="",0,INDEX(Abw_Gutschrift,U8))*J8) | J8: =IF(OR(A8="",A8<Beginn),"",IF(OR(C8<>"",IF(U8="",FALSE,INDEX(Abw_SollEntfaellt,U8)="ja")),0,T8)) | K8: =IF(J8="","",IF(S8="",IF(OR(A8>=TODAY(),OhneEintragMinus<>"ja",J8=0),"",-J8),I8-J8)) | L8: =IF(A8="","",IF(AND(E8<>"",F8=""),IF(A8<TODAY(),"Gehen fehlt",""),IF(AND(F8<>"",E8=""),"Kommen fehlt",IF(AND(D8<>"",U8=""),"Abwesenheit unbekannt",IF(N8-N(H8)>600,"über 10 Std. (§ 3 ArbZG)",IF(AND(N8>0,N(G8)<O8),IF(PauseErgaenzen="ja","Pause ergänzt (§ 4 ArbZG)","Pause zu kurz (§ 4 ArbZG)"),IF(AND(E8<>"",N(P7)>0,A8+E8-N(P7)<11/24-1/2880),"Ruhezeit unter 11 Std. (§ 5 ArbZG)",IF(AND(S8="",N(J8)>0,A8<TODAY()),"kein Eintrag","")))))))) | N8: =IF(OR(A8="",E8="",F8=""),0,ROUND(MOD(F8-E8,1)*1440,0)) | O8: =MIN(MAX(N8-360,0),30)+MIN(MAX(N8-570,0),15) | P8: =IF(N8=0,"",A8+F8+IF(F8<E8,1,0)) | Q8: =IF(OR(U8="",N(J8)=0),0,INDEX(Abw_Urlaub,U8)) | R8: =IF(OR(U8="",N(J8)=0),0,INDEX(Abw_Krank,U8)) | S8: =IF(AND(A8<>"",OR(D8<>"",E8<>"",F8<>"")),A8,"") | T8: =IF(A8="",0,INDEX(SollWoche,WEEKDAY(A8,2))) | U8: =IF(D8="","",IFERROR(MATCH(D8,Abw_Namen,0),""))
A9: =IF(MONTH(DATE(Jahr,3,3))=3,DATE(Jahr,3,3),"") | B9: =IF(A9="","",CHOOSE(WEEKDAY(A9,2),"Mo","Di","Mi","Do","Fr","Sa","So")) | C9: =IF(A9="","",IFERROR(INDEX(FT_Name,MATCH(A9,FT_DatumGilt,0)),"")) | H9: =IF(N9=0,"",IF(PauseErgaenzen="ja",MAX(N(G9),O9),N(G9))) | I9: =IF(OR(J9="",S9=""),"",(N9-N(H9))/60+IF(U9="",0,INDEX(Abw_Gutschrift,U9))*J9) | J9: =IF(OR(A9="",A9<Beginn),"",IF(OR(C9<>"",IF(U9="",FALSE,INDEX(Abw_SollEntfaellt,U9)="ja")),0,T9)) | K9: =IF(J9="","",IF(S9="",IF(OR(A9>=TODAY(),OhneEintragMinus<>"ja",J9=0),"",-J9),I9-J9)) | L9: =IF(A9="","",IF(AND(E9<>"",F9=""),IF(A9<TODAY(),"Gehen fehlt",""),IF(AND(F9<>"",E9=""),"Kommen fehlt",IF(AND(D9<>"",U9=""),"Abwesenheit unbekannt",IF(N9-N(H9)>600,"über 10 Std. (§ 3 ArbZG)",IF(AND(N9>0,N(G9)<O9),IF(PauseErgaenzen="ja","Pause ergänzt (§ 4 ArbZG)","Pause zu kurz (§ 4 ArbZG)"),IF(AND(E9<>"",N(P8)>0,A9+E9-N(P8)<11/24-1/2880),"Ruhezeit unter 11 Std. (§ 5 ArbZG)",IF(AND(S9="",N(J9)>0,A9<TODAY()),"kein Eintrag","")))))))) | N9: =IF(OR(A9="",E9="",F9=""),0,ROUND(MOD(F9-E9,1)*1440,0)) | O9: =MIN(MAX(N9-360,0),30)+MIN(MAX(N9-570,0),15) | P9: =IF(N9=0,"",A9+F9+IF(F9<E9,1,0)) | Q9: =IF(OR(U9="",N(J9)=0),0,INDEX(Abw_Urlaub,U9)) | R9: =IF(OR(U9="",N(J9)=0),0,INDEX(Abw_Krank,U9)) | S9: =IF(AND(A9<>"",OR(D9<>"",E9<>"",F9<>"")),A9,"") | T9: =IF(A9="",0,INDEX(SollWoche,WEEKDAY(A9,2))) | U9: =IF(D9="","",IFERROR(MATCH(D9,Abw_Namen,0),""))
A10: =IF(MONTH(DATE(Jahr,3,4))=3,DATE(Jahr,3,4),"") | B10: =IF(A10="","",CHOOSE(WEEKDAY(A10,2),"Mo","Di","Mi","Do","Fr","Sa","So")) | C10: =IF(A10="","",IFERROR(INDEX(FT_Name,MATCH(A10,FT_DatumGilt,0)),"")) | H10: =IF(N10=0,"",IF(PauseErgaenzen="ja",MAX(N(G10),O10),N(G10))) | I10: =IF(OR(J10="",S10=""),"",(N10-N(H10))/60+IF(U10="",0,INDEX(Abw_Gutschrift,U10))*J10) | J10: =IF(OR(A10="",A10<Beginn),"",IF(OR(C10<>"",IF(U10="",FALSE,INDEX(Abw_SollEntfaellt,U10)="ja")),0,T10)) | K10: =IF(J10="","",IF(S10="",IF(OR(A10>=TODAY(),OhneEintragMinus<>"ja",J10=0),"",-J10),I10-J10)) | L10: =IF(A10="","",IF(AND(E10<>"",F10=""),IF(A10<TODAY(),"Gehen fehlt",""),IF(AND(F10<>"",E10=""),"Kommen fehlt",IF(AND(D10<>"",U10=""),"Abwesenheit unbekannt",IF(N10-N(H10)>600,"über 10 Std. (§ 3 ArbZG)",IF(AND(N10>0,N(G10)<O10),IF(PauseErgaenzen="ja","Pause ergänzt (§ 4 ArbZG)","Pause zu kurz (§ 4 ArbZG)"),IF(AND(E10<>"",N(P9)>0,A10+E10-N(P9)<11/24-1/2880),"Ruhezeit unter 11 Std. (§ 5 ArbZG)",IF(AND(S10="",N(J10)>0,A10<TODAY()),"kein Eintrag","")))))))) | N10: =IF(OR(A10="",E10="",F10=""),0,ROUND(MOD(F10-E10,1)*1440,0)) | O10: =MIN(MAX(N10-360,0),30)+MIN(MAX(N10-570,0),15) | P10: =IF(N10=0,"",A10+F10+IF(F10<E10,1,0)) | Q10: =IF(OR(U10="",N(J10)=0),0,INDEX(Abw_Urlaub,U10)) | R10: =IF(OR(U10="",N(J10)=0),0,INDEX(Abw_Krank,U10)) | S10: =IF(AND(A10<>"",OR(D10<>"",E10<>"",F10<>"")),A10,"") | T10: =IF(A10="",0,INDEX(SollWoche,WEEKDAY(A10,2))) | U10: =IF(D10="","",IFERROR(MATCH(D10,Abw_Namen,0),""))
A11: =IF(MONTH(DATE(Jahr,3,5))=3,DATE(Jahr,3,5),"") | B11: =IF(A11="","",CHOOSE(WEEKDAY(A11,2),"Mo","Di","Mi","Do","Fr","Sa","So")) | C11: =IF(A11="","",IFERROR(INDEX(FT_Name,MATCH(A11,FT_DatumGilt,0)),"")) | H11: =IF(N11=0,"",IF(PauseErgaenzen="ja",MAX(N(G11),O11),N(G11))) | I11: =IF(OR(J11="",S11=""),"",(N11-N(H11))/60+IF(U11="",0,INDEX(Abw_Gutschrift,U11))*J11) | J11: =IF(OR(A11="",A11<Beginn),"",IF(OR(C11<>"",IF(U11="",FALSE,INDEX(Abw_SollEntfaellt,U11)="ja")),0,T11)) | K11: =IF(J11="","",IF(S11="",IF(OR(A11>=TODAY(),OhneEintragMinus<>"ja",J11=0),"",-J11),I11-J11)) | L11: =IF(A11="","",IF(AND(E11<>"",F11=""),IF(A11<TODAY(),"Gehen fehlt",""),IF(AND(F11<>"",E11=""),"Kommen fehlt",IF(AND(D11<>"",U11=""),"Abwesenheit unbekannt",IF(N11-N(H11)>600,"über 10 Std. (§ 3 ArbZG)",IF(AND(N11>0,N(G11)<O11),IF(PauseErgaenzen="ja","Pause ergänzt (§ 4 ArbZG)","Pause zu kurz (§ 4 ArbZG)"),IF(AND(E11<>"",N(P10)>0,A11+E11-N(P10)<11/24-1/2880),"Ruhezeit unter 11 Std. (§ 5 ArbZG)",IF(AND(S11="",N(J11)>0,A11<TODAY()),"kein Eintrag","")))))))) | N11: =IF(OR(A11="",E11="",F11=""),0,ROUND(MOD(F11-E11,1)*1440,0)) | O11: =MIN(MAX(N11-360,0),30)+MIN(MAX(N11-570,0),15) | P11: =IF(N11=0,"",A11+F11+IF(F11<E11,1,0)) | Q11: =IF(OR(U11="",N(J11)=0),0,INDEX(Abw_Urlaub,U11)) | R11: =IF(OR(U11="",N(J11)=0),0,INDEX(Abw_Krank,U11)) | S11: =IF(AND(A11<>"",OR(D11<>"",E11<>"",F11<>"")),A11,"") | T11: =IF(A11="",0,INDEX(SollWoche,WEEKDAY(A11,2))) | U11: =IF(D11="","",IFERROR(MATCH(D11,Abw_Namen,0),""))
A12: =IF(MONTH(DATE(Jahr,3,6))=3,DATE(Jahr,3,6),"") | B12: =IF(A12="","",CHOOSE(WEEKDAY(A12,2),"Mo","Di","Mi","Do","Fr","Sa","So")) | C12: =IF(A12="","",IFERROR(INDEX(FT_Name,MATCH(A12,FT_DatumGilt,0)),"")) | H12: =IF(N12=0,"",IF(PauseErgaenzen="ja",MAX(N(G12),O12),N(G12))) | I12: =IF(OR(J12="",S12=""),"",(N12-N(H12))/60+IF(U12="",0,INDEX(Abw_Gutschrift,U12))*J12) | J12: =IF(OR(A12="",A12<Beginn),"",IF(OR(C12<>"",IF(U12="",FALSE,INDEX(Abw_SollEntfaellt,U12)="ja")),0,T12)) | K12: =IF(J12="","",IF(S12="",IF(OR(A12>=TODAY(),OhneEintragMinus<>"ja",J12=0),"",-J12),I12-J12)) | L12: =IF(A12="","",IF(AND(E12<>"",F12=""),IF(A12<TODAY(),"Gehen fehlt",""),IF(AND(F12<>"",E12=""),"Kommen fehlt",IF(AND(D12<>"",U12=""),"Abwesenheit unbekannt",IF(N12-N(H12)>600,"über 10 Std. (§ 3 ArbZG)",IF(AND(N12>0,N(G12)<O12),IF(PauseErgaenzen="ja","Pause ergänzt (§ 4 ArbZG)","Pause zu kurz (§ 4 ArbZG)"),IF(AND(E12<>"",N(P11)>0,A12+E12-N(P11)<11/24-1/2880),"Ruhezeit unter 11 Std. (§ 5 ArbZG)",IF(AND(S12="",N(J12)>0,A12<TODAY()),"kein Eintrag","")))))))) | N12: =IF(OR(A12="",E12="",F12=""),0,ROUND(MOD(F12-E12,1)*1440,0)) | O12: =MIN(MAX(N12-360,0),30)+MIN(MAX(N12-570,0),15) | P12: =IF(N12=0,"",A12+F12+IF(F12<E12,1,0)) | Q12: =IF(OR(U12="",N(J12)=0),0,INDEX(Abw_Urlaub,U12)) | R12: =IF(OR(U12="",N(J12)=0),0,INDEX(Abw_Krank,U12)) | S12: =IF(AND(A12<>"",OR(D12<>"",E12<>"",F12<>"")),A12,"") | T12: =IF(A12="",0,INDEX(SollWoche,WEEKDAY(A12,2))) | U12: =IF(D12="","",IFERROR(MATCH(D12,Abw_Namen,0),""))
A13: =IF(MONTH(DATE(Jahr,3,7))=3,DATE(Jahr,3,7),"") | B13: =IF(A13="","",CHOOSE(WEEKDAY(A13,2),"Mo","Di","Mi","Do","Fr","Sa","So")) | C13: =IF(A13="","",IFERROR(INDEX(FT_Name,MATCH(A13,FT_DatumGilt,0)),"")) | H13: =IF(N13=0,"",IF(PauseErgaenzen="ja",MAX(N(G13),O13),N(G13))) | I13: =IF(OR(J13="",S13=""),"",(N13-N(H13))/60+IF(U13="",0,INDEX(Abw_Gutschrift,U13))*J13) | J13: =IF(OR(A13="",A13<Beginn),"",IF(OR(C13<>"",IF(U13="",FALSE,INDEX(Abw_SollEntfaellt,U13)="ja")),0,T13)) | K13: =IF(J13="","",IF(S13="",IF(OR(A13>=TODAY(),OhneEintragMinus<>"ja",J13=0),"",-J13),I13-J13)) | L13: =IF(A13="","",IF(AND(E13<>"",F13=""),IF(A13<TODAY(),"Gehen fehlt",""),IF(AND(F13<>"",E13=""),"Kommen fehlt",IF(AND(D13<>"",U13=""),"Abwesenheit unbekannt",IF(N13-N(H13)>600,"über 10 Std. (§ 3 ArbZG)",IF(AND(N13>0,N(G13)<O13),IF(PauseErgaenzen="ja","Pause ergänzt (§ 4 ArbZG)","Pause zu kurz (§ 4 ArbZG)"),IF(AND(E13<>"",N(P12)>0,A13+E13-N(P12)<11/24-1/2880),"Ruhezeit unter 11 Std. (§ 5 ArbZG)",IF(AND(S13="",N(J13)>0,A13<TODAY()),"kein Eintrag","")))))))) | N13: =IF(OR(A13="",E13="",F13=""),0,ROUND(MOD(F13-E13,1)*1440,0)) | O13: =MIN(MAX(N13-360,0),30)+MIN(MAX(N13-570,0),15) | P13: =IF(N13=0,"",A13+F13+IF(F13<E13,1,0)) | Q13: =IF(OR(U13="",N(J13)=0),0,INDEX(Abw_Urlaub,U13)) | R13: =IF(OR(U13="",N(J13)=0),0,INDEX(Abw_Krank,U13)) | S13: =IF(AND(A13<>"",OR(D13<>"",E13<>"",F13<>"")),A13,"") | T13: =IF(A13="",0,INDEX(SollWoche,WEEKDAY(A13,2))) | U13: =IF(D13="","",IFERROR(MATCH(D13,Abw_Namen,0),""))
A14: =IF(MONTH(DATE(Jahr,3,8))=3,DATE(Jahr,3,8),"") | B14: =IF(A14="","",CHOOSE(WEEKDAY(A14,2),"Mo","Di","Mi","Do","Fr","Sa","So")) | C14: =IF(A14="","",IFERROR(INDEX(FT_Name,MATCH(A14,FT_DatumGilt,0)),"")) | H14: =IF(N14=0,"",IF(PauseErgaenzen="ja",MAX(N(G14),O14),N(G14))) | I14: =IF(OR(J14="",S14=""),"",(N14-N(H14))/60+IF(U14="",0,INDEX(Abw_Gutschrift,U14))*J14) | J14: =IF(OR(A14="",A14<Beginn),"",IF(OR(C14<>"",IF(U14="",FALSE,INDEX(Abw_SollEntfaellt,U14)="ja")),0,T14)) | K14: =IF(J14="","",IF(S14="",IF(OR(A14>=TODAY(),OhneEintragMinus<>"ja",J14=0),"",-J14),I14-J14)) | L14: =IF(A14="","",IF(AND(E14<>"",F14=""),IF(A14<TODAY(),"Gehen fehlt",""),IF(AND(F14<>"",E14=""),"Kommen fehlt",IF(AND(D14<>"",U14=""),"Abwesenheit unbekannt",IF(N14-N(H14)>600,"über 10 Std. (§ 3 ArbZG)",IF(AND(N14>0,N(G14)<O14),IF(PauseErgaenzen="ja","Pause ergänzt (§ 4 ArbZG)","Pause zu kurz (§ 4 ArbZG)"),IF(AND(E14<>"",N(P13)>0,A14+E14-N(P13)<11/24-1/2880),"Ruhezeit unter 11 Std. (§ 5 ArbZG)",IF(AND(S14="",N(J14)>0,A14<TODAY()),"kein Eintrag","")))))))) | N14: =IF(OR(A14="",E14="",F14=""),0,ROUND(MOD(F14-E14,1)*1440,0)) | O14: =MIN(MAX(N14-360,0),30)+MIN(MAX(N14-570,0),15) | P14: =IF(N14=0,"",A14+F14+IF(F14<E14,1,0)) | Q14: =IF(OR(U14="",N(J14)=0),0,INDEX(Abw_Urlaub,U14)) | R14: =IF(OR(U14="",N(J14)=0),0,INDEX(Abw_Krank,U14)) | S14: =IF(AND(A14<>"",OR(D14<>"",E14<>"",F14<>"")),A14,"") | T14: =IF(A14="",0,INDEX(SollWoche,WEEKDAY(A14,2))) | U14: =IF(D14="","",IFERROR(MATCH(D14,Abw_Namen,0),""))
A15: =IF(MONTH(DATE(Jahr,3,9))=3,DATE(Jahr,3,9),"") | B15: =IF(A15="","",CHOOSE(WEEKDAY(A15,2),"Mo","Di","Mi","Do","Fr","Sa","So")) | C15: =IF(A15="","",IFERROR(INDEX(FT_Name,MATCH(A15,FT_DatumGilt,0)),"")) | H15: =IF(N15=0,"",IF(PauseErgaenzen="ja",MAX(N(G15),O15),N(G15))) | I15: =IF(OR(J15="",S15=""),"",(N15-N(H15))/60+IF(U15="",0,INDEX(Abw_Gutschrift,U15))*J15) | J15: =IF(OR(A15="",A15<Beginn),"",IF(OR(C15<>"",IF(U15="",FALSE,INDEX(Abw_SollEntfaellt,U15)="ja")),0,T15)) | K15: =IF(J15="","",IF(S15="",IF(OR(A15>=TODAY(),OhneEintragMinus<>"ja",J15=0),"",-J15),I15-J15)) | L15: =IF(A15="","",IF(AND(E15<>"",F15=""),IF(A15<TODAY(),"Gehen fehlt",""),IF(AND(F15<>"",E15=""),"Kommen fehlt",IF(AND(D15<>"",U15=""),"Abwesenheit unbekannt",IF(N15-N(H15)>600,"über 10 Std. (§ 3 ArbZG)",IF(AND(N15>0,N(G15)<O15),IF(PauseErgaenzen="ja","Pause ergänzt (§ 4 ArbZG)","Pause zu kurz (§ 4 ArbZG)"),IF(AND(E15<>"",N(P14)>0,A15+E15-N(P14)<11/24-1/2880),"Ruhezeit unter 11 Std. (§ 5 ArbZG)",IF(AND(S15="",N(J15)>0,A15<TODAY()),"kein Eintrag","")))))))) | N15: =IF(OR(A15="",E15="",F15=""),0,ROUND(MOD(F15-E15,1)*1440,0)) | O15: =MIN(MAX(N15-360,0),30)+MIN(MAX(N15-570,0),15) | P15: =IF(N15=0,"",A15+F15+IF(F15<E15,1,0)) | Q15: =IF(OR(U15="",N(J15)=0),0,INDEX(Abw_Urlaub,U15)) | R15: =IF(OR(U15="",N(J15)=0),0,INDEX(Abw_Krank,U15)) | S15: =IF(AND(A15<>"",OR(D15<>"",E15<>"",F15<>"")),A15,"") | T15: =IF(A15="",0,INDEX(SollWoche,WEEKDAY(A15,2))) | U15: =IF(D15="","",IFERROR(MATCH(D15,Abw_Namen,0),""))
A16: =IF(MONTH(DATE(Jahr,3,10))=3,DATE(Jahr,3,10),"") | B16: =IF(A16="","",CHOOSE(WEEKDAY(A16,2),"Mo","Di","Mi","Do","Fr","Sa","So")) | C16: =IF(A16="","",IFERROR(INDEX(FT_Name,MATCH(A16,FT_DatumGilt,0)),"")) | H16: =IF(N16=0,"",IF(PauseErgaenzen="ja",MAX(N(G16),O16),N(G16))) | I16: =IF(OR(J16="",S16=""),"",(N16-N(H16))/60+IF(U16="",0,INDEX(Abw_Gutschrift,U16))*J16) | J16: =IF(OR(A16="",A16<Beginn),"",IF(OR(C16<>"",IF(U16="",FALSE,INDEX(Abw_SollEntfaellt,U16)="ja")),0,T16)) | K16: =IF(J16="","",IF(S16="",IF(OR(A16>=TODAY(),OhneEintragMinus<>"ja",J16=0),"",-J16),I16-J16)) | L16: =IF(A16="","",IF(AND(E16<>"",F16=""),IF(A16<TODAY(),"Gehen fehlt",""),IF(AND(F16<>"",E16=""),"Kommen fehlt",IF(AND(D16<>"",U16=""),"Abwesenheit unbekannt",IF(N16-N(H16)>600,"über 10 Std. (§ 3 ArbZG)",IF(AND(N16>0,N(G16)<O16),IF(PauseErgaenzen="ja","Pause ergänzt (§ 4 ArbZG)","Pause zu kurz (§ 4 ArbZG)"),IF(AND(E16<>"",N(P15)>0,A16+E16-N(P15)<11/24-1/2880),"Ruhezeit unter 11 Std. (§ 5 ArbZG)",IF(AND(S16="",N(J16)>0,A16<TODAY()),"kein Eintrag","")))))))) | N16: =IF(OR(A16="",E16="",F16=""),0,ROUND(MOD(F16-E16,1)*1440,0)) | O16: =MIN(MAX(N16-360,0),30)+MIN(MAX(N16-570,0),15) | P16: =IF(N16=0,"",A16+F16+IF(F16<E16,1,0)) | Q16: =IF(OR(U16="",N(J16)=0),0,INDEX(Abw_Urlaub,U16)) | R16: =IF(OR(U16="",N(J16)=0),0,INDEX(Abw_Krank,U16)) | S16: =IF(AND(A16<>"",OR(D16<>"",E16<>"",F16<>"")),A16,"") | T16: =IF(A16="",0,INDEX(SollWoche,WEEKDAY(A16,2))) | U16: =IF(D16="","",IFERROR(MATCH(D16,Abw_Namen,0),""))
A17: =IF(MONTH(DATE(Jahr,3,11))=3,DATE(Jahr,3,11),"") | B17: =IF(A17="","",CHOOSE(WEEKDAY(A17,2),"Mo","Di","Mi","Do","Fr","Sa","So")) | C17: =IF(A17="","",IFERROR(INDEX(FT_Name,MATCH(A17,FT_DatumGilt,0)),"")) | H17: =IF(N17=0,"",IF(PauseErgaenzen="ja",MAX(N(G17),O17),N(G17))) | I17: =IF(OR(J17="",S17=""),"",(N17-N(H17))/60+IF(U17="",0,INDEX(Abw_Gutschrift,U17))*J17) | J17: =IF(OR(A17="",A17<Beginn),"",IF(OR(C17<>"",IF(U17="",FALSE,INDEX(Abw_SollEntfaellt,U17)="ja")),0,T17)) | K17: =IF(J17="","",IF(S17="",IF(OR(A17>=TODAY(),OhneEintragMinus<>"ja",J17=0),"",-J17),I17-J17)) | L17: =IF(A17="","",IF(AND(E17<>"",F17=""),IF(A17<TODAY(),"Gehen fehlt",""),IF(AND(F17<>"",E17=""),"Kommen fehlt",IF(AND(D17<>"",U17=""),"Abwesenheit unbekannt",IF(N17-N(H17)>600,"über 10 Std. (§ 3 ArbZG)",IF(AND(N17>0,N(G17)<O17),IF(PauseErgaenzen="ja","Pause ergänzt (§ 4 ArbZG)","Pause zu kurz (§ 4 ArbZG)"),IF(AND(E17<>"",N(P16)>0,A17+E17-N(P16)<11/24-1/2880),"Ruhezeit unter 11 Std. (§ 5 ArbZG)",IF(AND(S17="",N(J17)>0,A17<TODAY()),"kein Eintrag","")))))))) | N17: =IF(OR(A17="",E17="",F17=""),0,ROUND(MOD(F17-E17,1)*1440,0)) | O17: =MIN(MAX(N17-360,0),30)+MIN(MAX(N17-570,0),15) | P17: =IF(N17=0,"",A17+F17+IF(F17<E17,1,0)) | Q17: =IF(OR(U17="",N(J17)=0),0,INDEX(Abw_Urlaub,U17)) | R17: =IF(OR(U17="",N(J17)=0),0,INDEX(Abw_Krank,U17)) | S17: =IF(AND(A17<>"",OR(D17<>"",E17<>"",F17<>"")),A17,"") | T17: =IF(A17="",0,INDEX(SollWoche,WEEKDAY(A17,2))) | U17: =IF(D17="","",IFERROR(MATCH(D17,Abw_Namen,0),""))
A18: =IF(MONTH(DATE(Jahr,3,12))=3,DATE(Jahr,3,12),"") | B18: =IF(A18="","",CHOOSE(WEEKDAY(A18,2),"Mo","Di","Mi","Do","Fr","Sa","So")) | C18: =IF(A18="","",IFERROR(INDEX(FT_Name,MATCH(A18,FT_DatumGilt,0)),"")) | H18: =IF(N18=0,"",IF(PauseErgaenzen="ja",MAX(N(G18),O18),N(G18))) | I18: =IF(OR(J18="",S18=""),"",(N18-N(H18))/60+IF(U18="",0,INDEX(Abw_Gutschrift,U18))*J18) | J18: =IF(OR(A18="",A18<Beginn),"",IF(OR(C18<>"",IF(U18="",FALSE,INDEX(Abw_SollEntfaellt,U18)="ja")),0,T18)) | K18: =IF(J18="","",IF(S18="",IF(OR(A18>=TODAY(),OhneEintragMinus<>"ja",J18=0),"",-J18),I18-J18)) | L18: =IF(A18="","",IF(AND(E18<>"",F18=""),IF(A18<TODAY(),"Gehen fehlt",""),IF(AND(F18<>"",E18=""),"Kommen fehlt",IF(AND(D18<>"",U18=""),"Abwesenheit unbekannt",IF(N18-N(H18)>600,"über 10 Std. (§ 3 ArbZG)",IF(AND(N18>0,N(G18)<O18),IF(PauseErgaenzen="ja","Pause ergänzt (§ 4 ArbZG)","Pause zu kurz (§ 4 ArbZG)"),IF(AND(E18<>"",N(P17)>0,A18+E18-N(P17)<11/24-1/2880),"Ruhezeit unter 11 Std. (§ 5 ArbZG)",IF(AND(S18="",N(J18)>0,A18<TODAY()),"kein Eintrag","")))))))) | N18: =IF(OR(A18="",E18="",F18=""),0,ROUND(MOD(F18-E18,1)*1440,0)) | O18: =MIN(MAX(N18-360,0),30)+MIN(MAX(N18-570,0),15) | P18: =IF(N18=0,"",A18+F18+IF(F18<E18,1,0)) | Q18: =IF(OR(U18="",N(J18)=0),0,INDEX(Abw_Urlaub,U18)) | R18: =IF(OR(U18="",N(J18)=0),0,INDEX(Abw_Krank,U18)) | S18: =IF(AND(A18<>"",OR(D18<>"",E18<>"",F18<>"")),A18,"") | T18: =IF(A18="",0,INDEX(SollWoche,WEEKDAY(A18,2))) | U18: =IF(D18="","",IFERROR(MATCH(D18,Abw_Namen,0),""))
A19: =IF(MONTH(DATE(Jahr,3,13))=3,DATE(Jahr,3,13),"") | B19: =IF(A19="","",CHOOSE(WEEKDAY(A19,2),"Mo","Di","Mi","Do","Fr","Sa","So")) | C19: =IF(A19="","",IFERROR(INDEX(FT_Name,MATCH(A19,FT_DatumGilt,0)),"")) | H19: =IF(N19=0,"",IF(PauseErgaenzen="ja",MAX(N(G19),O19),N(G19))) | I19: =IF(OR(J19="",S19=""),"",(N19-N(H19))/60+IF(U19="",0,INDEX(Abw_Gutschrift,U19))*J19) | J19: =IF(OR(A19="",A19<Beginn),"",IF(OR(C19<>"",IF(U19="",FALSE,INDEX(Abw_SollEntfaellt,U19)="ja")),0,T19)) | K19: =IF(J19="","",IF(S19="",IF(OR(A19>=TODAY(),OhneEintragMinus<>"ja",J19=0),"",-J19),I19-J19)) | L19: =IF(A19="","",IF(AND(E19<>"",F19=""),IF(A19<TODAY(),"Gehen fehlt",""),IF(AND(F19<>"",E19=""),"Kommen fehlt",IF(AND(D19<>"",U19=""),"Abwesenheit unbekannt",IF(N19-N(H19)>600,"über 10 Std. (§ 3 ArbZG)",IF(AND(N19>0,N(G19)<O19),IF(PauseErgaenzen="ja","Pause ergänzt (§ 4 ArbZG)","Pause zu kurz (§ 4 ArbZG)"),IF(AND(E19<>"",N(P18)>0,A19+E19-N(P18)<11/24-1/2880),"Ruhezeit unter 11 Std. (§ 5 ArbZG)",IF(AND(S19="",N(J19)>0,A19<TODAY()),"kein Eintrag","")))))))) | N19: =IF(OR(A19="",E19="",F19=""),0,ROUND(MOD(F19-E19,1)*1440,0)) | O19: =MIN(MAX(N19-360,0),30)+MIN(MAX(N19-570,0),15) | P19: =IF(N19=0,"",A19+F19+IF(F19<E19,1,0)) | Q19: =IF(OR(U19="",N(J19)=0),0,INDEX(Abw_Urlaub,U19)) | R19: =IF(OR(U19="",N(J19)=0),0,INDEX(Abw_Krank,U19)) | S19: =IF(AND(A19<>"",OR(D19<>"",E19<>"",F19<>"")),A19,"") | T19: =IF(A19="",0,INDEX(SollWoche,WEEKDAY(A19,2))) | U19: =IF(D19="","",IFERROR(MATCH(D19,Abw_Namen,0),""))
A20: =IF(MONTH(DATE(Jahr,3,14))=3,DATE(Jahr,3,14),"") | B20: =IF(A20="","",CHOOSE(WEEKDAY(A20,2),"Mo","Di","Mi","Do","Fr","Sa","So")) | C20: =IF(A20="","",IFERROR(INDEX(FT_Name,MATCH(A20,FT_DatumGilt,0)),"")) | H20: =IF(N20=0,"",IF(PauseErgaenzen="ja",MAX(N(G20),O20),N(G20))) | I20: =IF(OR(J20="",S20=""),"",(N20-N(H20))/60+IF(U20="",0,INDEX(Abw_Gutschrift,U20))*J20) | J20: =IF(OR(A20="",A20<Beginn),"",IF(OR(C20<>"",IF(U20="",FALSE,INDEX(Abw_SollEntfaellt,U20)="ja")),0,T20)) | K20: =IF(J20="","",IF(S20="",IF(OR(A20>=TODAY(),OhneEintragMinus<>"ja",J20=0),"",-J20),I20-J20)) | L20: =IF(A20="","",IF(AND(E20<>"",F20=""),IF(A20<TODAY(),"Gehen fehlt",""),IF(AND(F20<>"",E20=""),"Kommen fehlt",IF(AND(D20<>"",U20=""),"Abwesenheit unbekannt",IF(N20-N(H20)>600,"über 10 Std. (§ 3 ArbZG)",IF(AND(N20>0,N(G20)<O20),IF(PauseErgaenzen="ja","Pause ergänzt (§ 4 ArbZG)","Pause zu kurz (§ 4 ArbZG)"),IF(AND(E20<>"",N(P19)>0,A20+E20-N(P19)<11/24-1/2880),"Ruhezeit unter 11 Std. (§ 5 ArbZG)",IF(AND(S20="",N(J20)>0,A20<TODAY()),"kein Eintrag","")))))))) | N20: =IF(OR(A20="",E20="",F20=""),0,ROUND(MOD(F20-E20,1)*1440,0)) | O20: =MIN(MAX(N20-360,0),30)+MIN(MAX(N20-570,0),15) | P20: =IF(N20=0,"",A20+F20+IF(F20<E20,1,0)) | Q20: =IF(OR(U20="",N(J20)=0),0,INDEX(Abw_Urlaub,U20)) | R20: =IF(OR(U20="",N(J20)=0),0,INDEX(Abw_Krank,U20)) | S20: =IF(AND(A20<>"",OR(D20<>"",E20<>"",F20<>"")),A20,"") | T20: =IF(A20="",0,INDEX(SollWoche,WEEKDAY(A20,2))) | U20: =IF(D20="","",IFERROR(MATCH(D20,Abw_Namen,0),""))
A21: =IF(MONTH(DATE(Jahr,3,15))=3,DATE(Jahr,3,15),"") | B21: =IF(A21="","",CHOOSE(WEEKDAY(A21,2),"Mo","Di","Mi","Do","Fr","Sa","So")) | C21: =IF(A21="","",IFERROR(INDEX(FT_Name,MATCH(A21,FT_DatumGilt,0)),"")) | H21: =IF(N21=0,"",IF(PauseErgaenzen="ja",MAX(N(G21),O21),N(G21))) | I21: =IF(OR(J21="",S21=""),"",(N21-N(H21))/60+IF(U21="",0,INDEX(Abw_Gutschrift,U21))*J21) | J21: =IF(OR(A21="",A21<Beginn),"",IF(OR(C21<>"",IF(U21="",FALSE,INDEX(Abw_SollEntfaellt,U21)="ja")),0,T21)) | K21: =IF(J21="","",IF(S21="",IF(OR(A21>=TODAY(),OhneEintragMinus<>"ja",J21=0),"",-J21),I21-J21)) | L21: =IF(A21="","",IF(AND(E21<>"",F21=""),IF(A21<TODAY(),"Gehen fehlt",""),IF(AND(F21<>"",E21=""),"Kommen fehlt",IF(AND(D21<>"",U21=""),"Abwesenheit unbekannt",IF(N21-N(H21)>600,"über 10 Std. (§ 3 ArbZG)",IF(AND(N21>0,N(G21)<O21),IF(PauseErgaenzen="ja","Pause ergänzt (§ 4 ArbZG)","Pause zu kurz (§ 4 ArbZG)"),IF(AND(E21<>"",N(P20)>0,A21+E21-N(P20)<11/24-1/2880),"Ruhezeit unter 11 Std. (§ 5 ArbZG)",IF(AND(S21="",N(J21)>0,A21<TODAY()),"kein Eintrag","")))))))) | N21: =IF(OR(A21="",E21="",F21=""),0,ROUND(MOD(F21-E21,1)*1440,0)) | O21: =MIN(MAX(N21-360,0),30)+MIN(MAX(N21-570,0),15) | P21: =IF(N21=0,"",A21+F21+IF(F21<E21,1,0)) | Q21: =IF(OR(U21="",N(J21)=0),0,INDEX(Abw_Urlaub,U21)) | R21: =IF(OR(U21="",N(J21)=0),0,INDEX(Abw_Krank,U21)) | S21: =IF(AND(A21<>"",OR(D21<>"",E21<>"",F21<>"")),A21,"") | T21: =IF(A21="",0,INDEX(SollWoche,WEEKDAY(A21,2))) | U21: =IF(D21="","",IFERROR(MATCH(D21,Abw_Namen,0),""))
A22: =IF(MONTH(DATE(Jahr,3,16))=3,DATE(Jahr,3,16),"") | B22: =IF(A22="","",CHOOSE(WEEKDAY(A22,2),"Mo","Di","Mi","Do","Fr","Sa","So")) | C22: =IF(A22="","",IFERROR(INDEX(FT_Name,MATCH(A22,FT_DatumGilt,0)),"")) | H22: =IF(N22=0,"",IF(PauseErgaenzen="ja",MAX(N(G22),O22),N(G22))) | I22: =IF(OR(J22="",S22=""),"",(N22-N(H22))/60+IF(U22="",0,INDEX(Abw_Gutschrift,U22))*J22) | J22: =IF(OR(A22="",A22<Beginn),"",IF(OR(C22<>"",IF(U22="",FALSE,INDEX(Abw_SollEntfaellt,U22)="ja")),0,T22)) | K22: =IF(J22="","",IF(S22="",IF(OR(A22>=TODAY(),OhneEintragMinus<>"ja",J22=0),"",-J22),I22-J22)) | L22: =IF(A22="","",IF(AND(E22<>"",F22=""),IF(A22<TODAY(),"Gehen fehlt",""),IF(AND(F22<>"",E22=""),"Kommen fehlt",IF(AND(D22<>"",U22=""),"Abwesenheit unbekannt",IF(N22-N(H22)>600,"über 10 Std. (§ 3 ArbZG)",IF(AND(N22>0,N(G22)<O22),IF(PauseErgaenzen="ja","Pause ergänzt (§ 4 ArbZG)","Pause zu kurz (§ 4 ArbZG)"),IF(AND(E22<>"",N(P21)>0,A22+E22-N(P21)<11/24-1/2880),"Ruhezeit unter 11 Std. (§ 5 ArbZG)",IF(AND(S22="",N(J22)>0,A22<TODAY()),"kein Eintrag","")))))))) | N22: =IF(OR(A22="",E22="",F22=""),0,ROUND(MOD(F22-E22,1)*1440,0)) | O22: =MIN(MAX(N22-360,0),30)+MIN(MAX(N22-570,0),15) | P22: =IF(N22=0,"",A22+F22+IF(F22<E22,1,0)) | Q22: =IF(OR(U22="",N(J22)=0),0,INDEX(Abw_Urlaub,U22)) | R22: =IF(OR(U22="",N(J22)=0),0,INDEX(Abw_Krank,U22)) | S22: =IF(AND(A22<>"",OR(D22<>"",E22<>"",F22<>"")),A22,"") | T22: =IF(A22="",0,INDEX(SollWoche,WEEKDAY(A22,2))) | U22: =IF(D22="","",IFERROR(MATCH(D22,Abw_Namen,0),""))
A23: =IF(MONTH(DATE(Jahr,3,17))=3,DATE(Jahr,3,17),"") | B23: =IF(A23="","",CHOOSE(WEEKDAY(A23,2),"Mo","Di","Mi","Do","Fr","Sa","So")) | C23: =IF(A23="","",IFERROR(INDEX(FT_Name,MATCH(A23,FT_DatumGilt,0)),"")) | H23: =IF(N23=0,"",IF(PauseErgaenzen="ja",MAX(N(G23),O23),N(G23))) | I23: =IF(OR(J23="",S23=""),"",(N23-N(H23))/60+IF(U23="",0,INDEX(Abw_Gutschrift,U23))*J23) | J23: =IF(OR(A23="",A23<Beginn),"",IF(OR(C23<>"",IF(U23="",FALSE,INDEX(Abw_SollEntfaellt,U23)="ja")),0,T23)) | K23: =IF(J23="","",IF(S23="",IF(OR(A23>=TODAY(),OhneEintragMinus<>"ja",J23=0),"",-J23),I23-J23)) | L23: =IF(A23="","",IF(AND(E23<>"",F23=""),IF(A23<TODAY(),"Gehen fehlt",""),IF(AND(F23<>"",E23=""),"Kommen fehlt",IF(AND(D23<>"",U23=""),"Abwesenheit unbekannt",IF(N23-N(H23)>600,"über 10 Std. (§ 3 ArbZG)",IF(AND(N23>0,N(G23)<O23),IF(PauseErgaenzen="ja","Pause ergänzt (§ 4 ArbZG)","Pause zu kurz (§ 4 ArbZG)"),IF(AND(E23<>"",N(P22)>0,A23+E23-N(P22)<11/24-1/2880),"Ruhezeit unter 11 Std. (§ 5 ArbZG)",IF(AND(S23="",N(J23)>0,A23<TODAY()),"kein Eintrag","")))))))) | N23: =IF(OR(A23="",E23="",F23=""),0,ROUND(MOD(F23-E23,1)*1440,0)) | O23: =MIN(MAX(N23-360,0),30)+MIN(MAX(N23-570,0),15) | P23: =IF(N23=0,"",A23+F23+IF(F23<E23,1,0)) | Q23: =IF(OR(U23="",N(J23)=0),0,INDEX(Abw_Urlaub,U23)) | R23: =IF(OR(U23="",N(J23)=0),0,INDEX(Abw_Krank,U23)) | S23: =IF(AND(A23<>"",OR(D23<>"",E23<>"",F23<>"")),A23,"") | T23: =IF(A23="",0,INDEX(SollWoche,WEEKDAY(A23,2))) | U23: =IF(D23="","",IFERROR(MATCH(D23,Abw_Namen,0),""))
A24: =IF(MONTH(DATE(Jahr,3,18))=3,DATE(Jahr,3,18),"") | B24: =IF(A24="","",CHOOSE(WEEKDAY(A24,2),"Mo","Di","Mi","Do","Fr","Sa","So")) | C24: =IF(A24="","",IFERROR(INDEX(FT_Name,MATCH(A24,FT_DatumGilt,0)),"")) | H24: =IF(N24=0,"",IF(PauseErgaenzen="ja",MAX(N(G24),O24),N(G24))) | I24: =IF(OR(J24="",S24=""),"",(N24-N(H24))/60+IF(U24="",0,INDEX(Abw_Gutschrift,U24))*J24) | J24: =IF(OR(A24="",A24<Beginn),"",IF(OR(C24<>"",IF(U24="",FALSE,INDEX(Abw_SollEntfaellt,U24)="ja")),0,T24)) | K24: =IF(J24="","",IF(S24="",IF(OR(A24>=TODAY(),OhneEintragMinus<>"ja",J24=0),"",-J24),I24-J24)) | L24: =IF(A24="","",IF(AND(E24<>"",F24=""),IF(A24<TODAY(),"Gehen fehlt",""),IF(AND(F24<>"",E24=""),"Kommen fehlt",IF(AND(D24<>"",U24=""),"Abwesenheit unbekannt",IF(N24-N(H24)>600,"über 10 Std. (§ 3 ArbZG)",IF(AND(N24>0,N(G24)<O24),IF(PauseErgaenzen="ja","Pause ergänzt (§ 4 ArbZG)","Pause zu kurz (§ 4 ArbZG)"),IF(AND(E24<>"",N(P23)>0,A24+E24-N(P23)<11/24-1/2880),"Ruhezeit unter 11 Std. (§ 5 ArbZG)",IF(AND(S24="",N(J24)>0,A24<TODAY()),"kein Eintrag","")))))))) | N24: =IF(OR(A24="",E24="",F24=""),0,ROUND(MOD(F24-E24,1)*1440,0)) | O24: =MIN(MAX(N24-360,0),30)+MIN(MAX(N24-570,0),15) | P24: =IF(N24=0,"",A24+F24+IF(F24<E24,1,0)) | Q24: =IF(OR(U24="",N(J24)=0),0,INDEX(Abw_Urlaub,U24)) | R24: =IF(OR(U24="",N(J24)=0),0,INDEX(Abw_Krank,U24)) | S24: =IF(AND(A24<>"",OR(D24<>"",E24<>"",F24<>"")),A24,"") | T24: =IF(A24="",0,INDEX(SollWoche,WEEKDAY(A24,2))) | U24: =IF(D24="","",IFERROR(MATCH(D24,Abw_Namen,0),""))
A25: =IF(MONTH(DATE(Jahr,3,19))=3,DATE(Jahr,3,19),"") | B25: =IF(A25="","",CHOOSE(WEEKDAY(A25,2),"Mo","Di","Mi","Do","Fr","Sa","So")) | C25: =IF(A25="","",IFERROR(INDEX(FT_Name,MATCH(A25,FT_DatumGilt,0)),"")) | H25: =IF(N25=0,"",IF(PauseErgaenzen="ja",MAX(N(G25),O25),N(G25))) | I25: =IF(OR(J25="",S25=""),"",(N25-N(H25))/60+IF(U25="",0,INDEX(Abw_Gutschrift,U25))*J25) | J25: =IF(OR(A25="",A25<Beginn),"",IF(OR(C25<>"",IF(U25="",FALSE,INDEX(Abw_SollEntfaellt,U25)="ja")),0,T25)) | K25: =IF(J25="","",IF(S25="",IF(OR(A25>=TODAY(),OhneEintragMinus<>"ja",J25=0),"",-J25),I25-J25)) | L25: =IF(A25="","",IF(AND(E25<>"",F25=""),IF(A25<TODAY(),"Gehen fehlt",""),IF(AND(F25<>"",E25=""),"Kommen fehlt",IF(AND(D25<>"",U25=""),"Abwesenheit unbekannt",IF(N25-N(H25)>600,"über 10 Std. (§ 3 ArbZG)",IF(AND(N25>0,N(G25)<O25),IF(PauseErgaenzen="ja","Pause ergänzt (§ 4 ArbZG)","Pause zu kurz (§ 4 ArbZG)"),IF(AND(E25<>"",N(P24)>0,A25+E25-N(P24)<11/24-1/2880),"Ruhezeit unter 11 Std. (§ 5 ArbZG)",IF(AND(S25="",N(J25)>0,A25<TODAY()),"kein Eintrag","")))))))) | N25: =IF(OR(A25="",E25="",F25=""),0,ROUND(MOD(F25-E25,1)*1440,0)) | O25: =MIN(MAX(N25-360,0),30)+MIN(MAX(N25-570,0),15) | P25: =IF(N25=0,"",A25+F25+IF(F25<E25,1,0)) | Q25: =IF(OR(U25="",N(J25)=0),0,INDEX(Abw_Urlaub,U25)) | R25: =IF(OR(U25="",N(J25)=0),0,INDEX(Abw_Krank,U25)) | S25: =IF(AND(A25<>"",OR(D25<>"",E25<>"",F25<>"")),A25,"") | T25: =IF(A25="",0,INDEX(SollWoche,WEEKDAY(A25,2))) | U25: =IF(D25="","",IFERROR(MATCH(D25,Abw_Namen,0),""))
A26: =IF(MONTH(DATE(Jahr,3,20))=3,DATE(Jahr,3,20),"") | B26: =IF(A26="","",CHOOSE(WEEKDAY(A26,2),"Mo","Di","Mi","Do","Fr","Sa","So")) | C26: =IF(A26="","",IFERROR(INDEX(FT_Name,MATCH(A26,FT_DatumGilt,0)),"")) | H26: =IF(N26=0,"",IF(PauseErgaenzen="ja",MAX(N(G26),O26),N(G26))) | I26: =IF(OR(J26="",S26=""),"",(N26-N(H26))/60+IF(U26="",0,INDEX(Abw_Gutschrift,U26))*J26) | J26: =IF(OR(A26="",A26<Beginn),"",IF(OR(C26<>"",IF(U26="",FALSE,INDEX(Abw_SollEntfaellt,U26)="ja")),0,T26)) | K26: =IF(J26="","",IF(S26="",IF(OR(A26>=TODAY(),OhneEintragMinus<>"ja",J26=0),"",-J26),I26-J26)) | L26: =IF(A26="","",IF(AND(E26<>"",F26=""),IF(A26<TODAY(),"Gehen fehlt",""),IF(AND(F26<>"",E26=""),"Kommen fehlt",IF(AND(D26<>"",U26=""),"Abwesenheit unbekannt",IF(N26-N(H26)>600,"über 10 Std. (§ 3 ArbZG)",IF(AND(N26>0,N(G26)<O26),IF(PauseErgaenzen="ja","Pause ergänzt (§ 4 ArbZG)","Pause zu kurz (§ 4 ArbZG)"),IF(AND(E26<>"",N(P25)>0,A26+E26-N(P25)<11/24-1/2880),"Ruhezeit unter 11 Std. (§ 5 ArbZG)",IF(AND(S26="",N(J26)>0,A26<TODAY()),"kein Eintrag","")))))))) | N26: =IF(OR(A26="",E26="",F26=""),0,ROUND(MOD(F26-E26,1)*1440,0)) | O26: =MIN(MAX(N26-360,0),30)+MIN(MAX(N26-570,0),15) | P26: =IF(N26=0,"",A26+F26+IF(F26<E26,1,0)) | Q26: =IF(OR(U26="",N(J26)=0),0,INDEX(Abw_Urlaub,U26)) | R26: =IF(OR(U26="",N(J26)=0),0,INDEX(Abw_Krank,U26)) | S26: =IF(AND(A26<>"",OR(D26<>"",E26<>"",F26<>"")),A26,"") | T26: =IF(A26="",0,INDEX(SollWoche,WEEKDAY(A26,2))) | U26: =IF(D26="","",IFERROR(MATCH(D26,Abw_Namen,0),""))
A27: =IF(MONTH(DATE(Jahr,3,21))=3,DATE(Jahr,3,21),"") | B27: =IF(A27="","",CHOOSE(WEEKDAY(A27,2),"Mo","Di","Mi","Do","Fr","Sa","So")) | C27: =IF(A27="","",IFERROR(INDEX(FT_Name,MATCH(A27,FT_DatumGilt,0)),"")) | H27: =IF(N27=0,"",IF(PauseErgaenzen="ja",MAX(N(G27),O27),N(G27))) | I27: =IF(OR(J27="",S27=""),"",(N27-N(H27))/60+IF(U27="",0,INDEX(Abw_Gutschrift,U27))*J27) | J27: =IF(OR(A27="",A27<Beginn),"",IF(OR(C27<>"",IF(U27="",FALSE,INDEX(Abw_SollEntfaellt,U27)="ja")),0,T27)) | K27: =IF(J27="","",IF(S27="",IF(OR(A27>=TODAY(),OhneEintragMinus<>"ja",J27=0),"",-J27),I27-J27)) | L27: =IF(A27="","",IF(AND(E27<>"",F27=""),IF(A27<TODAY(),"Gehen fehlt",""),IF(AND(F27<>"",E27=""),"Kommen fehlt",IF(AND(D27<>"",U27=""),"Abwesenheit unbekannt",IF(N27-N(H27)>600,"über 10 Std. (§ 3 ArbZG)",IF(AND(N27>0,N(G27)<O27),IF(PauseErgaenzen="ja","Pause ergänzt (§ 4 ArbZG)","Pause zu kurz (§ 4 ArbZG)"),IF(AND(E27<>"",N(P26)>0,A27+E27-N(P26)<11/24-1/2880),"Ruhezeit unter 11 Std. (§ 5 ArbZG)",IF(AND(S27="",N(J27)>0,A27<TODAY()),"kein Eintrag","")))))))) | N27: =IF(OR(A27="",E27="",F27=""),0,ROUND(MOD(F27-E27,1)*1440,0)) | O27: =MIN(MAX(N27-360,0),30)+MIN(MAX(N27-570,0),15) | P27: =IF(N27=0,"",A27+F27+IF(F27<E27,1,0)) | Q27: =IF(OR(U27="",N(J27)=0),0,INDEX(Abw_Urlaub,U27)) | R27: =IF(OR(U27="",N(J27)=0),0,INDEX(Abw_Krank,U27)) | S27: =IF(AND(A27<>"",OR(D27<>"",E27<>"",F27<>"")),A27,"") | T27: =IF(A27="",0,INDEX(SollWoche,WEEKDAY(A27,2))) | U27: =IF(D27="","",IFERROR(MATCH(D27,Abw_Namen,0),""))
A28: =IF(MONTH(DATE(Jahr,3,22))=3,DATE(Jahr,3,22),"") | B28: =IF(A28="","",CHOOSE(WEEKDAY(A28,2),"Mo","Di","Mi","Do","Fr","Sa","So")) | C28: =IF(A28="","",IFERROR(INDEX(FT_Name,MATCH(A28,FT_DatumGilt,0)),"")) | H28: =IF(N28=0,"",IF(PauseErgaenzen="ja",MAX(N(G28),O28),N(G28))) | I28: =IF(OR(J28="",S28=""),"",(N28-N(H28))/60+IF(U28="",0,INDEX(Abw_Gutschrift,U28))*J28) | J28: =IF(OR(A28="",A28<Beginn),"",IF(OR(C28<>"",IF(U28="",FALSE,INDEX(Abw_SollEntfaellt,U28)="ja")),0,T28)) | K28: =IF(J28="","",IF(S28="",IF(OR(A28>=TODAY(),OhneEintragMinus<>"ja",J28=0),"",-J28),I28-J28)) | L28: =IF(A28="","",IF(AND(E28<>"",F28=""),IF(A28<TODAY(),"Gehen fehlt",""),IF(AND(F28<>"",E28=""),"Kommen fehlt",IF(AND(D28<>"",U28=""),"Abwesenheit unbekannt",IF(N28-N(H28)>600,"über 10 Std. (§ 3 ArbZG)",IF(AND(N28>0,N(G28)<O28),IF(PauseErgaenzen="ja","Pause ergänzt (§ 4 ArbZG)","Pause zu kurz (§ 4 ArbZG)"),IF(AND(E28<>"",N(P27)>0,A28+E28-N(P27)<11/24-1/2880),"Ruhezeit unter 11 Std. (§ 5 ArbZG)",IF(AND(S28="",N(J28)>0,A28<TODAY()),"kein Eintrag","")))))))) | N28: =IF(OR(A28="",E28="",F28=""),0,ROUND(MOD(F28-E28,1)*1440,0)) | O28: =MIN(MAX(N28-360,0),30)+MIN(MAX(N28-570,0),15) | P28: =IF(N28=0,"",A28+F28+IF(F28<E28,1,0)) | Q28: =IF(OR(U28="",N(J28)=0),0,INDEX(Abw_Urlaub,U28)) | R28: =IF(OR(U28="",N(J28)=0),0,INDEX(Abw_Krank,U28)) | S28: =IF(AND(A28<>"",OR(D28<>"",E28<>"",F28<>"")),A28,"") | T28: =IF(A28="",0,INDEX(SollWoche,WEEKDAY(A28,2))) | U28: =IF(D28="","",IFERROR(MATCH(D28,Abw_Namen,0),""))
A29: =IF(MONTH(DATE(Jahr,3,23))=3,DATE(Jahr,3,23),"") | B29: =IF(A29="","",CHOOSE(WEEKDAY(A29,2),"Mo","Di","Mi","Do","Fr","Sa","So")) | C29: =IF(A29="","",IFERROR(INDEX(FT_Name,MATCH(A29,FT_DatumGilt,0)),"")) | H29: =IF(N29=0,"",IF(PauseErgaenzen="ja",MAX(N(G29),O29),N(G29))) | I29: =IF(OR(J29="",S29=""),"",(N29-N(H29))/60+IF(U29="",0,INDEX(Abw_Gutschrift,U29))*J29) | J29: =IF(OR(A29="",A29<Beginn),"",IF(OR(C29<>"",IF(U29="",FALSE,INDEX(Abw_SollEntfaellt,U29)="ja")),0,T29)) | K29: =IF(J29="","",IF(S29="",IF(OR(A29>=TODAY(),OhneEintragMinus<>"ja",J29=0),"",-J29),I29-J29)) | L29: =IF(A29="","",IF(AND(E29<>"",F29=""),IF(A29<TODAY(),"Gehen fehlt",""),IF(AND(F29<>"",E29=""),"Kommen fehlt",IF(AND(D29<>"",U29=""),"Abwesenheit unbekannt",IF(N29-N(H29)>600,"über 10 Std. (§ 3 ArbZG)",IF(AND(N29>0,N(G29)<O29),IF(PauseErgaenzen="ja","Pause ergänzt (§ 4 ArbZG)","Pause zu kurz (§ 4 ArbZG)"),IF(AND(E29<>"",N(P28)>0,A29+E29-N(P28)<11/24-1/2880),"Ruhezeit unter 11 Std. (§ 5 ArbZG)",IF(AND(S29="",N(J29)>0,A29<TODAY()),"kein Eintrag","")))))))) | N29: =IF(OR(A29="",E29="",F29=""),0,ROUND(MOD(F29-E29,1)*1440,0)) | O29: =MIN(MAX(N29-360,0),30)+MIN(MAX(N29-570,0),15) | P29: =IF(N29=0,"",A29+F29+IF(F29<E29,1,0)) | Q29: =IF(OR(U29="",N(J29)=0),0,INDEX(Abw_Urlaub,U29)) | R29: =IF(OR(U29="",N(J29)=0),0,INDEX(Abw_Krank,U29)) | S29: =IF(AND(A29<>"",OR(D29<>"",E29<>"",F29<>"")),A29,"") | T29: =IF(A29="",0,INDEX(SollWoche,WEEKDAY(A29,2))) | U29: =IF(D29="","",IFERROR(MATCH(D29,Abw_Namen,0),""))
A30: =IF(MONTH(DATE(Jahr,3,24))=3,DATE(Jahr,3,24),"") | B30: =IF(A30="","",CHOOSE(WEEKDAY(A30,2),"Mo","Di","Mi","Do","Fr","Sa","So")) | C30: =IF(A30="","",IFERROR(INDEX(FT_Name,MATCH(A30,FT_DatumGilt,0)),"")) | H30: =IF(N30=0,"",IF(PauseErgaenzen="ja",MAX(N(G30),O30),N(G30))) | I30: =IF(OR(J30="",S30=""),"",(N30-N(H30))/60+IF(U30="",0,INDEX(Abw_Gutschrift,U30))*J30) | J30: =IF(OR(A30="",A30<Beginn),"",IF(OR(C30<>"",IF(U30="",FALSE,INDEX(Abw_SollEntfaellt,U30)="ja")),0,T30)) | K30: =IF(J30="","",IF(S30="",IF(OR(A30>=TODAY(),OhneEintragMinus<>"ja",J30=0),"",-J30),I30-J30)) | L30: =IF(A30="","",IF(AND(E30<>"",F30=""),IF(A30<TODAY(),"Gehen fehlt",""),IF(AND(F30<>"",E30=""),"Kommen fehlt",IF(AND(D30<>"",U30=""),"Abwesenheit unbekannt",IF(N30-N(H30)>600,"über 10 Std. (§ 3 ArbZG)",IF(AND(N30>0,N(G30)<O30),IF(PauseErgaenzen="ja","Pause ergänzt (§ 4 ArbZG)","Pause zu kurz (§ 4 ArbZG)"),IF(AND(E30<>"",N(P29)>0,A30+E30-N(P29)<11/24-1/2880),"Ruhezeit unter 11 Std. (§ 5 ArbZG)",IF(AND(S30="",N(J30)>0,A30<TODAY()),"kein Eintrag","")))))))) | N30: =IF(OR(A30="",E30="",F30=""),0,ROUND(MOD(F30-E30,1)*1440,0)) | O30: =MIN(MAX(N30-360,0),30)+MIN(MAX(N30-570,0),15) | P30: =IF(N30=0,"",A30+F30+IF(F30<E30,1,0)) | Q30: =IF(OR(U30="",N(J30)=0),0,INDEX(Abw_Urlaub,U30)) | R30: =IF(OR(U30="",N(J30)=0),0,INDEX(Abw_Krank,U30)) | S30: =IF(AND(A30<>"",OR(D30<>"",E30<>"",F30<>"")),A30,"") | T30: =IF(A30="",0,INDEX(SollWoche,WEEKDAY(A30,2))) | U30: =IF(D30="","",IFERROR(MATCH(D30,Abw_Namen,0),""))
A31: =IF(MONTH(DATE(Jahr,3,25))=3,DATE(Jahr,3,25),"") | B31: =IF(A31="","",CHOOSE(WEEKDAY(A31,2),"Mo","Di","Mi","Do","Fr","Sa","So")) | C31: =IF(A31="","",IFERROR(INDEX(FT_Name,MATCH(A31,FT_DatumGilt,0)),"")) | H31: =IF(N31=0,"",IF(PauseErgaenzen="ja",MAX(N(G31),O31),N(G31))) | I31: =IF(OR(J31="",S31=""),"",(N31-N(H31))/60+IF(U31="",0,INDEX(Abw_Gutschrift,U31))*J31) | J31: =IF(OR(A31="",A31<Beginn),"",IF(OR(C31<>"",IF(U31="",FALSE,INDEX(Abw_SollEntfaellt,U31)="ja")),0,T31)) | K31: =IF(J31="","",IF(S31="",IF(OR(A31>=TODAY(),OhneEintragMinus<>"ja",J31=0),"",-J31),I31-J31)) | L31: =IF(A31="","",IF(AND(E31<>"",F31=""),IF(A31<TODAY(),"Gehen fehlt",""),IF(AND(F31<>"",E31=""),"Kommen fehlt",IF(AND(D31<>"",U31=""),"Abwesenheit unbekannt",IF(N31-N(H31)>600,"über 10 Std. (§ 3 ArbZG)",IF(AND(N31>0,N(G31)<O31),IF(PauseErgaenzen="ja","Pause ergänzt (§ 4 ArbZG)","Pause zu kurz (§ 4 ArbZG)"),IF(AND(E31<>"",N(P30)>0,A31+E31-N(P30)<11/24-1/2880),"Ruhezeit unter 11 Std. (§ 5 ArbZG)",IF(AND(S31="",N(J31)>0,A31<TODAY()),"kein Eintrag","")))))))) | N31: =IF(OR(A31="",E31="",F31=""),0,ROUND(MOD(F31-E31,1)*1440,0)) | O31: =MIN(MAX(N31-360,0),30)+MIN(MAX(N31-570,0),15) | P31: =IF(N31=0,"",A31+F31+IF(F31<E31,1,0)) | Q31: =IF(OR(U31="",N(J31)=0),0,INDEX(Abw_Urlaub,U31)) | R31: =IF(OR(U31="",N(J31)=0),0,INDEX(Abw_Krank,U31)) | S31: =IF(AND(A31<>"",OR(D31<>"",E31<>"",F31<>"")),A31,"") | T31: =IF(A31="",0,INDEX(SollWoche,WEEKDAY(A31,2))) | U31: =IF(D31="","",IFERROR(MATCH(D31,Abw_Namen,0),""))
A32: =IF(MONTH(DATE(Jahr,3,26))=3,DATE(Jahr,3,26),"") | B32: =IF(A32="","",CHOOSE(WEEKDAY(A32,2),"Mo","Di","Mi","Do","Fr","Sa","So")) | C32: =IF(A32="","",IFERROR(INDEX(FT_Name,MATCH(A32,FT_DatumGilt,0)),"")) | H32: =IF(N32=0,"",IF(PauseErgaenzen="ja",MAX(N(G32),O32),N(G32))) | I32: =IF(OR(J32="",S32=""),"",(N32-N(H32))/60+IF(U32="",0,INDEX(Abw_Gutschrift,U32))*J32) | J32: =IF(OR(A32="",A32<Beginn),"",IF(OR(C32<>"",IF(U32="",FALSE,INDEX(Abw_SollEntfaellt,U32)="ja")),0,T32)) | K32: =IF(J32="","",IF(S32="",IF(OR(A32>=TODAY(),OhneEintragMinus<>"ja",J32=0),"",-J32),I32-J32)) | L32: =IF(A32="","",IF(AND(E32<>"",F32=""),IF(A32<TODAY(),"Gehen fehlt",""),IF(AND(F32<>"",E32=""),"Kommen fehlt",IF(AND(D32<>"",U32=""),"Abwesenheit unbekannt",IF(N32-N(H32)>600,"über 10 Std. (§ 3 ArbZG)",IF(AND(N32>0,N(G32)<O32),IF(PauseErgaenzen="ja","Pause ergänzt (§ 4 ArbZG)","Pause zu kurz (§ 4 ArbZG)"),IF(AND(E32<>"",N(P31)>0,A32+E32-N(P31)<11/24-1/2880),"Ruhezeit unter 11 Std. (§ 5 ArbZG)",IF(AND(S32="",N(J32)>0,A32<TODAY()),"kein Eintrag","")))))))) | N32: =IF(OR(A32="",E32="",F32=""),0,ROUND(MOD(F32-E32,1)*1440,0)) | O32: =MIN(MAX(N32-360,0),30)+MIN(MAX(N32-570,0),15) | P32: =IF(N32=0,"",A32+F32+IF(F32<E32,1,0)) | Q32: =IF(OR(U32="",N(J32)=0),0,INDEX(Abw_Urlaub,U32)) | R32: =IF(OR(U32="",N(J32)=0),0,INDEX(Abw_Krank,U32)) | S32: =IF(AND(A32<>"",OR(D32<>"",E32<>"",F32<>"")),A32,"") | T32: =IF(A32="",0,INDEX(SollWoche,WEEKDAY(A32,2))) | U32: =IF(D32="","",IFERROR(MATCH(D32,Abw_Namen,0),""))
A33: =IF(MONTH(DATE(Jahr,3,27))=3,DATE(Jahr,3,27),"") | B33: =IF(A33="","",CHOOSE(WEEKDAY(A33,2),"Mo","Di","Mi","Do","Fr","Sa","So")) | C33: =IF(A33="","",IFERROR(INDEX(FT_Name,MATCH(A33,FT_DatumGilt,0)),"")) | H33: =IF(N33=0,"",IF(PauseErgaenzen="ja",MAX(N(G33),O33),N(G33))) | I33: =IF(OR(J33="",S33=""),"",(N33-N(H33))/60+IF(U33="",0,INDEX(Abw_Gutschrift,U33))*J33) | J33: =IF(OR(A33="",A33<Beginn),"",IF(OR(C33<>"",IF(U33="",FALSE,INDEX(Abw_SollEntfaellt,U33)="ja")),0,T33)) | K33: =IF(J33="","",IF(S33="",IF(OR(A33>=TODAY(),OhneEintragMinus<>"ja",J33=0),"",-J33),I33-J33)) | L33: =IF(A33="","",IF(AND(E33<>"",F33=""),IF(A33<TODAY(),"Gehen fehlt",""),IF(AND(F33<>"",E33=""),"Kommen fehlt",IF(AND(D33<>"",U33=""),"Abwesenheit unbekannt",IF(N33-N(H33)>600,"über 10 Std. (§ 3 ArbZG)",IF(AND(N33>0,N(G33)<O33),IF(PauseErgaenzen="ja","Pause ergänzt (§ 4 ArbZG)","Pause zu kurz (§ 4 ArbZG)"),IF(AND(E33<>"",N(P32)>0,A33+E33-N(P32)<11/24-1/2880),"Ruhezeit unter 11 Std. (§ 5 ArbZG)",IF(AND(S33="",N(J33)>0,A33<TODAY()),"kein Eintrag","")))))))) | N33: =IF(OR(A33="",E33="",F33=""),0,ROUND(MOD(F33-E33,1)*1440,0)) | O33: =MIN(MAX(N33-360,0),30)+MIN(MAX(N33-570,0),15) | P33: =IF(N33=0,"",A33+F33+IF(F33<E33,1,0)) | Q33: =IF(OR(U33="",N(J33)=0),0,INDEX(Abw_Urlaub,U33)) | R33: =IF(OR(U33="",N(J33)=0),0,INDEX(Abw_Krank,U33)) | S33: =IF(AND(A33<>"",OR(D33<>"",E33<>"",F33<>"")),A33,"") | T33: =IF(A33="",0,INDEX(SollWoche,WEEKDAY(A33,2))) | U33: =IF(D33="","",IFERROR(MATCH(D33,Abw_Namen,0),""))
A34: =IF(MONTH(DATE(Jahr,3,28))=3,DATE(Jahr,3,28),"") | B34: =IF(A34="","",CHOOSE(WEEKDAY(A34,2),"Mo","Di","Mi","Do","Fr","Sa","So")) | C34: =IF(A34="","",IFERROR(INDEX(FT_Name,MATCH(A34,FT_DatumGilt,0)),"")) | H34: =IF(N34=0,"",IF(PauseErgaenzen="ja",MAX(N(G34),O34),N(G34))) | I34: =IF(OR(J34="",S34=""),"",(N34-N(H34))/60+IF(U34="",0,INDEX(Abw_Gutschrift,U34))*J34) | J34: =IF(OR(A34="",A34<Beginn),"",IF(OR(C34<>"",IF(U34="",FALSE,INDEX(Abw_SollEntfaellt,U34)="ja")),0,T34)) | K34: =IF(J34="","",IF(S34="",IF(OR(A34>=TODAY(),OhneEintragMinus<>"ja",J34=0),"",-J34),I34-J34)) | L34: =IF(A34="","",IF(AND(E34<>"",F34=""),IF(A34<TODAY(),"Gehen fehlt",""),IF(AND(F34<>"",E34=""),"Kommen fehlt",IF(AND(D34<>"",U34=""),"Abwesenheit unbekannt",IF(N34-N(H34)>600,"über 10 Std. (§ 3 ArbZG)",IF(AND(N34>0,N(G34)<O34),IF(PauseErgaenzen="ja","Pause ergänzt (§ 4 ArbZG)","Pause zu kurz (§ 4 ArbZG)"),IF(AND(E34<>"",N(P33)>0,A34+E34-N(P33)<11/24-1/2880),"Ruhezeit unter 11 Std. (§ 5 ArbZG)",IF(AND(S34="",N(J34)>0,A34<TODAY()),"kein Eintrag","")))))))) | N34: =IF(OR(A34="",E34="",F34=""),0,ROUND(MOD(F34-E34,1)*1440,0)) | O34: =MIN(MAX(N34-360,0),30)+MIN(MAX(N34-570,0),15) | P34: =IF(N34=0,"",A34+F34+IF(F34<E34,1,0)) | Q34: =IF(OR(U34="",N(J34)=0),0,INDEX(Abw_Urlaub,U34)) | R34: =IF(OR(U34="",N(J34)=0),0,INDEX(Abw_Krank,U34)) | S34: =IF(AND(A34<>"",OR(D34<>"",E34<>"",F34<>"")),A34,"") | T34: =IF(A34="",0,INDEX(SollWoche,WEEKDAY(A34,2))) | U34: =IF(D34="","",IFERROR(MATCH(D34,Abw_Namen,0),""))
A35: =IF(MONTH(DATE(Jahr,3,29))=3,DATE(Jahr,3,29),"") | B35: =IF(A35="","",CHOOSE(WEEKDAY(A35,2),"Mo","Di","Mi","Do","Fr","Sa","So")) | C35: =IF(A35="","",IFERROR(INDEX(FT_Name,MATCH(A35,FT_DatumGilt,0)),"")) | H35: =IF(N35=0,"",IF(PauseErgaenzen="ja",MAX(N(G35),O35),N(G35))) | I35: =IF(OR(J35="",S35=""),"",(N35-N(H35))/60+IF(U35="",0,INDEX(Abw_Gutschrift,U35))*J35) | J35: =IF(OR(A35="",A35<Beginn),"",IF(OR(C35<>"",IF(U35="",FALSE,INDEX(Abw_SollEntfaellt,U35)="ja")),0,T35)) | K35: =IF(J35="","",IF(S35="",IF(OR(A35>=TODAY(),OhneEintragMinus<>"ja",J35=0),"",-J35),I35-J35)) | L35: =IF(A35="","",IF(AND(E35<>"",F35=""),IF(A35<TODAY(),"Gehen fehlt",""),IF(AND(F35<>"",E35=""),"Kommen fehlt",IF(AND(D35<>"",U35=""),"Abwesenheit unbekannt",IF(N35-N(H35)>600,"über 10 Std. (§ 3 ArbZG)",IF(AND(N35>0,N(G35)<O35),IF(PauseErgaenzen="ja","Pause ergänzt (§ 4 ArbZG)","Pause zu kurz (§ 4 ArbZG)"),IF(AND(E35<>"",N(P34)>0,A35+E35-N(P34)<11/24-1/2880),"Ruhezeit unter 11 Std. (§ 5 ArbZG)",IF(AND(S35="",N(J35)>0,A35<TODAY()),"kein Eintrag","")))))))) | N35: =IF(OR(A35="",E35="",F35=""),0,ROUND(MOD(F35-E35,1)*1440,0)) | O35: =MIN(MAX(N35-360,0),30)+MIN(MAX(N35-570,0),15) | P35: =IF(N35=0,"",A35+F35+IF(F35<E35,1,0)) | Q35: =IF(OR(U35="",N(J35)=0),0,INDEX(Abw_Urlaub,U35)) | R35: =IF(OR(U35="",N(J35)=0),0,INDEX(Abw_Krank,U35)) | S35: =IF(AND(A35<>"",OR(D35<>"",E35<>"",F35<>"")),A35,"") | T35: =IF(A35="",0,INDEX(SollWoche,WEEKDAY(A35,2))) | U35: =IF(D35="","",IFERROR(MATCH(D35,Abw_Namen,0),""))
A36: =IF(MONTH(DATE(Jahr,3,30))=3,DATE(Jahr,3,30),"") | B36: =IF(A36="","",CHOOSE(WEEKDAY(A36,2),"Mo","Di","Mi","Do","Fr","Sa","So")) | C36: =IF(A36="","",IFERROR(INDEX(FT_Name,MATCH(A36,FT_DatumGilt,0)),"")) | H36: =IF(N36=0,"",IF(PauseErgaenzen="ja",MAX(N(G36),O36),N(G36))) | I36: =IF(OR(J36="",S36=""),"",(N36-N(H36))/60+IF(U36="",0,INDEX(Abw_Gutschrift,U36))*J36) | J36: =IF(OR(A36="",A36<Beginn),"",IF(OR(C36<>"",IF(U36="",FALSE,INDEX(Abw_SollEntfaellt,U36)="ja")),0,T36)) | K36: =IF(J36="","",IF(S36="",IF(OR(A36>=TODAY(),OhneEintragMinus<>"ja",J36=0),"",-J36),I36-J36)) | L36: =IF(A36="","",IF(AND(E36<>"",F36=""),IF(A36<TODAY(),"Gehen fehlt",""),IF(AND(F36<>"",E36=""),"Kommen fehlt",IF(AND(D36<>"",U36=""),"Abwesenheit unbekannt",IF(N36-N(H36)>600,"über 10 Std. (§ 3 ArbZG)",IF(AND(N36>0,N(G36)<O36),IF(PauseErgaenzen="ja","Pause ergänzt (§ 4 ArbZG)","Pause zu kurz (§ 4 ArbZG)"),IF(AND(E36<>"",N(P35)>0,A36+E36-N(P35)<11/24-1/2880),"Ruhezeit unter 11 Std. (§ 5 ArbZG)",IF(AND(S36="",N(J36)>0,A36<TODAY()),"kein Eintrag","")))))))) | N36: =IF(OR(A36="",E36="",F36=""),0,ROUND(MOD(F36-E36,1)*1440,0)) | O36: =MIN(MAX(N36-360,0),30)+MIN(MAX(N36-570,0),15) | P36: =IF(N36=0,"",A36+F36+IF(F36<E36,1,0)) | Q36: =IF(OR(U36="",N(J36)=0),0,INDEX(Abw_Urlaub,U36)) | R36: =IF(OR(U36="",N(J36)=0),0,INDEX(Abw_Krank,U36)) | S36: =IF(AND(A36<>"",OR(D36<>"",E36<>"",F36<>"")),A36,"") | T36: =IF(A36="",0,INDEX(SollWoche,WEEKDAY(A36,2))) | U36: =IF(D36="","",IFERROR(MATCH(D36,Abw_Namen,0),""))
A37: =IF(MONTH(DATE(Jahr,3,31))=3,DATE(Jahr,3,31),"") | B37: =IF(A37="","",CHOOSE(WEEKDAY(A37,2),"Mo","Di","Mi","Do","Fr","Sa","So")) | C37: =IF(A37="","",IFERROR(INDEX(FT_Name,MATCH(A37,FT_DatumGilt,0)),"")) | H37: =IF(N37=0,"",IF(PauseErgaenzen="ja",MAX(N(G37),O37),N(G37))) | I37: =IF(OR(J37="",S37=""),"",(N37-N(H37))/60+IF(U37="",0,INDEX(Abw_Gutschrift,U37))*J37) | J37: =IF(OR(A37="",A37<Beginn),"",IF(OR(C37<>"",IF(U37="",FALSE,INDEX(Abw_SollEntfaellt,U37)="ja")),0,T37)) | K37: =IF(J37="","",IF(S37="",IF(OR(A37>=TODAY(),OhneEintragMinus<>"ja",J37=0),"",-J37),I37-J37)) | L37: =IF(A37="","",IF(AND(E37<>"",F37=""),IF(A37<TODAY(),"Gehen fehlt",""),IF(AND(F37<>"",E37=""),"Kommen fehlt",IF(AND(D37<>"",U37=""),"Abwesenheit unbekannt",IF(N37-N(H37)>600,"über 10 Std. (§ 3 ArbZG)",IF(AND(N37>0,N(G37)<O37),IF(PauseErgaenzen="ja","Pause ergänzt (§ 4 ArbZG)","Pause zu kurz (§ 4 ArbZG)"),IF(AND(E37<>"",N(P36)>0,A37+E37-N(P36)<11/24-1/2880),"Ruhezeit unter 11 Std. (§ 5 ArbZG)",IF(AND(S37="",N(J37)>0,A37<TODAY()),"kein Eintrag","")))))))) | N37: =IF(OR(A37="",E37="",F37=""),0,ROUND(MOD(F37-E37,1)*1440,0)) | O37: =MIN(MAX(N37-360,0),30)+MIN(MAX(N37-570,0),15) | P37: =IF(N37=0,"",A37+F37+IF(F37<E37,1,0)) | Q37: =IF(OR(U37="",N(J37)=0),0,INDEX(Abw_Urlaub,U37)) | R37: =IF(OR(U37="",N(J37)=0),0,INDEX(Abw_Krank,U37)) | S37: =IF(AND(A37<>"",OR(D37<>"",E37<>"",F37<>"")),A37,"") | T37: =IF(A37="",0,INDEX(SollWoche,WEEKDAY(A37,2))) | U37: =IF(D37="","",IFERROR(MATCH(D37,Abw_Namen,0),""))
A40: Datum, Unterschrift Mitarbeiter | H40: Datum, Unterschrift Arbeitgeber

Sheet April
A1: ="Stundenzettel April "&Jahr
A2: Kostenlose Vorlage von ExcelDok · exceldok.de · hellgelb eintragen, grau rechnet selbst · Erklärung im Blatt Anleitung
A3: Mitarbeiter | D3: Zeitkonto Vormonat | E3: Urlaub (Tage) | F3: Rest-urlaub | G3: Krank (Tage) | H3: Hinweise | I3: Ist | J3: Soll | K3: Saldo Monat | L3: Zeitkonto am Monatsende
A4: =IF(Name="","(Name in den Einstellungen)",Name) | D4: ='März'!$L$4 | E4: =SUM(Q7:Q37) | F4: ='März'!$F$4-E4 | G4: =SUM(R7:R37) | H4: =COUNTIF(L7:L37,"?*") | I4: =SUM(I7:I37) | J4: =SUMPRODUCT(--(K7:K37<>""),J7:J37) | K4: =SUM(K7:K37) | L4: =D4+K4
A6: Datum | B6: Tag | C6: Feiertag | D6: Abwesenheit | E6: Kommen | F6: Gehen | G6: Pause (Min.) | H6: Pause gezählt | I6: Ist (Std.) | J6: Soll (Std.) | K6: Saldo (Std.) | L6: Hinweis | M6: Bemerkung / Projekt | N6: Brutto (Min.) | O6: Mindestpause | P6: Ende | Q6: Urlaubstage | R6: Krankheitstage | S6: Eintrag | T6: Sollbasis | U6: Abw.-Nr.
A7: =IF(MONTH(DATE(Jahr,4,1))=4,DATE(Jahr,4,1),"") | B7: =IF(A7="","",CHOOSE(WEEKDAY(A7,2),"Mo","Di","Mi","Do","Fr","Sa","So")) | C7: =IF(A7="","",IFERROR(INDEX(FT_Name,MATCH(A7,FT_DatumGilt,0)),"")) | H7: =IF(N7=0,"",IF(PauseErgaenzen="ja",MAX(N(G7),O7),N(G7))) | I7: =IF(OR(J7="",S7=""),"",(N7-N(H7))/60+IF(U7="",0,INDEX(Abw_Gutschrift,U7))*J7) | J7: =IF(OR(A7="",A7<Beginn),"",IF(OR(C7<>"",IF(U7="",FALSE,INDEX(Abw_SollEntfaellt,U7)="ja")),0,T7)) | K7: =IF(J7="","",IF(S7="",IF(OR(A7>=TODAY(),OhneEintragMinus<>"ja",J7=0),"",-J7),I7-J7)) | L7: =IF(A7="","",IF(AND(E7<>"",F7=""),IF(A7<TODAY(),"Gehen fehlt",""),IF(AND(F7<>"",E7=""),"Kommen fehlt",IF(AND(D7<>"",U7=""),"Abwesenheit unbekannt",IF(N7-N(H7)>600,"über 10 Std. (§ 3 ArbZG)",IF(AND(N7>0,N(G7)<O7),IF(PauseErgaenzen="ja","Pause ergänzt (§ 4 ArbZG)","Pause zu kurz (§ 4 ArbZG)"),IF(AND(E7<>"",MAX('März'!$P$7:$P$37)>0,A7+E7-MAX('März'!$P$7:$P$37)<11/24-1/2880),"Ruhezeit unter 11 Std. (§ 5 ArbZG)",IF(AND(S7="",N(J7)>0,A7<TODAY()),"kein Eintrag","")))))))) | N7: =IF(OR(A7="",E7="",F7=""),0,ROUND(MOD(F7-E7,1)*1440,0)) | O7: =MIN(MAX(N7-360,0),30)+MIN(MAX(N7-570,0),15) | P7: =IF(N7=0,"",A7+F7+IF(F7<E7,1,0)) | Q7: =IF(OR(U7="",N(J7)=0),0,INDEX(Abw_Urlaub,U7)) | R7: =IF(OR(U7="",N(J7)=0),0,INDEX(Abw_Krank,U7)) | S7: =IF(AND(A7<>"",OR(D7<>"",E7<>"",F7<>"")),A7,"") | T7: =IF(A7="",0,INDEX(SollWoche,WEEKDAY(A7,2))) | U7: =IF(D7="","",IFERROR(MATCH(D7,Abw_Namen,0),""))
A8: =IF(MONTH(DATE(Jahr,4,2))=4,DATE(Jahr,4,2),"") | B8: =IF(A8="","",CHOOSE(WEEKDAY(A8,2),"Mo","Di","Mi","Do","Fr","Sa","So")) | C8: =IF(A8="","",IFERROR(INDEX(FT_Name,MATCH(A8,FT_DatumGilt,0)),"")) | H8: =IF(N8=0,"",IF(PauseErgaenzen="ja",MAX(N(G8),O8),N(G8))) | I8: =IF(OR(J8="",S8=""),"",(N8-N(H8))/60+IF(U8="",0,INDEX(Abw_Gutschrift,U8))*J8) | J8: =IF(OR(A8="",A8<Beginn),"",IF(OR(C8<>"",IF(U8="",FALSE,INDEX(Abw_SollEntfaellt,U8)="ja")),0,T8)) | K8: =IF(J8="","",IF(S8="",IF(OR(A8>=TODAY(),OhneEintragMinus<>"ja",J8=0),"",-J8),I8-J8)) | L8: =IF(A8="","",IF(AND(E8<>"",F8=""),IF(A8<TODAY(),"Gehen fehlt",""),IF(AND(F8<>"",E8=""),"Kommen fehlt",IF(AND(D8<>"",U8=""),"Abwesenheit unbekannt",IF(N8-N(H8)>600,"über 10 Std. (§ 3 ArbZG)",IF(AND(N8>0,N(G8)<O8),IF(PauseErgaenzen="ja","Pause ergänzt (§ 4 ArbZG)","Pause zu kurz (§ 4 ArbZG)"),IF(AND(E8<>"",N(P7)>0,A8+E8-N(P7)<11/24-1/2880),"Ruhezeit unter 11 Std. (§ 5 ArbZG)",IF(AND(S8="",N(J8)>0,A8<TODAY()),"kein Eintrag","")))))))) | N8: =IF(OR(A8="",E8="",F8=""),0,ROUND(MOD(F8-E8,1)*1440,0)) | O8: =MIN(MAX(N8-360,0),30)+MIN(MAX(N8-570,0),15) | P8: =IF(N8=0,"",A8+F8+IF(F8<E8,1,0)) | Q8: =IF(OR(U8="",N(J8)=0),0,INDEX(Abw_Urlaub,U8)) | R8: =IF(OR(U8="",N(J8)=0),0,INDEX(Abw_Krank,U8)) | S8: =IF(AND(A8<>"",OR(D8<>"",E8<>"",F8<>"")),A8,"") | T8: =IF(A8="",0,INDEX(SollWoche,WEEKDAY(A8,2))) | U8: =IF(D8="","",IFERROR(MATCH(D8,Abw_Namen,0),""))
A9: =IF(MONTH(DATE(Jahr,4,3))=4,DATE(Jahr,4,3),"") | B9: =IF(A9="","",CHOOSE(WEEKDAY(A9,2),"Mo","Di","Mi","Do","Fr","Sa","So")) | C9: =IF(A9="","",IFERROR(INDEX(FT_Name,MATCH(A9,FT_DatumGilt,0)),"")) | H9: =IF(N9=0,"",IF(PauseErgaenzen="ja",MAX(N(G9),O9),N(G9))) | I9: =IF(OR(J9="",S9=""),"",(N9-N(H9))/60+IF(U9="",0,INDEX(Abw_Gutschrift,U9))*J9) | J9: =IF(OR(A9="",A9<Beginn),"",IF(OR(C9<>"",IF(U9="",FALSE,INDEX(Abw_SollEntfaellt,U9)="ja")),0,T9)) | K9: =IF(J9="","",IF(S9="",IF(OR(A9>=TODAY(),OhneEintragMinus<>"ja",J9=0),"",-J9),I9-J9)) | L9: =IF(A9="","",IF(AND(E9<>"",F9=""),IF(A9<TODAY(),"Gehen fehlt",""),IF(AND(F9<>"",E9=""),"Kommen fehlt",IF(AND(D9<>"",U9=""),"Abwesenheit unbekannt",IF(N9-N(H9)>600,"über 10 Std. (§ 3 ArbZG)",IF(AND(N9>0,N(G9)<O9),IF(PauseErgaenzen="ja","Pause ergänzt (§ 4 ArbZG)","Pause zu kurz (§ 4 ArbZG)"),IF(AND(E9<>"",N(P8)>0,A9+E9-N(P8)<11/24-1/2880),"Ruhezeit unter 11 Std. (§ 5 ArbZG)",IF(AND(S9="",N(J9)>0,A9<TODAY()),"kein Eintrag","")))))))) | N9: =IF(OR(A9="",E9="",F9=""),0,ROUND(MOD(F9-E9,1)*1440,0)) | O9: =MIN(MAX(N9-360,0),30)+MIN(MAX(N9-570,0),15) | P9: =IF(N9=0,"",A9+F9+IF(F9<E9,1,0)) | Q9: =IF(OR(U9="",N(J9)=0),0,INDEX(Abw_Urlaub,U9)) | R9: =IF(OR(U9="",N(J9)=0),0,INDEX(Abw_Krank,U9)) | S9: =IF(AND(A9<>"",OR(D9<>"",E9<>"",F9<>"")),A9,"") | T9: =IF(A9="",0,INDEX(SollWoche,WEEKDAY(A9,2))) | U9: =IF(D9="","",IFERROR(MATCH(D9,Abw_Namen,0),""))
A10: =IF(MONTH(DATE(Jahr,4,4))=4,DATE(Jahr,4,4),"") | B10: =IF(A10="","",CHOOSE(WEEKDAY(A10,2),"Mo","Di","Mi","Do","Fr","Sa","So")) | C10: =IF(A10="","",IFERROR(INDEX(FT_Name,MATCH(A10,FT_DatumGilt,0)),"")) | H10: =IF(N10=0,"",IF(PauseErgaenzen="ja",MAX(N(G10),O10),N(G10))) | I10: =IF(OR(J10="",S10=""),"",(N10-N(H10))/60+IF(U10="",0,INDEX(Abw_Gutschrift,U10))*J10) | J10: =IF(OR(A10="",A10<Beginn),"",IF(OR(C10<>"",IF(U10="",FALSE,INDEX(Abw_SollEntfaellt,U10)="ja")),0,T10)) | K10: =IF(J10="","",IF(S10="",IF(OR(A10>=TODAY(),OhneEintragMinus<>"ja",J10=0),"",-J10),I10-J10)) | L10: =IF(A10="","",IF(AND(E10<>"",F10=""),IF(A10<TODAY(),"Gehen fehlt",""),IF(AND(F10<>"",E10=""),"Kommen fehlt",IF(AND(D10<>"",U10=""),"Abwesenheit unbekannt",IF(N10-N(H10)>600,"über 10 Std. (§ 3 ArbZG)",IF(AND(N10>0,N(G10)<O10),IF(PauseErgaenzen="ja","Pause ergänzt (§ 4 ArbZG)","Pause zu kurz (§ 4 ArbZG)"),IF(AND(E10<>"",N(P9)>0,A10+E10-N(P9)<11/24-1/2880),"Ruhezeit unter 11 Std. (§ 5 ArbZG)",IF(AND(S10="",N(J10)>0,A10<TODAY()),"kein Eintrag","")))))))) | N10: =IF(OR(A10="",E10="",F10=""),0,ROUND(MOD(F10-E10,1)*1440,0)) | O10: =MIN(MAX(N10-360,0),30)+MIN(MAX(N10-570,0),15) | P10: =IF(N10=0,"",A10+F10+IF(F10<E10,1,0)) | Q10: =IF(OR(U10="",N(J10)=0),0,INDEX(Abw_Urlaub,U10)) | R10: =IF(OR(U10="",N(J10)=0),0,INDEX(Abw_Krank,U10)) | S10: =IF(AND(A10<>"",OR(D10<>"",E10<>"",F10<>"")),A10,"") | T10: =IF(A10="",0,INDEX(SollWoche,WEEKDAY(A10,2))) | U10: =IF(D10="","",IFERROR(MATCH(D10,Abw_Namen,0),""))
A11: =IF(MONTH(DATE(Jahr,4,5))=4,DATE(Jahr,4,5),"") | B11: =IF(A11="","",CHOOSE(WEEKDAY(A11,2),"Mo","Di","Mi","Do","Fr","Sa","So")) | C11: =IF(A11="","",IFERROR(INDEX(FT_Name,MATCH(A11,FT_DatumGilt,0)),"")) | H11: =IF(N11=0,"",IF(PauseErgaenzen="ja",MAX(N(G11),O11),N(G11))) | I11: =IF(OR(J11="",S11=""),"",(N11-N(H11))/60+IF(U11="",0,INDEX(Abw_Gutschrift,U11))*J11) | J11: =IF(OR(A11="",A11<Beginn),"",IF(OR(C11<>"",IF(U11="",FALSE,INDEX(Abw_SollEntfaellt,U11)="ja")),0,T11)) | K11: =IF(J11="","",IF(S11="",IF(OR(A11>=TODAY(),OhneEintragMinus<>"ja",J11=0),"",-J11),I11-J11)) | L11: =IF(A11="","",IF(AND(E11<>"",F11=""),IF(A11<TODAY(),"Gehen fehlt",""),IF(AND(F11<>"",E11=""),"Kommen fehlt",IF(AND(D11<>"",U11=""),"Abwesenheit unbekannt",IF(N11-N(H11)>600,"über 10 Std. (§ 3 ArbZG)",IF(AND(N11>0,N(G11)<O11),IF(PauseErgaenzen="ja","Pause ergänzt (§ 4 ArbZG)","Pause zu kurz (§ 4 ArbZG)"),IF(AND(E11<>"",N(P10)>0,A11+E11-N(P10)<11/24-1/2880),"Ruhezeit unter 11 Std. (§ 5 ArbZG)",IF(AND(S11="",N(J11)>0,A11<TODAY()),"kein Eintrag","")))))))) | N11: =IF(OR(A11="",E11="",F11=""),0,ROUND(MOD(F11-E11,1)*1440,0)) | O11: =MIN(MAX(N11-360,0),30)+MIN(MAX(N11-570,0),15) | P11: =IF(N11=0,"",A11+F11+IF(F11<E11,1,0)) | Q11: =IF(OR(U11="",N(J11)=0),0,INDEX(Abw_Urlaub,U11)) | R11: =IF(OR(U11="",N(J11)=0),0,INDEX(Abw_Krank,U11)) | S11: =IF(AND(A11<>"",OR(D11<>"",E11<>"",F11<>"")),A11,"") | T11: =IF(A11="",0,INDEX(SollWoche,WEEKDAY(A11,2))) | U11: =IF(D11="","",IFERROR(MATCH(D11,Abw_Namen,0),""))
A12: =IF(MONTH(DATE(Jahr,4,6))=4,DATE(Jahr,4,6),"") | B12: =IF(A12="","",CHOOSE(WEEKDAY(A12,2),"Mo","Di","Mi","Do","Fr","Sa","So")) | C12: =IF(A12="","",IFERROR(INDEX(FT_Name,MATCH(A12,FT_DatumGilt,0)),"")) | H12: =IF(N12=0,"",IF(PauseErgaenzen="ja",MAX(N(G12),O12),N(G12))) | I12: =IF(OR(J12="",S12=""),"",(N12-N(H12))/60+IF(U12="",0,INDEX(Abw_Gutschrift,U12))*J12) | J12: =IF(OR(A12="",A12<Beginn),"",IF(OR(C12<>"",IF(U12="",FALSE,INDEX(Abw_SollEntfaellt,U12)="ja")),0,T12)) | K12: =IF(J12="","",IF(S12="",IF(OR(A12>=TODAY(),OhneEintragMinus<>"ja",J12=0),"",-J12),I12-J12)) | L12: =IF(A12="","",IF(AND(E12<>"",F12=""),IF(A12<TODAY(),"Gehen fehlt",""),IF(AND(F12<>"",E12=""),"Kommen fehlt",IF(AND(D12<>"",U12=""),"Abwesenheit unbekannt",IF(N12-N(H12)>600,"über 10 Std. (§ 3 ArbZG)",IF(AND(N12>0,N(G12)<O12),IF(PauseErgaenzen="ja","Pause ergänzt (§ 4 ArbZG)","Pause zu kurz (§ 4 ArbZG)"),IF(AND(E12<>"",N(P11)>0,A12+E12-N(P11)<11/24-1/2880),"Ruhezeit unter 11 Std. (§ 5 ArbZG)",IF(AND(S12="",N(J12)>0,A12<TODAY()),"kein Eintrag","")))))))) | N12: =IF(OR(A12="",E12="",F12=""),0,ROUND(MOD(F12-E12,1)*1440,0)) | O12: =MIN(MAX(N12-360,0),30)+MIN(MAX(N12-570,0),15) | P12: =IF(N12=0,"",A12+F12+IF(F12<E12,1,0)) | Q12: =IF(OR(U12="",N(J12)=0),0,INDEX(Abw_Urlaub,U12)) | R12: =IF(OR(U12="",N(J12)=0),0,INDEX(Abw_Krank,U12)) | S12: =IF(AND(A12<>"",OR(D12<>"",E12<>"",F12<>"")),A12,"") | T12: =IF(A12="",0,INDEX(SollWoche,WEEKDAY(A12,2))) | U12: =IF(D12="","",IFERROR(MATCH(D12,Abw_Namen,0),""))
A13: =IF(MONTH(DATE(Jahr,4,7))=4,DATE(Jahr,4,7),"") | B13: =IF(A13="","",CHOOSE(WEEKDAY(A13,2),"Mo","Di","Mi","Do","Fr","Sa","So")) | C13: =IF(A13="","",IFERROR(INDEX(FT_Name,MATCH(A13,FT_DatumGilt,0)),"")) | H13: =IF(N13=0,"",IF(PauseErgaenzen="ja",MAX(N(G13),O13),N(G13))) | I13: =IF(OR(J13="",S13=""),"",(N13-N(H13))/60+IF(U13="",0,INDEX(Abw_Gutschrift,U13))*J13) | J13: =IF(OR(A13="",A13<Beginn),"",IF(OR(C13<>"",IF(U13="",FALSE,INDEX(Abw_SollEntfaellt,U13)="ja")),0,T13)) | K13: =IF(J13="","",IF(S13="",IF(OR(A13>=TODAY(),OhneEintragMinus<>"ja",J13=0),"",-J13),I13-J13)) | L13: =IF(A13="","",IF(AND(E13<>"",F13=""),IF(A13<TODAY(),"Gehen fehlt",""),IF(AND(F13<>"",E13=""),"Kommen fehlt",IF(AND(D13<>"",U13=""),"Abwesenheit unbekannt",IF(N13-N(H13)>600,"über 10 Std. (§ 3 ArbZG)",IF(AND(N13>0,N(G13)<O13),IF(PauseErgaenzen="ja","Pause ergänzt (§ 4 ArbZG)","Pause zu kurz (§ 4 ArbZG)"),IF(AND(E13<>"",N(P12)>0,A13+E13-N(P12)<11/24-1/2880),"Ruhezeit unter 11 Std. (§ 5 ArbZG)",IF(AND(S13="",N(J13)>0,A13<TODAY()),"kein Eintrag","")))))))) | N13: =IF(OR(A13="",E13="",F13=""),0,ROUND(MOD(F13-E13,1)*1440,0)) | O13: =MIN(MAX(N13-360,0),30)+MIN(MAX(N13-570,0),15) | P13: =IF(N13=0,"",A13+F13+IF(F13<E13,1,0)) | Q13: =IF(OR(U13="",N(J13)=0),0,INDEX(Abw_Urlaub,U13)) | R13: =IF(OR(U13="",N(J13)=0),0,INDEX(Abw_Krank,U13)) | S13: =IF(AND(A13<>"",OR(D13<>"",E13<>"",F13<>"")),A13,"") | T13: =IF(A13="",0,INDEX(SollWoche,WEEKDAY(A13,2))) | U13: =IF(D13="","",IFERROR(MATCH(D13,Abw_Namen,0),""))
A14: =IF(MONTH(DATE(Jahr,4,8))=4,DATE(Jahr,4,8),"") | B14: =IF(A14="","",CHOOSE(WEEKDAY(A14,2),"Mo","Di","Mi","Do","Fr","Sa","So")) | C14: =IF(A14="","",IFERROR(INDEX(FT_Name,MATCH(A14,FT_DatumGilt,0)),"")) | H14: =IF(N14=0,"",IF(PauseErgaenzen="ja",MAX(N(G14),O14),N(G14))) | I14: =IF(OR(J14="",S14=""),"",(N14-N(H14))/60+IF(U14="",0,INDEX(Abw_Gutschrift,U14))*J14) | J14: =IF(OR(A14="",A14<Beginn),"",IF(OR(C14<>"",IF(U14="",FALSE,INDEX(Abw_SollEntfaellt,U14)="ja")),0,T14)) | K14: =IF(J14="","",IF(S14="",IF(OR(A14>=TODAY(),OhneEintragMinus<>"ja",J14=0),"",-J14),I14-J14)) | L14: =IF(A14="","",IF(AND(E14<>"",F14=""),IF(A14<TODAY(),"Gehen fehlt",""),IF(AND(F14<>"",E14=""),"Kommen fehlt",IF(AND(D14<>"",U14=""),"Abwesenheit unbekannt",IF(N14-N(H14)>600,"über 10 Std. (§ 3 ArbZG)",IF(AND(N14>0,N(G14)<O14),IF(PauseErgaenzen="ja","Pause ergänzt (§ 4 ArbZG)","Pause zu kurz (§ 4 ArbZG)"),IF(AND(E14<>"",N(P13)>0,A14+E14-N(P13)<11/24-1/2880),"Ruhezeit unter 11 Std. (§ 5 ArbZG)",IF(AND(S14="",N(J14)>0,A14<TODAY()),"kein Eintrag","")))))))) | N14: =IF(OR(A14="",E14="",F14=""),0,ROUND(MOD(F14-E14,1)*1440,0)) | O14: =MIN(MAX(N14-360,0),30)+MIN(MAX(N14-570,0),15) | P14: =IF(N14=0,"",A14+F14+IF(F14<E14,1,0)) | Q14: =IF(OR(U14="",N(J14)=0),0,INDEX(Abw_Urlaub,U14)) | R14: =IF(OR(U14="",N(J14)=0),0,INDEX(Abw_Krank,U14)) | S14: =IF(AND(A14<>"",OR(D14<>"",E14<>"",F14<>"")),A14,"") | T14: =IF(A14="",0,INDEX(SollWoche,WEEKDAY(A14,2))) | U14: =IF(D14="","",IFERROR(MATCH(D14,Abw_Namen,0),""))
A15: =IF(MONTH(DATE(Jahr,4,9))=4,DATE(Jahr,4,9),"") | B15: =IF(A15="","",CHOOSE(WEEKDAY(A15,2),"Mo","Di","Mi","Do","Fr","Sa","So")) | C15: =IF(A15="","",IFERROR(INDEX(FT_Name,MATCH(A15,FT_DatumGilt,0)),"")) | H15: =IF(N15=0,"",IF(PauseErgaenzen="ja",MAX(N(G15),O15),N(G15))) | I15: =IF(OR(J15="",S15=""),"",(N15-N(H15))/60+IF(U15="",0,INDEX(Abw_Gutschrift,U15))*J15) | J15: =IF(OR(A15="",A15<Beginn),"",IF(OR(C15<>"",IF(U15="",FALSE,INDEX(Abw_SollEntfaellt,U15)="ja")),0,T15)) | K15: =IF(J15="","",IF(S15="",IF(OR(A15>=TODAY(),OhneEintragMinus<>"ja",J15=0),"",-J15),I15-J15)) | L15: =IF(A15="","",IF(AND(E15<>"",F15=""),IF(A15<TODAY(),"Gehen fehlt",""),IF(AND(F15<>"",E15=""),"Kommen fehlt",IF(AND(D15<>"",U15=""),"Abwesenheit unbekannt",IF(N15-N(H15)>600,"über 10 Std. (§ 3 ArbZG)",IF(AND(N15>0,N(G15)<O15),IF(PauseErgaenzen="ja","Pause ergänzt (§ 4 ArbZG)","Pause zu kurz (§ 4 ArbZG)"),IF(AND(E15<>"",N(P14)>0,A15+E15-N(P14)<11/24-1/2880),"Ruhezeit unter 11 Std. (§ 5 ArbZG)",IF(AND(S15="",N(J15)>0,A15<TODAY()),"kein Eintrag","")))))))) | N15: =IF(OR(A15="",E15="",F15=""),0,ROUND(MOD(F15-E15,1)*1440,0)) | O15: =MIN(MAX(N15-360,0),30)+MIN(MAX(N15-570,0),15) | P15: =IF(N15=0,"",A15+F15+IF(F15<E15,1,0)) | Q15: =IF(OR(U15="",N(J15)=0),0,INDEX(Abw_Urlaub,U15)) | R15: =IF(OR(U15="",N(J15)=0),0,INDEX(Abw_Krank,U15)) | S15: =IF(AND(A15<>"",OR(D15<>"",E15<>"",F15<>"")),A15,"") | T15: =IF(A15="",0,INDEX(SollWoche,WEEKDAY(A15,2))) | U15: =IF(D15="","",IFERROR(MATCH(D15,Abw_Namen,0),""))
A16: =IF(MONTH(DATE(Jahr,4,10))=4,DATE(Jahr,4,10),"") | B16: =IF(A16="","",CHOOSE(WEEKDAY(A16,2),"Mo","Di","Mi","Do","Fr","Sa","So")) | C16: =IF(A16="","",IFERROR(INDEX(FT_Name,MATCH(A16,FT_DatumGilt,0)),"")) | H16: =IF(N16=0,"",IF(PauseErgaenzen="ja",MAX(N(G16),O16),N(G16))) | I16: =IF(OR(J16="",S16=""),"",(N16-N(H16))/60+IF(U16="",0,INDEX(Abw_Gutschrift,U16))*J16) | J16: =IF(OR(A16="",A16<Beginn),"",IF(OR(C16<>"",IF(U16="",FALSE,INDEX(Abw_SollEntfaellt,U16)="ja")),0,T16)) | K16: =IF(J16="","",IF(S16="",IF(OR(A16>=TODAY(),OhneEintragMinus<>"ja",J16=0),"",-J16),I16-J16)) | L16: =IF(A16="","",IF(AND(E16<>"",F16=""),IF(A16<TODAY(),"Gehen fehlt",""),IF(AND(F16<>"",E16=""),"Kommen fehlt",IF(AND(D16<>"",U16=""),"Abwesenheit unbekannt",IF(N16-N(H16)>600,"über 10 Std. (§ 3 ArbZG)",IF(AND(N16>0,N(G16)<O16),IF(PauseErgaenzen="ja","Pause ergänzt (§ 4 ArbZG)","Pause zu kurz (§ 4 ArbZG)"),IF(AND(E16<>"",N(P15)>0,A16+E16-N(P15)<11/24-1/2880),"Ruhezeit unter 11 Std. (§ 5 ArbZG)",IF(AND(S16="",N(J16)>0,A16<TODAY()),"kein Eintrag","")))))))) | N16: =IF(OR(A16="",E16="",F16=""),0,ROUND(MOD(F16-E16,1)*1440,0)) | O16: =MIN(MAX(N16-360,0),30)+MIN(MAX(N16-570,0),15) | P16: =IF(N16=0,"",A16+F16+IF(F16<E16,1,0)) | Q16: =IF(OR(U16="",N(J16)=0),0,INDEX(Abw_Urlaub,U16)) | R16: =IF(OR(U16="",N(J16)=0),0,INDEX(Abw_Krank,U16)) | S16: =IF(AND(A16<>"",OR(D16<>"",E16<>"",F16<>"")),A16,"") | T16: =IF(A16="",0,INDEX(SollWoche,WEEKDAY(A16,2))) | U16: =IF(D16="","",IFERROR(MATCH(D16,Abw_Namen,0),""))
A17: =IF(MONTH(DATE(Jahr,4,11))=4,DATE(Jahr,4,11),"") | B17: =IF(A17="","",CHOOSE(WEEKDAY(A17,2),"Mo","Di","Mi","Do","Fr","Sa","So")) | C17: =IF(A17="","",IFERROR(INDEX(FT_Name,MATCH(A17,FT_DatumGilt,0)),"")) | H17: =IF(N17=0,"",IF(PauseErgaenzen="ja",MAX(N(G17),O17),N(G17))) | I17: =IF(OR(J17="",S17=""),"",(N17-N(H17))/60+IF(U17="",0,INDEX(Abw_Gutschrift,U17))*J17) | J17: =IF(OR(A17="",A17<Beginn),"",IF(OR(C17<>"",IF(U17="",FALSE,INDEX(Abw_SollEntfaellt,U17)="ja")),0,T17)) | K17: =IF(J17="","",IF(S17="",IF(OR(A17>=TODAY(),OhneEintragMinus<>"ja",J17=0),"",-J17),I17-J17)) | L17: =IF(A17="","",IF(AND(E17<>"",F17=""),IF(A17<TODAY(),"Gehen fehlt",""),IF(AND(F17<>"",E17=""),"Kommen fehlt",IF(AND(D17<>"",U17=""),"Abwesenheit unbekannt",IF(N17-N(H17)>600,"über 10 Std. (§ 3 ArbZG)",IF(AND(N17>0,N(G17)<O17),IF(PauseErgaenzen="ja","Pause ergänzt (§ 4 ArbZG)","Pause zu kurz (§ 4 ArbZG)"),IF(AND(E17<>"",N(P16)>0,A17+E17-N(P16)<11/24-1/2880),"Ruhezeit unter 11 Std. (§ 5 ArbZG)",IF(AND(S17="",N(J17)>0,A17<TODAY()),"kein Eintrag","")))))))) | N17: =IF(OR(A17="",E17="",F17=""),0,ROUND(MOD(F17-E17,1)*1440,0)) | O17: =MIN(MAX(N17-360,0),30)+MIN(MAX(N17-570,0),15) | P17: =IF(N17=0,"",A17+F17+IF(F17<E17,1,0)) | Q17: =IF(OR(U17="",N(J17)=0),0,INDEX(Abw_Urlaub,U17)) | R17: =IF(OR(U17="",N(J17)=0),0,INDEX(Abw_Krank,U17)) | S17: =IF(AND(A17<>"",OR(D17<>"",E17<>"",F17<>"")),A17,"") | T17: =IF(A17="",0,INDEX(SollWoche,WEEKDAY(A17,2))) | U17: =IF(D17="","",IFERROR(MATCH(D17,Abw_Namen,0),""))
A18: =IF(MONTH(DATE(Jahr,4,12))=4,DATE(Jahr,4,12),"") | B18: =IF(A18="","",CHOOSE(WEEKDAY(A18,2),"Mo","Di","Mi","Do","Fr","Sa","So")) | C18: =IF(A18="","",IFERROR(INDEX(FT_Name,MATCH(A18,FT_DatumGilt,0)),"")) | H18: =IF(N18=0,"",IF(PauseErgaenzen="ja",MAX(N(G18),O18),N(G18))) | I18: =IF(OR(J18="",S18=""),"",(N18-N(H18))/60+IF(U18="",0,INDEX(Abw_Gutschrift,U18))*J18) | J18: =IF(OR(A18="",A18<Beginn),"",IF(OR(C18<>"",IF(U18="",FALSE,INDEX(Abw_SollEntfaellt,U18)="ja")),0,T18)) | K18: =IF(J18="","",IF(S18="",IF(OR(A18>=TODAY(),OhneEintragMinus<>"ja",J18=0),"",-J18),I18-J18)) | L18: =IF(A18="","",IF(AND(E18<>"",F18=""),IF(A18<TODAY(),"Gehen fehlt",""),IF(AND(F18<>"",E18=""),"Kommen fehlt",IF(AND(D18<>"",U18=""),"Abwesenheit unbekannt",IF(N18-N(H18)>600,"über 10 Std. (§ 3 ArbZG)",IF(AND(N18>0,N(G18)<O18),IF(PauseErgaenzen="ja","Pause ergänzt (§ 4 ArbZG)","Pause zu kurz (§ 4 ArbZG)"),IF(AND(E18<>"",N(P17)>0,A18+E18-N(P17)<11/24-1/2880),"Ruhezeit unter 11 Std. (§ 5 ArbZG)",IF(AND(S18="",N(J18)>0,A18<TODAY()),"kein Eintrag","")))))))) | N18: =IF(OR(A18="",E18="",F18=""),0,ROUND(MOD(F18-E18,1)*1440,0)) | O18: =MIN(MAX(N18-360,0),30)+MIN(MAX(N18-570,0),15) | P18: =IF(N18=0,"",A18+F18+IF(F18<E18,1,0)) | Q18: =IF(OR(U18="",N(J18)=0),0,INDEX(Abw_Urlaub,U18)) | R18: =IF(OR(U18="",N(J18)=0),0,INDEX(Abw_Krank,U18)) | S18: =IF(AND(A18<>"",OR(D18<>"",E18<>"",F18<>"")),A18,"") | T18: =IF(A18="",0,INDEX(SollWoche,WEEKDAY(A18,2))) | U18: =IF(D18="","",IFERROR(MATCH(D18,Abw_Namen,0),""))
A19: =IF(MONTH(DATE(Jahr,4,13))=4,DATE(Jahr,4,13),"") | B19: =IF(A19="","",CHOOSE(WEEKDAY(A19,2),"Mo","Di","Mi","Do","Fr","Sa","So")) | C19: =IF(A19="","",IFERROR(INDEX(FT_Name,MATCH(A19,FT_DatumGilt,0)),"")) | H19: =IF(N19=0,"",IF(PauseErgaenzen="ja",MAX(N(G19),O19),N(G19))) | I19: =IF(OR(J19="",S19=""),"",(N19-N(H19))/60+IF(U19="",0,INDEX(Abw_Gutschrift,U19))*J19) | J19: =IF(OR(A19="",A19<Beginn),"",IF(OR(C19<>"",IF(U19="",FALSE,INDEX(Abw_SollEntfaellt,U19)="ja")),0,T19)) | K19: =IF(J19="","",IF(S19="",IF(OR(A19>=TODAY(),OhneEintragMinus<>"ja",J19=0),"",-J19),I19-J19)) | L19: =IF(A19="","",IF(AND(E19<>"",F19=""),IF(A19<TODAY(),"Gehen fehlt",""),IF(AND(F19<>"",E19=""),"Kommen fehlt",IF(AND(D19<>"",U19=""),"Abwesenheit unbekannt",IF(N19-N(H19)>600,"über 10 Std. (§ 3 ArbZG)",IF(AND(N19>0,N(G19)<O19),IF(PauseErgaenzen="ja","Pause ergänzt (§ 4 ArbZG)","Pause zu kurz (§ 4 ArbZG)"),IF(AND(E19<>"",N(P18)>0,A19+E19-N(P18)<11/24-1/2880),"Ruhezeit unter 11 Std. (§ 5 ArbZG)",IF(AND(S19="",N(J19)>0,A19<TODAY()),"kein Eintrag","")))))))) | N19: =IF(OR(A19="",E19="",F19=""),0,ROUND(MOD(F19-E19,1)*1440,0)) | O19: =MIN(MAX(N19-360,0),30)+MIN(MAX(N19-570,0),15) | P19: =IF(N19=0,"",A19+F19+IF(F19<E19,1,0)) | Q19: =IF(OR(U19="",N(J19)=0),0,INDEX(Abw_Urlaub,U19)) | R19: =IF(OR(U19="",N(J19)=0),0,INDEX(Abw_Krank,U19)) | S19: =IF(AND(A19<>"",OR(D19<>"",E19<>"",F19<>"")),A19,"") | T19: =IF(A19="",0,INDEX(SollWoche,WEEKDAY(A19,2))) | U19: =IF(D19="","",IFERROR(MATCH(D19,Abw_Namen,0),""))
A20: =IF(MONTH(DATE(Jahr,4,14))=4,DATE(Jahr,4,14),"") | B20: =IF(A20="","",CHOOSE(WEEKDAY(A20,2),"Mo","Di","Mi","Do","Fr","Sa","So")) | C20: =IF(A20="","",IFERROR(INDEX(FT_Name,MATCH(A20,FT_DatumGilt,0)),"")) | H20: =IF(N20=0,"",IF(PauseErgaenzen="ja",MAX(N(G20),O20),N(G20))) | I20: =IF(OR(J20="",S20=""),"",(N20-N(H20))/60+IF(U20="",0,INDEX(Abw_Gutschrift,U20))*J20) | J20: =IF(OR(A20="",A20<Beginn),"",IF(OR(C20<>"",IF(U20="",FALSE,INDEX(Abw_SollEntfaellt,U20)="ja")),0,T20)) | K20: =IF(J20="","",IF(S20="",IF(OR(A20>=TODAY(),OhneEintragMinus<>"ja",J20=0),"",-J20),I20-J20)) | L20: =IF(A20="","",IF(AND(E20<>"",F20=""),IF(A20<TODAY(),"Gehen fehlt",""),IF(AND(F20<>"",E20=""),"Kommen fehlt",IF(AND(D20<>"",U20=""),"Abwesenheit unbekannt",IF(N20-N(H20)>600,"über 10 Std. (§ 3 ArbZG)",IF(AND(N20>0,N(G20)<O20),IF(PauseErgaenzen="ja","Pause ergänzt (§ 4 ArbZG)","Pause zu kurz (§ 4 ArbZG)"),IF(AND(E20<>"",N(P19)>0,A20+E20-N(P19)<11/24-1/2880),"Ruhezeit unter 11 Std. (§ 5 ArbZG)",IF(AND(S20="",N(J20)>0,A20<TODAY()),"kein Eintrag","")))))))) | N20: =IF(OR(A20="",E20="",F20=""),0,ROUND(MOD(F20-E20,1)*1440,0)) | O20: =MIN(MAX(N20-360,0),30)+MIN(MAX(N20-570,0),15) | P20: =IF(N20=0,"",A20+F20+IF(F20<E20,1,0)) | Q20: =IF(OR(U20="",N(J20)=0),0,INDEX(Abw_Urlaub,U20)) | R20: =IF(OR(U20="",N(J20)=0),0,INDEX(Abw_Krank,U20)) | S20: =IF(AND(A20<>"",OR(D20<>"",E20<>"",F20<>"")),A20,"") | T20: =IF(A20="",0,INDEX(SollWoche,WEEKDAY(A20,2))) | U20: =IF(D20="","",IFERROR(MATCH(D20,Abw_Namen,0),""))
A21: =IF(MONTH(DATE(Jahr,4,15))=4,DATE(Jahr,4,15),"") | B21: =IF(A21="","",CHOOSE(WEEKDAY(A21,2),"Mo","Di","Mi","Do","Fr","Sa","So")) | C21: =IF(A21="","",IFERROR(INDEX(FT_Name,MATCH(A21,FT_DatumGilt,0)),"")) | H21: =IF(N21=0,"",IF(PauseErgaenzen="ja",MAX(N(G21),O21),N(G21))) | I21: =IF(OR(J21="",S21=""),"",(N21-N(H21))/60+IF(U21="",0,INDEX(Abw_Gutschrift,U21))*J21) | J21: =IF(OR(A21="",A21<Beginn),"",IF(OR(C21<>"",IF(U21="",FALSE,INDEX(Abw_SollEntfaellt,U21)="ja")),0,T21)) | K21: =IF(J21="","",IF(S21="",IF(OR(A21>=TODAY(),OhneEintragMinus<>"ja",J21=0),"",-J21),I21-J21)) | L21: =IF(A21="","",IF(AND(E21<>"",F21=""),IF(A21<TODAY(),"Gehen fehlt",""),IF(AND(F21<>"",E21=""),"Kommen fehlt",IF(AND(D21<>"",U21=""),"Abwesenheit unbekannt",IF(N21-N(H21)>600,"über 10 Std. (§ 3 ArbZG)",IF(AND(N21>0,N(G21)<O21),IF(PauseErgaenzen="ja","Pause ergänzt (§ 4 ArbZG)","Pause zu kurz (§ 4 ArbZG)"),IF(AND(E21<>"",N(P20)>0,A21+E21-N(P20)<11/24-1/2880),"Ruhezeit unter 11 Std. (§ 5 ArbZG)",IF(AND(S21="",N(J21)>0,A21<TODAY()),"kein Eintrag","")))))))) | N21: =IF(OR(A21="",E21="",F21=""),0,ROUND(MOD(F21-E21,1)*1440,0)) | O21: =MIN(MAX(N21-360,0),30)+MIN(MAX(N21-570,0),15) | P21: =IF(N21=0,"",A21+F21+IF(F21<E21,1,0)) | Q21: =IF(OR(U21="",N(J21)=0),0,INDEX(Abw_Urlaub,U21)) | R21: =IF(OR(U21="",N(J21)=0),0,INDEX(Abw_Krank,U21)) | S21: =IF(AND(A21<>"",OR(D21<>"",E21<>"",F21<>"")),A21,"") | T21: =IF(A21="",0,INDEX(SollWoche,WEEKDAY(A21,2))) | U21: =IF(D21="","",IFERROR(MATCH(D21,Abw_Namen,0),""))
A22: =IF(MONTH(DATE(Jahr,4,16))=4,DATE(Jahr,4,16),"") | B22: =IF(A22="","",CHOOSE(WEEKDAY(A22,2),"Mo","Di","Mi","Do","Fr","Sa","So")) | C22: =IF(A22="","",IFERROR(INDEX(FT_Name,MATCH(A22,FT_DatumGilt,0)),"")) | H22: =IF(N22=0,"",IF(PauseErgaenzen="ja",MAX(N(G22),O22),N(G22))) | I22: =IF(OR(J22="",S22=""),"",(N22-N(H22))/60+IF(U22="",0,INDEX(Abw_Gutschrift,U22))*J22) | J22: =IF(OR(A22="",A22<Beginn),"",IF(OR(C22<>"",IF(U22="",FALSE,INDEX(Abw_SollEntfaellt,U22)="ja")),0,T22)) | K22: =IF(J22="","",IF(S22="",IF(OR(A22>=TODAY(),OhneEintragMinus<>"ja",J22=0),"",-J22),I22-J22)) | L22: =IF(A22="","",IF(AND(E22<>"",F22=""),IF(A22<TODAY(),"Gehen fehlt",""),IF(AND(F22<>"",E22=""),"Kommen fehlt",IF(AND(D22<>"",U22=""),"Abwesenheit unbekannt",IF(N22-N(H22)>600,"über 10 Std. (§ 3 ArbZG)",IF(AND(N22>0,N(G22)<O22),IF(PauseErgaenzen="ja","Pause ergänzt (§ 4 ArbZG)","Pause zu kurz (§ 4 ArbZG)"),IF(AND(E22<>"",N(P21)>0,A22+E22-N(P21)<11/24-1/2880),"Ruhezeit unter 11 Std. (§ 5 ArbZG)",IF(AND(S22="",N(J22)>0,A22<TODAY()),"kein Eintrag","")))))))) | N22: =IF(OR(A22="",E22="",F22=""),0,ROUND(MOD(F22-E22,1)*1440,0)) | O22: =MIN(MAX(N22-360,0),30)+MIN(MAX(N22-570,0),15) | P22: =IF(N22=0,"",A22+F22+IF(F22<E22,1,0)) | Q22: =IF(OR(U22="",N(J22)=0),0,INDEX(Abw_Urlaub,U22)) | R22: =IF(OR(U22="",N(J22)=0),0,INDEX(Abw_Krank,U22)) | S22: =IF(AND(A22<>"",OR(D22<>"",E22<>"",F22<>"")),A22,"") | T22: =IF(A22="",0,INDEX(SollWoche,WEEKDAY(A22,2))) | U22: =IF(D22="","",IFERROR(MATCH(D22,Abw_Namen,0),""))
A23: =IF(MONTH(DATE(Jahr,4,17))=4,DATE(Jahr,4,17),"") | B23: =IF(A23="","",CHOOSE(WEEKDAY(A23,2),"Mo","Di","Mi","Do","Fr","Sa","So")) | C23: =IF(A23="","",IFERROR(INDEX(FT_Name,MATCH(A23,FT_DatumGilt,0)),"")) | H23: =IF(N23=0,"",IF(PauseErgaenzen="ja",MAX(N(G23),O23),N(G23))) | I23: =IF(OR(J23="",S23=""),"",(N23-N(H23))/60+IF(U23="",0,INDEX(Abw_Gutschrift,U23))*J23) | J23: =IF(OR(A23="",A23<Beginn),"",IF(OR(C23<>"",IF(U23="",FALSE,INDEX(Abw_SollEntfaellt,U23)="ja")),0,T23)) | K23: =IF(J23="","",IF(S23="",IF(OR(A23>=TODAY(),OhneEintragMinus<>"ja",J23=0),"",-J23),I23-J23)) | L23: =IF(A23="","",IF(AND(E23<>"",F23=""),IF(A23<TODAY(),"Gehen fehlt",""),IF(AND(F23<>"",E23=""),"Kommen fehlt",IF(AND(D23<>"",U23=""),"Abwesenheit unbekannt",IF(N23-N(H23)>600,"über 10 Std. (§ 3 ArbZG)",IF(AND(N23>0,N(G23)<O23),IF(PauseErgaenzen="ja","Pause ergänzt (§ 4 ArbZG)","Pause zu kurz (§ 4 ArbZG)"),IF(AND(E23<>"",N(P22)>0,A23+E23-N(P22)<11/24-1/2880),"Ruhezeit unter 11 Std. (§ 5 ArbZG)",IF(AND(S23="",N(J23)>0,A23<TODAY()),"kein Eintrag","")))))))) | N23: =IF(OR(A23="",E23="",F23=""),0,ROUND(MOD(F23-E23,1)*1440,0)) | O23: =MIN(MAX(N23-360,0),30)+MIN(MAX(N23-570,0),15) | P23: =IF(N23=0,"",A23+F23+IF(F23<E23,1,0)) | Q23: =IF(OR(U23="",N(J23)=0),0,INDEX(Abw_Urlaub,U23)) | R23: =IF(OR(U23="",N(J23)=0),0,INDEX(Abw_Krank,U23)) | S23: =IF(AND(A23<>"",OR(D23<>"",E23<>"",F23<>"")),A23,"") | T23: =IF(A23="",0,INDEX(SollWoche,WEEKDAY(A23,2))) | U23: =IF(D23="","",IFERROR(MATCH(D23,Abw_Namen,0),""))
A24: =IF(MONTH(DATE(Jahr,4,18))=4,DATE(Jahr,4,18),"") | B24: =IF(A24="","",CHOOSE(WEEKDAY(A24,2),"Mo","Di","Mi","Do","Fr","Sa","So")) | C24: =IF(A24="","",IFERROR(INDEX(FT_Name,MATCH(A24,FT_DatumGilt,0)),"")) | H24: =IF(N24=0,"",IF(PauseErgaenzen="ja",MAX(N(G24),O24),N(G24))) | I24: =IF(OR(J24="",S24=""),"",(N24-N(H24))/60+IF(U24="",0,INDEX(Abw_Gutschrift,U24))*J24) | J24: =IF(OR(A24="",A24<Beginn),"",IF(OR(C24<>"",IF(U24="",FALSE,INDEX(Abw_SollEntfaellt,U24)="ja")),0,T24)) | K24: =IF(J24="","",IF(S24="",IF(OR(A24>=TODAY(),OhneEintragMinus<>"ja",J24=0),"",-J24),I24-J24)) | L24: =IF(A24="","",IF(AND(E24<>"",F24=""),IF(A24<TODAY(),"Gehen fehlt",""),IF(AND(F24<>"",E24=""),"Kommen fehlt",IF(AND(D24<>"",U24=""),"Abwesenheit unbekannt",IF(N24-N(H24)>600,"über 10 Std. (§ 3 ArbZG)",IF(AND(N24>0,N(G24)<O24),IF(PauseErgaenzen="ja","Pause ergänzt (§ 4 ArbZG)","Pause zu kurz (§ 4 ArbZG)"),IF(AND(E24<>"",N(P23)>0,A24+E24-N(P23)<11/24-1/2880),"Ruhezeit unter 11 Std. (§ 5 ArbZG)",IF(AND(S24="",N(J24)>0,A24<TODAY()),"kein Eintrag","")))))))) | N24: =IF(OR(A24="",E24="",F24=""),0,ROUND(MOD(F24-E24,1)*1440,0)) | O24: =MIN(MAX(N24-360,0),30)+MIN(MAX(N24-570,0),15) | P24: =IF(N24=0,"",A24+F24+IF(F24<E24,1,0)) | Q24: =IF(OR(U24="",N(J24)=0),0,INDEX(Abw_Urlaub,U24)) | R24: =IF(OR(U24="",N(J24)=0),0,INDEX(Abw_Krank,U24)) | S24: =IF(AND(A24<>"",OR(D24<>"",E24<>"",F24<>"")),A24,"") | T24: =IF(A24="",0,INDEX(SollWoche,WEEKDAY(A24,2))) | U24: =IF(D24="","",IFERROR(MATCH(D24,Abw_Namen,0),""))
A25: =IF(MONTH(DATE(Jahr,4,19))=4,DATE(Jahr,4,19),"") | B25: =IF(A25="","",CHOOSE(WEEKDAY(A25,2),"Mo","Di","Mi","Do","Fr","Sa","So")) | C25: =IF(A25="","",IFERROR(INDEX(FT_Name,MATCH(A25,FT_DatumGilt,0)),"")) | H25: =IF(N25=0,"",IF(PauseErgaenzen="ja",MAX(N(G25),O25),N(G25))) | I25: =IF(OR(J25="",S25=""),"",(N25-N(H25))/60+IF(U25="",0,INDEX(Abw_Gutschrift,U25))*J25) | J25: =IF(OR(A25="",A25<Beginn),"",IF(OR(C25<>"",IF(U25="",FALSE,INDEX(Abw_SollEntfaellt,U25)="ja")),0,T25)) | K25: =IF(J25="","",IF(S25="",IF(OR(A25>=TODAY(),OhneEintragMinus<>"ja",J25=0),"",-J25),I25-J25)) | L25: =IF(A25="","",IF(AND(E25<>"",F25=""),IF(A25<TODAY(),"Gehen fehlt",""),IF(AND(F25<>"",E25=""),"Kommen fehlt",IF(AND(D25<>"",U25=""),"Abwesenheit unbekannt",IF(N25-N(H25)>600,"über 10 Std. (§ 3 ArbZG)",IF(AND(N25>0,N(G25)<O25),IF(PauseErgaenzen="ja","Pause ergänzt (§ 4 ArbZG)","Pause zu kurz (§ 4 ArbZG)"),IF(AND(E25<>"",N(P24)>0,A25+E25-N(P24)<11/24-1/2880),"Ruhezeit unter 11 Std. (§ 5 ArbZG)",IF(AND(S25="",N(J25)>0,A25<TODAY()),"kein Eintrag","")))))))) | N25: =IF(OR(A25="",E25="",F25=""),0,ROUND(MOD(F25-E25,1)*1440,0)) | O25: =MIN(MAX(N25-360,0),30)+MIN(MAX(N25-570,0),15) | P25: =IF(N25=0,"",A25+F25+IF(F25<E25,1,0)) | Q25: =IF(OR(U25="",N(J25)=0),0,INDEX(Abw_Urlaub,U25)) | R25: =IF(OR(U25="",N(J25)=0),0,INDEX(Abw_Krank,U25)) | S25: =IF(AND(A25<>"",OR(D25<>"",E25<>"",F25<>"")),A25,"") | T25: =IF(A25="",0,INDEX(SollWoche,WEEKDAY(A25,2))) | U25: =IF(D25="","",IFERROR(MATCH(D25,Abw_Namen,0),""))
A26: =IF(MONTH(DATE(Jahr,4,20))=4,DATE(Jahr,4,20),"") | B26: =IF(A26="","",CHOOSE(WEEKDAY(A26,2),"Mo","Di","Mi","Do","Fr","Sa","So")) | C26: =IF(A26="","",IFERROR(INDEX(FT_Name,MATCH(A26,FT_DatumGilt,0)),"")) | H26: =IF(N26=0,"",IF(PauseErgaenzen="ja",MAX(N(G26),O26),N(G26))) | I26: =IF(OR(J26="",S26=""),"",(N26-N(H26))/60+IF(U26="",0,INDEX(Abw_Gutschrift,U26))*J26) | J26: =IF(OR(A26="",A26<Beginn),"",IF(OR(C26<>"",IF(U26="",FALSE,INDEX(Abw_SollEntfaellt,U26)="ja")),0,T26)) | K26: =IF(J26="","",IF(S26="",IF(OR(A26>=TODAY(),OhneEintragMinus<>"ja",J26=0),"",-J26),I26-J26)) | L26: =IF(A26="","",IF(AND(E26<>"",F26=""),IF(A26<TODAY(),"Gehen fehlt",""),IF(AND(F26<>"",E26=""),"Kommen fehlt",IF(AND(D26<>"",U26=""),"Abwesenheit unbekannt",IF(N26-N(H26)>600,"über 10 Std. (§ 3 ArbZG)",IF(AND(N26>0,N(G26)<O26),IF(PauseErgaenzen="ja","Pause ergänzt (§ 4 ArbZG)","Pause zu kurz (§ 4 ArbZG)"),IF(AND(E26<>"",N(P25)>0,A26+E26-N(P25)<11/24-1/2880),"Ruhezeit unter 11 Std. (§ 5 ArbZG)",IF(AND(S26="",N(J26)>0,A26<TODAY()),"kein Eintrag","")))))))) | N26: =IF(OR(A26="",E26="",F26=""),0,ROUND(MOD(F26-E26,1)*1440,0)) | O26: =MIN(MAX(N26-360,0),30)+MIN(MAX(N26-570,0),15) | P26: =IF(N26=0,"",A26+F26+IF(F26<E26,1,0)) | Q26: =IF(OR(U26="",N(J26)=0),0,INDEX(Abw_Urlaub,U26)) | R26: =IF(OR(U26="",N(J26)=0),0,INDEX(Abw_Krank,U26)) | S26: =IF(AND(A26<>"",OR(D26<>"",E26<>"",F26<>"")),A26,"") | T26: =IF(A26="",0,INDEX(SollWoche,WEEKDAY(A26,2))) | U26: =IF(D26="","",IFERROR(MATCH(D26,Abw_Namen,0),""))
A27: =IF(MONTH(DATE(Jahr,4,21))=4,DATE(Jahr,4,21),"") | B27: =IF(A27="","",CHOOSE(WEEKDAY(A27,2),"Mo","Di","Mi","Do","Fr","Sa","So")) | C27: =IF(A27="","",IFERROR(INDEX(FT_Name,MATCH(A27,FT_DatumGilt,0)),"")) | H27: =IF(N27=0,"",IF(PauseErgaenzen="ja",MAX(N(G27),O27),N(G27))) | I27: =IF(OR(J27="",S27=""),"",(N27-N(H27))/60+IF(U27="",0,INDEX(Abw_Gutschrift,U27))*J27) | J27: =IF(OR(A27="",A27<Beginn),"",IF(OR(C27<>"",IF(U27="",FALSE,INDEX(Abw_SollEntfaellt,U27)="ja")),0,T27)) | K27: =IF(J27="","",IF(S27="",IF(OR(A27>=TODAY(),OhneEintragMinus<>"ja",J27=0),"",-J27),I27-J27)) | L27: =IF(A27="","",IF(AND(E27<>"",F27=""),IF(A27<TODAY(),"Gehen fehlt",""),IF(AND(F27<>"",E27=""),"Kommen fehlt",IF(AND(D27<>"",U27=""),"Abwesenheit unbekannt",IF(N27-N(H27)>600,"über 10 Std. (§ 3 ArbZG)",IF(AND(N27>0,N(G27)<O27),IF(PauseErgaenzen="ja","Pause ergänzt (§ 4 ArbZG)","Pause zu kurz (§ 4 ArbZG)"),IF(AND(E27<>"",N(P26)>0,A27+E27-N(P26)<11/24-1/2880),"Ruhezeit unter 11 Std. (§ 5 ArbZG)",IF(AND(S27="",N(J27)>0,A27<TODAY()),"kein Eintrag","")))))))) | N27: =IF(OR(A27="",E27="",F27=""),0,ROUND(MOD(F27-E27,1)*1440,0)) | O27: =MIN(MAX(N27-360,0),30)+MIN(MAX(N27-570,0),15) | P27: =IF(N27=0,"",A27+F27+IF(F27<E27,1,0)) | Q27: =IF(OR(U27="",N(J27)=0),0,INDEX(Abw_Urlaub,U27)) | R27: =IF(OR(U27="",N(J27)=0),0,INDEX(Abw_Krank,U27)) | S27: =IF(AND(A27<>"",OR(D27<>"",E27<>"",F27<>"")),A27,"") | T27: =IF(A27="",0,INDEX(SollWoche,WEEKDAY(A27,2))) | U27: =IF(D27="","",IFERROR(MATCH(D27,Abw_Namen,0),""))
A28: =IF(MONTH(DATE(Jahr,4,22))=4,DATE(Jahr,4,22),"") | B28: =IF(A28="","",CHOOSE(WEEKDAY(A28,2),"Mo","Di","Mi","Do","Fr","Sa","So")) | C28: =IF(A28="","",IFERROR(INDEX(FT_Name,MATCH(A28,FT_DatumGilt,0)),"")) | H28: =IF(N28=0,"",IF(PauseErgaenzen="ja",MAX(N(G28),O28),N(G28))) | I28: =IF(OR(J28="",S28=""),"",(N28-N(H28))/60+IF(U28="",0,INDEX(Abw_Gutschrift,U28))*J28) | J28: =IF(OR(A28="",A28<Beginn),"",IF(OR(C28<>"",IF(U28="",FALSE,INDEX(Abw_SollEntfaellt,U28)="ja")),0,T28)) | K28: =IF(J28="","",IF(S28="",IF(OR(A28>=TODAY(),OhneEintragMinus<>"ja",J28=0),"",-J28),I28-J28)) | L28: =IF(A28="","",IF(AND(E28<>"",F28=""),IF(A28<TODAY(),"Gehen fehlt",""),IF(AND(F28<>"",E28=""),"Kommen fehlt",IF(AND(D28<>"",U28=""),"Abwesenheit unbekannt",IF(N28-N(H28)>600,"über 10 Std. (§ 3 ArbZG)",IF(AND(N28>0,N(G28)<O28),IF(PauseErgaenzen="ja","Pause ergänzt (§ 4 ArbZG)","Pause zu kurz (§ 4 ArbZG)"),IF(AND(E28<>"",N(P27)>0,A28+E28-N(P27)<11/24-1/2880),"Ruhezeit unter 11 Std. (§ 5 ArbZG)",IF(AND(S28="",N(J28)>0,A28<TODAY()),"kein Eintrag","")))))))) | N28: =IF(OR(A28="",E28="",F28=""),0,ROUND(MOD(F28-E28,1)*1440,0)) | O28: =MIN(MAX(N28-360,0),30)+MIN(MAX(N28-570,0),15) | P28: =IF(N28=0,"",A28+F28+IF(F28<E28,1,0)) | Q28: =IF(OR(U28="",N(J28)=0),0,INDEX(Abw_Urlaub,U28)) | R28: =IF(OR(U28="",N(J28)=0),0,INDEX(Abw_Krank,U28)) | S28: =IF(AND(A28<>"",OR(D28<>"",E28<>"",F28<>"")),A28,"") | T28: =IF(A28="",0,INDEX(SollWoche,WEEKDAY(A28,2))) | U28: =IF(D28="","",IFERROR(MATCH(D28,Abw_Namen,0),""))
A29: =IF(MONTH(DATE(Jahr,4,23))=4,DATE(Jahr,4,23),"") | B29: =IF(A29="","",CHOOSE(WEEKDAY(A29,2),"Mo","Di","Mi","Do","Fr","Sa","So")) | C29: =IF(A29="","",IFERROR(INDEX(FT_Name,MATCH(A29,FT_DatumGilt,0)),"")) | H29: =IF(N29=0,"",IF(PauseErgaenzen="ja",MAX(N(G29),O29),N(G29))) | I29: =IF(OR(J29="",S29=""),"",(N29-N(H29))/60+IF(U29="",0,INDEX(Abw_Gutschrift,U29))*J29) | J29: =IF(OR(A29="",A29<Beginn),"",IF(OR(C29<>"",IF(U29="",FALSE,INDEX(Abw_SollEntfaellt,U29)="ja")),0,T29)) | K29: =IF(J29="","",IF(S29="",IF(OR(A29>=TODAY(),OhneEintragMinus<>"ja",J29=0),"",-J29),I29-J29)) | L29: =IF(A29="","",IF(AND(E29<>"",F29=""),IF(A29<TODAY(),"Gehen fehlt",""),IF(AND(F29<>"",E29=""),"Kommen fehlt",IF(AND(D29<>"",U29=""),"Abwesenheit unbekannt",IF(N29-N(H29)>600,"über 10 Std. (§ 3 ArbZG)",IF(AND(N29>0,N(G29)<O29),IF(PauseErgaenzen="ja","Pause ergänzt (§ 4 ArbZG)","Pause zu kurz (§ 4 ArbZG)"),IF(AND(E29<>"",N(P28)>0,A29+E29-N(P28)<11/24-1/2880),"Ruhezeit unter 11 Std. (§ 5 ArbZG)",IF(AND(S29="",N(J29)>0,A29<TODAY()),"kein Eintrag","")))))))) | N29: =IF(OR(A29="",E29="",F29=""),0,ROUND(MOD(F29-E29,1)*1440,0)) | O29: =MIN(MAX(N29-360,0),30)+MIN(MAX(N29-570,0),15) | P29: =IF(N29=0,"",A29+F29+IF(F29<E29,1,0)) | Q29: =IF(OR(U29="",N(J29)=0),0,INDEX(Abw_Urlaub,U29)) | R29: =IF(OR(U29="",N(J29)=0),0,INDEX(Abw_Krank,U29)) | S29: =IF(AND(A29<>"",OR(D29<>"",E29<>"",F29<>"")),A29,"") | T29: =IF(A29="",0,INDEX(SollWoche,WEEKDAY(A29,2))) | U29: =IF(D29="","",IFERROR(MATCH(D29,Abw_Namen,0),""))
A30: =IF(MONTH(DATE(Jahr,4,24))=4,DATE(Jahr,4,24),"") | B30: =IF(A30="","",CHOOSE(WEEKDAY(A30,2),"Mo","Di","Mi","Do","Fr","Sa","So")) | C30: =IF(A30="","",IFERROR(INDEX(FT_Name,MATCH(A30,FT_DatumGilt,0)),"")) | H30: =IF(N30=0,"",IF(PauseErgaenzen="ja",MAX(N(G30),O30),N(G30))) | I30: =IF(OR(J30="",S30=""),"",(N30-N(H30))/60+IF(U30="",0,INDEX(Abw_Gutschrift,U30))*J30) | J30: =IF(OR(A30="",A30<Beginn),"",IF(OR(C30<>"",IF(U30="",FALSE,INDEX(Abw_SollEntfaellt,U30)="ja")),0,T30)) | K30: =IF(J30="","",IF(S30="",IF(OR(A30>=TODAY(),OhneEintragMinus<>"ja",J30=0),"",-J30),I30-J30)) | L30: =IF(A30="","",IF(AND(E30<>"",F30=""),IF(A30<TODAY(),"Gehen fehlt",""),IF(AND(F30<>"",E30=""),"Kommen fehlt",IF(AND(D30<>"",U30=""),"Abwesenheit unbekannt",IF(N30-N(H30)>600,"über 10 Std. (§ 3 ArbZG)",IF(AND(N30>0,N(G30)<O30),IF(PauseErgaenzen="ja","Pause ergänzt (§ 4 ArbZG)","Pause zu kurz (§ 4 ArbZG)"),IF(AND(E30<>"",N(P29)>0,A30+E30-N(P29)<11/24-1/2880),"Ruhezeit unter 11 Std. (§ 5 ArbZG)",IF(AND(S30="",N(J30)>0,A30<TODAY()),"kein Eintrag","")))))))) | N30: =IF(OR(A30="",E30="",F30=""),0,ROUND(MOD(F30-E30,1)*1440,0)) | O30: =MIN(MAX(N30-360,0),30)+MIN(MAX(N30-570,0),15) | P30: =IF(N30=0,"",A30+F30+IF(F30<E30,1,0)) | Q30: =IF(OR(U30="",N(J30)=0),0,INDEX(Abw_Urlaub,U30)) | R30: =IF(OR(U30="",N(J30)=0),0,INDEX(Abw_Krank,U30)) | S30: =IF(AND(A30<>"",OR(D30<>"",E30<>"",F30<>"")),A30,"") | T30: =IF(A30="",0,INDEX(SollWoche,WEEKDAY(A30,2))) | U30: =IF(D30="","",IFERROR(MATCH(D30,Abw_Namen,0),""))
A31: =IF(MONTH(DATE(Jahr,4,25))=4,DATE(Jahr,4,25),"") | B31: =IF(A31="","",CHOOSE(WEEKDAY(A31,2),"Mo","Di","Mi","Do","Fr","Sa","So")) | C31: =IF(A31="","",IFERROR(INDEX(FT_Name,MATCH(A31,FT_DatumGilt,0)),"")) | H31: =IF(N31=0,"",IF(PauseErgaenzen="ja",MAX(N(G31),O31),N(G31))) | I31: =IF(OR(J31="",S31=""),"",(N31-N(H31))/60+IF(U31="",0,INDEX(Abw_Gutschrift,U31))*J31) | J31: =IF(OR(A31="",A31<Beginn),"",IF(OR(C31<>"",IF(U31="",FALSE,INDEX(Abw_SollEntfaellt,U31)="ja")),0,T31)) | K31: =IF(J31="","",IF(S31="",IF(OR(A31>=TODAY(),OhneEintragMinus<>"ja",J31=0),"",-J31),I31-J31)) | L31: =IF(A31="","",IF(AND(E31<>"",F31=""),IF(A31<TODAY(),"Gehen fehlt",""),IF(AND(F31<>"",E31=""),"Kommen fehlt",IF(AND(D31<>"",U31=""),"Abwesenheit unbekannt",IF(N31-N(H31)>600,"über 10 Std. (§ 3 ArbZG)",IF(AND(N31>0,N(G31)<O31),IF(PauseErgaenzen="ja","Pause ergänzt (§ 4 ArbZG)","Pause zu kurz (§ 4 ArbZG)"),IF(AND(E31<>"",N(P30)>0,A31+E31-N(P30)<11/24-1/2880),"Ruhezeit unter 11 Std. (§ 5 ArbZG)",IF(AND(S31="",N(J31)>0,A31<TODAY()),"kein Eintrag","")))))))) | N31: =IF(OR(A31="",E31="",F31=""),0,ROUND(MOD(F31-E31,1)*1440,0)) | O31: =MIN(MAX(N31-360,0),30)+MIN(MAX(N31-570,0),15) | P31: =IF(N31=0,"",A31+F31+IF(F31<E31,1,0)) | Q31: =IF(OR(U31="",N(J31)=0),0,INDEX(Abw_Urlaub,U31)) | R31: =IF(OR(U31="",N(J31)=0),0,INDEX(Abw_Krank,U31)) | S31: =IF(AND(A31<>"",OR(D31<>"",E31<>"",F31<>"")),A31,"") | T31: =IF(A31="",0,INDEX(SollWoche,WEEKDAY(A31,2))) | U31: =IF(D31="","",IFERROR(MATCH(D31,Abw_Namen,0),""))
A32: =IF(MONTH(DATE(Jahr,4,26))=4,DATE(Jahr,4,26),"") | B32: =IF(A32="","",CHOOSE(WEEKDAY(A32,2),"Mo","Di","Mi","Do","Fr","Sa","So")) | C32: =IF(A32="","",IFERROR(INDEX(FT_Name,MATCH(A32,FT_DatumGilt,0)),"")) | H32: =IF(N32=0,"",IF(PauseErgaenzen="ja",MAX(N(G32),O32),N(G32))) | I32: =IF(OR(J32="",S32=""),"",(N32-N(H32))/60+IF(U32="",0,INDEX(Abw_Gutschrift,U32))*J32) | J32: =IF(OR(A32="",A32<Beginn),"",IF(OR(C32<>"",IF(U32="",FALSE,INDEX(Abw_SollEntfaellt,U32)="ja")),0,T32)) | K32: =IF(J32="","",IF(S32="",IF(OR(A32>=TODAY(),OhneEintragMinus<>"ja",J32=0),"",-J32),I32-J32)) | L32: =IF(A32="","",IF(AND(E32<>"",F32=""),IF(A32<TODAY(),"Gehen fehlt",""),IF(AND(F32<>"",E32=""),"Kommen fehlt",IF(AND(D32<>"",U32=""),"Abwesenheit unbekannt",IF(N32-N(H32)>600,"über 10 Std. (§ 3 ArbZG)",IF(AND(N32>0,N(G32)<O32),IF(PauseErgaenzen="ja","Pause ergänzt (§ 4 ArbZG)","Pause zu kurz (§ 4 ArbZG)"),IF(AND(E32<>"",N(P31)>0,A32+E32-N(P31)<11/24-1/2880),"Ruhezeit unter 11 Std. (§ 5 ArbZG)",IF(AND(S32="",N(J32)>0,A32<TODAY()),"kein Eintrag","")))))))) | N32: =IF(OR(A32="",E32="",F32=""),0,ROUND(MOD(F32-E32,1)*1440,0)) | O32: =MIN(MAX(N32-360,0),30)+MIN(MAX(N32-570,0),15) | P32: =IF(N32=0,"",A32+F32+IF(F32<E32,1,0)) | Q32: =IF(OR(U32="",N(J32)=0),0,INDEX(Abw_Urlaub,U32)) | R32: =IF(OR(U32="",N(J32)=0),0,INDEX(Abw_Krank,U32)) | S32: =IF(AND(A32<>"",OR(D32<>"",E32<>"",F32<>"")),A32,"") | T32: =IF(A32="",0,INDEX(SollWoche,WEEKDAY(A32,2))) | U32: =IF(D32="","",IFERROR(MATCH(D32,Abw_Namen,0),""))
A33: =IF(MONTH(DATE(Jahr,4,27))=4,DATE(Jahr,4,27),"") | B33: =IF(A33="","",CHOOSE(WEEKDAY(A33,2),"Mo","Di","Mi","Do","Fr","Sa","So")) | C33: =IF(A33="","",IFERROR(INDEX(FT_Name,MATCH(A33,FT_DatumGilt,0)),"")) | H33: =IF(N33=0,"",IF(PauseErgaenzen="ja",MAX(N(G33),O33),N(G33))) | I33: =IF(OR(J33="",S33=""),"",(N33-N(H33))/60+IF(U33="",0,INDEX(Abw_Gutschrift,U33))*J33) | J33: =IF(OR(A33="",A33<Beginn),"",IF(OR(C33<>"",IF(U33="",FALSE,INDEX(Abw_SollEntfaellt,U33)="ja")),0,T33)) | K33: =IF(J33="","",IF(S33="",IF(OR(A33>=TODAY(),OhneEintragMinus<>"ja",J33=0),"",-J33),I33-J33)) | L33: =IF(A33="","",IF(AND(E33<>"",F33=""),IF(A33<TODAY(),"Gehen fehlt",""),IF(AND(F33<>"",E33=""),"Kommen fehlt",IF(AND(D33<>"",U33=""),"Abwesenheit unbekannt",IF(N33-N(H33)>600,"über 10 Std. (§ 3 ArbZG)",IF(AND(N33>0,N(G33)<O33),IF(PauseErgaenzen="ja","Pause ergänzt (§ 4 ArbZG)","Pause zu kurz (§ 4 ArbZG)"),IF(AND(E33<>"",N(P32)>0,A33+E33-N(P32)<11/24-1/2880),"Ruhezeit unter 11 Std. (§ 5 ArbZG)",IF(AND(S33="",N(J33)>0,A33<TODAY()),"kein Eintrag","")))))))) | N33: =IF(OR(A33="",E33="",F33=""),0,ROUND(MOD(F33-E33,1)*1440,0)) | O33: =MIN(MAX(N33-360,0),30)+MIN(MAX(N33-570,0),15) | P33: =IF(N33=0,"",A33+F33+IF(F33<E33,1,0)) | Q33: =IF(OR(U33="",N(J33)=0),0,INDEX(Abw_Urlaub,U33)) | R33: =IF(OR(U33="",N(J33)=0),0,INDEX(Abw_Krank,U33)) | S33: =IF(AND(A33<>"",OR(D33<>"",E33<>"",F33<>"")),A33,"") | T33: =IF(A33="",0,INDEX(SollWoche,WEEKDAY(A33,2))) | U33: =IF(D33="","",IFERROR(MATCH(D33,Abw_Namen,0),""))
A34: =IF(MONTH(DATE(Jahr,4,28))=4,DATE(Jahr,4,28),"") | B34: =IF(A34="","",CHOOSE(WEEKDAY(A34,2),"Mo","Di","Mi","Do","Fr","Sa","So")) | C34: =IF(A34="","",IFERROR(INDEX(FT_Name,MATCH(A34,FT_DatumGilt,0)),"")) | H34: =IF(N34=0,"",IF(PauseErgaenzen="ja",MAX(N(G34),O34),N(G34))) | I34: =IF(OR(J34="",S34=""),"",(N34-N(H34))/60+IF(U34="",0,INDEX(Abw_Gutschrift,U34))*J34) | J34: =IF(OR(A34="",A34<Beginn),"",IF(OR(C34<>"",IF(U34="",FALSE,INDEX(Abw_SollEntfaellt,U34)="ja")),0,T34)) | K34: =IF(J34="","",IF(S34="",IF(OR(A34>=TODAY(),OhneEintragMinus<>"ja",J34=0),"",-J34),I34-J34)) | L34: =IF(A34="","",IF(AND(E34<>"",F34=""),IF(A34<TODAY(),"Gehen fehlt",""),IF(AND(F34<>"",E34=""),"Kommen fehlt",IF(AND(D34<>"",U34=""),"Abwesenheit unbekannt",IF(N34-N(H34)>600,"über 10 Std. (§ 3 ArbZG)",IF(AND(N34>0,N(G34)<O34),IF(PauseErgaenzen="ja","Pause ergänzt (§ 4 ArbZG)","Pause zu kurz (§ 4 ArbZG)"),IF(AND(E34<>"",N(P33)>0,A34+E34-N(P33)<11/24-1/2880),"Ruhezeit unter 11 Std. (§ 5 ArbZG)",IF(AND(S34="",N(J34)>0,A34<TODAY()),"kein Eintrag","")))))))) | N34: =IF(OR(A34="",E34="",F34=""),0,ROUND(MOD(F34-E34,1)*1440,0)) | O34: =MIN(MAX(N34-360,0),30)+MIN(MAX(N34-570,0),15) | P34: =IF(N34=0,"",A34+F34+IF(F34<E34,1,0)) | Q34: =IF(OR(U34="",N(J34)=0),0,INDEX(Abw_Urlaub,U34)) | R34: =IF(OR(U34="",N(J34)=0),0,INDEX(Abw_Krank,U34)) | S34: =IF(AND(A34<>"",OR(D34<>"",E34<>"",F34<>"")),A34,"") | T34: =IF(A34="",0,INDEX(SollWoche,WEEKDAY(A34,2))) | U34: =IF(D34="","",IFERROR(MATCH(D34,Abw_Namen,0),""))
A35: =IF(MONTH(DATE(Jahr,4,29))=4,DATE(Jahr,4,29),"") | B35: =IF(A35="","",CHOOSE(WEEKDAY(A35,2),"Mo","Di","Mi","Do","Fr","Sa","So")) | C35: =IF(A35="","",IFERROR(INDEX(FT_Name,MATCH(A35,FT_DatumGilt,0)),"")) | H35: =IF(N35=0,"",IF(PauseErgaenzen="ja",MAX(N(G35),O35),N(G35))) | I35: =IF(OR(J35="",S35=""),"",(N35-N(H35))/60+IF(U35="",0,INDEX(Abw_Gutschrift,U35))*J35) | J35: =IF(OR(A35="",A35<Beginn),"",IF(OR(C35<>"",IF(U35="",FALSE,INDEX(Abw_SollEntfaellt,U35)="ja")),0,T35)) | K35: =IF(J35="","",IF(S35="",IF(OR(A35>=TODAY(),OhneEintragMinus<>"ja",J35=0),"",-J35),I35-J35)) | L35: =IF(A35="","",IF(AND(E35<>"",F35=""),IF(A35<TODAY(),"Gehen fehlt",""),IF(AND(F35<>"",E35=""),"Kommen fehlt",IF(AND(D35<>"",U35=""),"Abwesenheit unbekannt",IF(N35-N(H35)>600,"über 10 Std. (§ 3 ArbZG)",IF(AND(N35>0,N(G35)<O35),IF(PauseErgaenzen="ja","Pause ergänzt (§ 4 ArbZG)","Pause zu kurz (§ 4 ArbZG)"),IF(AND(E35<>"",N(P34)>0,A35+E35-N(P34)<11/24-1/2880),"Ruhezeit unter 11 Std. (§ 5 ArbZG)",IF(AND(S35="",N(J35)>0,A35<TODAY()),"kein Eintrag","")))))))) | N35: =IF(OR(A35="",E35="",F35=""),0,ROUND(MOD(F35-E35,1)*1440,0)) | O35: =MIN(MAX(N35-360,0),30)+MIN(MAX(N35-570,0),15) | P35: =IF(N35=0,"",A35+F35+IF(F35<E35,1,0)) | Q35: =IF(OR(U35="",N(J35)=0),0,INDEX(Abw_Urlaub,U35)) | R35: =IF(OR(U35="",N(J35)=0),0,INDEX(Abw_Krank,U35)) | S35: =IF(AND(A35<>"",OR(D35<>"",E35<>"",F35<>"")),A35,"") | T35: =IF(A35="",0,INDEX(SollWoche,WEEKDAY(A35,2))) | U35: =IF(D35="","",IFERROR(MATCH(D35,Abw_Namen,0),""))
A36: =IF(MONTH(DATE(Jahr,4,30))=4,DATE(Jahr,4,30),"") | B36: =IF(A36="","",CHOOSE(WEEKDAY(A36,2),"Mo","Di","Mi","Do","Fr","Sa","So")) | C36: =IF(A36="","",IFERROR(INDEX(FT_Name,MATCH(A36,FT_DatumGilt,0)),"")) | H36: =IF(N36=0,"",IF(PauseErgaenzen="ja",MAX(N(G36),O36),N(G36))) | I36: =IF(OR(J36="",S36=""),"",(N36-N(H36))/60+IF(U36="",0,INDEX(Abw_Gutschrift,U36))*J36) | J36: =IF(OR(A36="",A36<Beginn),"",IF(OR(C36<>"",IF(U36="",FALSE,INDEX(Abw_SollEntfaellt,U36)="ja")),0,T36)) | K36: =IF(J36="","",IF(S36="",IF(OR(A36>=TODAY(),OhneEintragMinus<>"ja",J36=0),"",-J36),I36-J36)) | L36: =IF(A36="","",IF(AND(E36<>"",F36=""),IF(A36<TODAY(),"Gehen fehlt",""),IF(AND(F36<>"",E36=""),"Kommen fehlt",IF(AND(D36<>"",U36=""),"Abwesenheit unbekannt",IF(N36-N(H36)>600,"über 10 Std. (§ 3 ArbZG)",IF(AND(N36>0,N(G36)<O36),IF(PauseErgaenzen="ja","Pause ergänzt (§ 4 ArbZG)","Pause zu kurz (§ 4 ArbZG)"),IF(AND(E36<>"",N(P35)>0,A36+E36-N(P35)<11/24-1/2880),"Ruhezeit unter 11 Std. (§ 5 ArbZG)",IF(AND(S36="",N(J36)>0,A36<TODAY()),"kein Eintrag","")))))))) | N36: =IF(OR(A36="",E36="",F36=""),0,ROUND(MOD(F36-E36,1)*1440,0)) | O36: =MIN(MAX(N36-360,0),30)+MIN(MAX(N36-570,0),15) | P36: =IF(N36=0,"",A36+F36+IF(F36<E36,1,0)) | Q36: =IF(OR(U36="",N(J36)=0),0,INDEX(Abw_Urlaub,U36)) | R36: =IF(OR(U36="",N(J36)=0),0,INDEX(Abw_Krank,U36)) | S36: =IF(AND(A36<>"",OR(D36<>"",E36<>"",F36<>"")),A36,"") | T36: =IF(A36="",0,INDEX(SollWoche,WEEKDAY(A36,2))) | U36: =IF(D36="","",IFERROR(MATCH(D36,Abw_Namen,0),""))
A37: =IF(MONTH(DATE(Jahr,4,31))=4,DATE(Jahr,4,31),"") | B37: =IF(A37="","",CHOOSE(WEEKDAY(A37,2),"Mo","Di","Mi","Do","Fr","Sa","So")) | C37: =IF(A37="","",IFERROR(INDEX(FT_Name,MATCH(A37,FT_DatumGilt,0)),"")) | H37: =IF(N37=0,"",IF(PauseErgaenzen="ja",MAX(N(G37),O37),N(G37))) | I37: =IF(OR(J37="",S37=""),"",(N37-N(H37))/60+IF(U37="",0,INDEX(Abw_Gutschrift,U37))*J37) | J37: =IF(OR(A37="",A37<Beginn),"",IF(OR(C37<>"",IF(U37="",FALSE,INDEX(Abw_SollEntfaellt,U37)="ja")),0,T37)) | K37: =IF(J37="","",IF(S37="",IF(OR(A37>=TODAY(),OhneEintragMinus<>"ja",J37=0),"",-J37),I37-J37)) | L37: =IF(A37="","",IF(AND(E37<>"",F37=""),IF(A37<TODAY(),"Gehen fehlt",""),IF(AND(F37<>"",E37=""),"Kommen fehlt",IF(AND(D37<>"",U37=""),"Abwesenheit unbekannt",IF(N37-N(H37)>600,"über 10 Std. (§ 3 ArbZG)",IF(AND(N37>0,N(G37)<O37),IF(PauseErgaenzen="ja","Pause ergänzt (§ 4 ArbZG)","Pause zu kurz (§ 4 ArbZG)"),IF(AND(E37<>"",N(P36)>0,A37+E37-N(P36)<11/24-1/2880),"Ruhezeit unter 11 Std. (§ 5 ArbZG)",IF(AND(S37="",N(J37)>0,A37<TODAY()),"kein Eintrag","")))))))) | N37: =IF(OR(A37="",E37="",F37=""),0,ROUND(MOD(F37-E37,1)*1440,0)) | O37: =MIN(MAX(N37-360,0),30)+MIN(MAX(N37-570,0),15) | P37: =IF(N37=0,"",A37+F37+IF(F37<E37,1,0)) | Q37: =IF(OR(U37="",N(J37)=0),0,INDEX(Abw_Urlaub,U37)) | R37: =IF(OR(U37="",N(J37)=0),0,INDEX(Abw_Krank,U37)) | S37: =IF(AND(A37<>"",OR(D37<>"",E37<>"",F37<>"")),A37,"") | T37: =IF(A37="",0,INDEX(SollWoche,WEEKDAY(A37,2))) | U37: =IF(D37="","",IFERROR(MATCH(D37,Abw_Namen,0),""))
A40: Datum, Unterschrift Mitarbeiter | H40: Datum, Unterschrift Arbeitgeber

Sheet Mai
A1: ="Stundenzettel Mai "&Jahr
A2: Kostenlose Vorlage von ExcelDok · exceldok.de · hellgelb eintragen, grau rechnet selbst · Erklärung im Blatt Anleitung
A3: Mitarbeiter | D3: Zeitkonto Vormonat | E3: Urlaub (Tage) | F3: Rest-urlaub | G3: Krank (Tage) | H3: Hinweise | I3: Ist | J3: Soll | K3: Saldo Monat | L3: Zeitkonto am Monatsende
A4: =IF(Name="","(Name in den Einstellungen)",Name) | D4: ='April'!$L$4 | E4: =SUM(Q7:Q37) | F4: ='April'!$F$4-E4 | G4: =SUM(R7:R37) | H4: =COUNTIF(L7:L37,"?*") | I4: =SUM(I7:I37) | J4: =SUMPRODUCT(--(K7:K37<>""),J7:J37) | K4: =SUM(K7:K37) | L4: =D4+K4
A6: Datum | B6: Tag | C6: Feiertag | D6: Abwesenheit | E6: Kommen | F6: Gehen | G6: Pause (Min.) | H6: Pause gezählt | I6: Ist (Std.) | J6: Soll (Std.) | K6: Saldo (Std.) | L6: Hinweis | M6: Bemerkung / Projekt | N6: Brutto (Min.) | O6: Mindestpause | P6: Ende | Q6: Urlaubstage | R6: Krankheitstage | S6: Eintrag | T6: Sollbasis | U6: Abw.-Nr.
A7: =IF(MONTH(DATE(Jahr,5,1))=5,DATE(Jahr,5,1),"") | B7: =IF(A7="","",CHOOSE(WEEKDAY(A7,2),"Mo","Di","Mi","Do","Fr","Sa","So")) | C7: =IF(A7="","",IFERROR(INDEX(FT_Name,MATCH(A7,FT_DatumGilt,0)),"")) | H7: =IF(N7=0,"",IF(PauseErgaenzen="ja",MAX(N(G7),O7),N(G7))) | I7: =IF(OR(J7="",S7=""),"",(N7-N(H7))/60+IF(U7="",0,INDEX(Abw_Gutschrift,U7))*J7) | J7: =IF(OR(A7="",A7<Beginn),"",IF(OR(C7<>"",IF(U7="",FALSE,INDEX(Abw_SollEntfaellt,U7)="ja")),0,T7)) | K7: =IF(J7="","",IF(S7="",IF(OR(A7>=TODAY(),OhneEintragMinus<>"ja",J7=0),"",-J7),I7-J7)) | L7: =IF(A7="","",IF(AND(E7<>"",F7=""),IF(A7<TODAY(),"Gehen fehlt",""),IF(AND(F7<>"",E7=""),"Kommen fehlt",IF(AND(D7<>"",U7=""),"Abwesenheit unbekannt",IF(N7-N(H7)>600,"über 10 Std. (§ 3 ArbZG)",IF(AND(N7>0,N(G7)<O7),IF(PauseErgaenzen="ja","Pause ergänzt (§ 4 ArbZG)","Pause zu kurz (§ 4 ArbZG)"),IF(AND(E7<>"",MAX('April'!$P$7:$P$37)>0,A7+E7-MAX('April'!$P$7:$P$37)<11/24-1/2880),"Ruhezeit unter 11 Std. (§ 5 ArbZG)",IF(AND(S7="",N(J7)>0,A7<TODAY()),"kein Eintrag","")))))))) | N7: =IF(OR(A7="",E7="",F7=""),0,ROUND(MOD(F7-E7,1)*1440,0)) | O7: =MIN(MAX(N7-360,0),30)+MIN(MAX(N7-570,0),15) | P7: =IF(N7=0,"",A7+F7+IF(F7<E7,1,0)) | Q7: =IF(OR(U7="",N(J7)=0),0,INDEX(Abw_Urlaub,U7)) | R7: =IF(OR(U7="",N(J7)=0),0,INDEX(Abw_Krank,U7)) | S7: =IF(AND(A7<>"",OR(D7<>"",E7<>"",F7<>"")),A7,"") | T7: =IF(A7="",0,INDEX(SollWoche,WEEKDAY(A7,2))) | U7: =IF(D7="","",IFERROR(MATCH(D7,Abw_Namen,0),""))
A8: =IF(MONTH(DATE(Jahr,5,2))=5,DATE(Jahr,5,2),"") | B8: =IF(A8="","",CHOOSE(WEEKDAY(A8,2),"Mo","Di","Mi","Do","Fr","Sa","So")) | C8: =IF(A8="","",IFERROR(INDEX(FT_Name,MATCH(A8,FT_DatumGilt,0)),"")) | H8: =IF(N8=0,"",IF(PauseErgaenzen="ja",MAX(N(G8),O8),N(G8))) | I8: =IF(OR(J8="",S8=""),"",(N8-N(H8))/60+IF(U8="",0,INDEX(Abw_Gutschrift,U8))*J8) | J8: =IF(OR(A8="",A8<Beginn),"",IF(OR(C8<>"",IF(U8="",FALSE,INDEX(Abw_SollEntfaellt,U8)="ja")),0,T8)) | K8: =IF(J8="","",IF(S8="",IF(OR(A8>=TODAY(),OhneEintragMinus<>"ja",J8=0),"",-J8),I8-J8)) | L8: =IF(A8="","",IF(AND(E8<>"",F8=""),IF(A8<TODAY(),"Gehen fehlt",""),IF(AND(F8<>"",E8=""),"Kommen fehlt",IF(AND(D8<>"",U8=""),"Abwesenheit unbekannt",IF(N8-N(H8)>600,"über 10 Std. (§ 3 ArbZG)",IF(AND(N8>0,N(G8)<O8),IF(PauseErgaenzen="ja","Pause ergänzt (§ 4 ArbZG)","Pause zu kurz (§ 4 ArbZG)"),IF(AND(E8<>"",N(P7)>0,A8+E8-N(P7)<11/24-1/2880),"Ruhezeit unter 11 Std. (§ 5 ArbZG)",IF(AND(S8="",N(J8)>0,A8<TODAY()),"kein Eintrag","")))))))) | N8: =IF(OR(A8="",E8="",F8=""),0,ROUND(MOD(F8-E8,1)*1440,0)) | O8: =MIN(MAX(N8-360,0),30)+MIN(MAX(N8-570,0),15) | P8: =IF(N8=0,"",A8+F8+IF(F8<E8,1,0)) | Q8: =IF(OR(U8="",N(J8)=0),0,INDEX(Abw_Urlaub,U8)) | R8: =IF(OR(U8="",N(J8)=0),0,INDEX(Abw_Krank,U8)) | S8: =IF(AND(A8<>"",OR(D8<>"",E8<>"",F8<>"")),A8,"") | T8: =IF(A8="",0,INDEX(SollWoche,WEEKDAY(A8,2))) | U8: =IF(D8="","",IFERROR(MATCH(D8,Abw_Namen,0),""))
A9: =IF(MONTH(DATE(Jahr,5,3))=5,DATE(Jahr,5,3),"") | B9: =IF(A9="","",CHOOSE(WEEKDAY(A9,2),"Mo","Di","Mi","Do","Fr","Sa","So")) | C9: =IF(A9="","",IFERROR(INDEX(FT_Name,MATCH(A9,FT_DatumGilt,0)),"")) | H9: =IF(N9=0,"",IF(PauseErgaenzen="ja",MAX(N(G9),O9),N(G9))) | I9: =IF(OR(J9="",S9=""),"",(N9-N(H9))/60+IF(U9="",0,INDEX(Abw_Gutschrift,U9))*J9) | J9: =IF(OR(A9="",A9<Beginn),"",IF(OR(C9<>"",IF(U9="",FALSE,INDEX(Abw_SollEntfaellt,U9)="ja")),0,T9)) | K9: =IF(J9="","",IF(S9="",IF(OR(A9>=TODAY(),OhneEintragMinus<>"ja",J9=0),"",-J9),I9-J9)) | L9: =IF(A9="","",IF(AND(E9<>"",F9=""),IF(A9<TODAY(),"Gehen fehlt",""),IF(AND(F9<>"",E9=""),"Kommen fehlt",IF(AND(D9<>"",U9=""),"Abwesenheit unbekannt",IF(N9-N(H9)>600,"über 10 Std. (§ 3 ArbZG)",IF(AND(N9>0,N(G9)<O9),IF(PauseErgaenzen="ja","Pause ergänzt (§ 4 ArbZG)","Pause zu kurz (§ 4 ArbZG)"),IF(AND(E9<>"",N(P8)>0,A9+E9-N(P8)<11/24-1/2880),"Ruhezeit unter 11 Std. (§ 5 ArbZG)",IF(AND(S9="",N(J9)>0,A9<TODAY()),"kein Eintrag","")))))))) | N9: =IF(OR(A9="",E9="",F9=""),0,ROUND(MOD(F9-E9,1)*1440,0)) | O9: =MIN(MAX(N9-360,0),30)+MIN(MAX(N9-570,0),15) | P9: =IF(N9=0,"",A9+F9+IF(F9<E9,1,0)) | Q9: =IF(OR(U9="",N(J9)=0),0,INDEX(Abw_Urlaub,U9)) | R9: =IF(OR(U9="",N(J9)=0),0,INDEX(Abw_Krank,U9)) | S9: =IF(AND(A9<>"",OR(D9<>"",E9<>"",F9<>"")),A9,"") | T9: =IF(A9="",0,INDEX(SollWoche,WEEKDAY(A9,2))) | U9: =IF(D9="","",IFERROR(MATCH(D9,Abw_Namen,0),""))
A10: =IF(MONTH(DATE(Jahr,5,4))=5,DATE(Jahr,5,4),"") | B10: =IF(A10="","",CHOOSE(WEEKDAY(A10,2),"Mo","Di","Mi","Do","Fr","Sa","So")) | C10: =IF(A10="","",IFERROR(INDEX(FT_Name,MATCH(A10,FT_DatumGilt,0)),"")) | H10: =IF(N10=0,"",IF(PauseErgaenzen="ja",MAX(N(G10),O10),N(G10))) | I10: =IF(OR(J10="",S10=""),"",(N10-N(H10))/60+IF(U10="",0,INDEX(Abw_Gutschrift,U10))*J10) | J10: =IF(OR(A10="",A10<Beginn),"",IF(OR(C10<>"",IF(U10="",FALSE,INDEX(Abw_SollEntfaellt,U10)="ja")),0,T10)) | K10: =IF(J10="","",IF(S10="",IF(OR(A10>=TODAY(),OhneEintragMinus<>"ja",J10=0),"",-J10),I10-J10)) | L10: =IF(A10="","",IF(AND(E10<>"",F10=""),IF(A10<TODAY(),"Gehen fehlt",""),IF(AND(F10<>"",E10=""),"Kommen fehlt",IF(AND(D10<>"",U10=""),"Abwesenheit unbekannt",IF(N10-N(H10)>600,"über 10 Std. (§ 3 ArbZG)",IF(AND(N10>0,N(G10)<O10),IF(PauseErgaenzen="ja","Pause ergänzt (§ 4 ArbZG)","Pause zu kurz (§ 4 ArbZG)"),IF(AND(E10<>"",N(P9)>0,A10+E10-N(P9)<11/24-1/2880),"Ruhezeit unter 11 Std. (§ 5 ArbZG)",IF(AND(S10="",N(J10)>0,A10<TODAY()),"kein Eintrag","")))))))) | N10: =IF(OR(A10="",E10="",F10=""),0,ROUND(MOD(F10-E10,1)*1440,0)) | O10: =MIN(MAX(N10-360,0),30)+MIN(MAX(N10-570,0),15) | P10: =IF(N10=0,"",A10+F10+IF(F10<E10,1,0)) | Q10: =IF(OR(U10="",N(J10)=0),0,INDEX(Abw_Urlaub,U10)) | R10: =IF(OR(U10="",N(J10)=0),0,INDEX(Abw_Krank,U10)) | S10: =IF(AND(A10<>"",OR(D10<>"",E10<>"",F10<>"")),A10,"") | T10: =IF(A10="",0,INDEX(SollWoche,WEEKDAY(A10,2))) | U10: =IF(D10="","",IFERROR(MATCH(D10,Abw_Namen,0),""))
A11: =IF(MONTH(DATE(Jahr,5,5))=5,DATE(Jahr,5,5),"") | B11: =IF(A11="","",CHOOSE(WEEKDAY(A11,2),"Mo","Di","Mi","Do","Fr","Sa","So")) | C11: =IF(A11="","",IFERROR(INDEX(FT_Name,MATCH(A11,FT_DatumGilt,0)),"")) | H11: =IF(N11=0,"",IF(PauseErgaenzen="ja",MAX(N(G11),O11),N(G11))) | I11: =IF(OR(J11="",S11=""),"",(N11-N(H11))/60+IF(U11="",0,INDEX(Abw_Gutschrift,U11))*J11) | J11: =IF(OR(A11="",A11<Beginn),"",IF(OR(C11<>"",IF(U11="",FALSE,INDEX(Abw_SollEntfaellt,U11)="ja")),0,T11)) | K11: =IF(J11="","",IF(S11="",IF(OR(A11>=TODAY(),OhneEintragMinus<>"ja",J11=0),"",-J11),I11-J11)) | L11: =IF(A11="","",IF(AND(E11<>"",F11=""),IF(A11<TODAY(),"Gehen fehlt",""),IF(AND(F11<>"",E11=""),"Kommen fehlt",IF(AND(D11<>"",U11=""),"Abwesenheit unbekannt",IF(N11-N(H11)>600,"über 10 Std. (§ 3 ArbZG)",IF(AND(N11>0,N(G11)<O11),IF(PauseErgaenzen="ja","Pause ergänzt (§ 4 ArbZG)","Pause zu kurz (§ 4 ArbZG)"),IF(AND(E11<>"",N(P10)>0,A11+E11-N(P10)<11/24-1/2880),"Ruhezeit unter 11 Std. (§ 5 ArbZG)",IF(AND(S11="",N(J11)>0,A11<TODAY()),"kein Eintrag","")))))))) | N11: =IF(OR(A11="",E11="",F11=""),0,ROUND(MOD(F11-E11,1)*1440,0)) | O11: =MIN(MAX(N11-360,0),30)+MIN(MAX(N11-570,0),15) | P11: =IF(N11=0,"",A11+F11+IF(F11<E11,1,0)) | Q11: =IF(OR(U11="",N(J11)=0),0,INDEX(Abw_Urlaub,U11)) | R11: =IF(OR(U11="",N(J11)=0),0,INDEX(Abw_Krank,U11)) | S11: =IF(AND(A11<>"",OR(D11<>"",E11<>"",F11<>"")),A11,"") | T11: =IF(A11="",0,INDEX(SollWoche,WEEKDAY(A11,2))) | U11: =IF(D11="","",IFERROR(MATCH(D11,Abw_Namen,0),""))
A12: =IF(MONTH(DATE(Jahr,5,6))=5,DATE(Jahr,5,6),"") | B12: =IF(A12="","",CHOOSE(WEEKDAY(A12,2),"Mo","Di","Mi","Do","Fr","Sa","So")) | C12: =IF(A12="","",IFERROR(INDEX(FT_Name,MATCH(A12,FT_DatumGilt,0)),"")) | H12: =IF(N12=0,"",IF(PauseErgaenzen="ja",MAX(N(G12),O12),N(G12))) | I12: =IF(OR(J12="",S12=""),"",(N12-N(H12))/60+IF(U12="",0,INDEX(Abw_Gutschrift,U12))*J12) | J12: =IF(OR(A12="",A12<Beginn),"",IF(OR(C12<>"",IF(U12="",FALSE,INDEX(Abw_SollEntfaellt,U12)="ja")),0,T12)) | K12: =IF(J12="","",IF(S12="",IF(OR(A12>=TODAY(),OhneEintragMinus<>"ja",J12=0),"",-J12),I12-J12)) | L12: =IF(A12="","",IF(AND(E12<>"",F12=""),IF(A12<TODAY(),"Gehen fehlt",""),IF(AND(F12<>"",E12=""),"Kommen fehlt",IF(AND(D12<>"",U12=""),"Abwesenheit unbekannt",IF(N12-N(H12)>600,"über 10 Std. (§ 3 ArbZG)",IF(AND(N12>0,N(G12)<O12),IF(PauseErgaenzen="ja","Pause ergänzt (§ 4 ArbZG)","Pause zu kurz (§ 4 ArbZG)"),IF(AND(E12<>"",N(P11)>0,A12+E12-N(P11)<11/24-1/2880),"Ruhezeit unter 11 Std. (§ 5 ArbZG)",IF(AND(S12="",N(J12)>0,A12<TODAY()),"kein Eintrag","")))))))) | N12: =IF(OR(A12="",E12="",F12=""),0,ROUND(MOD(F12-E12,1)*1440,0)) | O12: =MIN(MAX(N12-360,0),30)+MIN(MAX(N12-570,0),15) | P12: =IF(N12=0,"",A12+F12+IF(F12<E12,1,0)) | Q12: =IF(OR(U12="",N(J12)=0),0,INDEX(Abw_Urlaub,U12)) | R12: =IF(OR(U12="",N(J12)=0),0,INDEX(Abw_Krank,U12)) | S12: =IF(AND(A12<>"",OR(D12<>"",E12<>"",F12<>"")),A12,"") | T12: =IF(A12="",0,INDEX(SollWoche,WEEKDAY(A12,2))) | U12: =IF(D12="","",IFERROR(MATCH(D12,Abw_Namen,0),""))
A13: =IF(MONTH(DATE(Jahr,5,7))=5,DATE(Jahr,5,7),"") | B13: =IF(A13="","",CHOOSE(WEEKDAY(A13,2),"Mo","Di","Mi","Do","Fr","Sa","So")) | C13: =IF(A13="","",IFERROR(INDEX(FT_Name,MATCH(A13,FT_DatumGilt,0)),"")) | H13: =IF(N13=0,"",IF(PauseErgaenzen="ja",MAX(N(G13),O13),N(G13))) | I13: =IF(OR(J13="",S13=""),"",(N13-N(H13))/60+IF(U13="",0,INDEX(Abw_Gutschrift,U13))*J13) | J13: =IF(OR(A13="",A13<Beginn),"",IF(OR(C13<>"",IF(U13="",FALSE,INDEX(Abw_SollEntfaellt,U13)="ja")),0,T13)) | K13: =IF(J13="","",IF(S13="",IF(OR(A13>=TODAY(),OhneEintragMinus<>"ja",J13=0),"",-J13),I13-J13)) | L13: =IF(A13="","",IF(AND(E13<>"",F13=""),IF(A13<TODAY(),"Gehen fehlt",""),IF(AND(F13<>"",E13=""),"Kommen fehlt",IF(AND(D13<>"",U13=""),"Abwesenheit unbekannt",IF(N13-N(H13)>600,"über 10 Std. (§ 3 ArbZG)",IF(AND(N13>0,N(G13)<O13),IF(PauseErgaenzen="ja","Pause ergänzt (§ 4 ArbZG)","Pause zu kurz (§ 4 ArbZG)"),IF(AND(E13<>"",N(P12)>0,A13+E13-N(P12)<11/24-1/2880),"Ruhezeit unter 11 Std. (§ 5 ArbZG)",IF(AND(S13="",N(J13)>0,A13<TODAY()),"kein Eintrag","")))))))) | N13: =IF(OR(A13="",E13="",F13=""),0,ROUND(MOD(F13-E13,1)*1440,0)) | O13: =MIN(MAX(N13-360,0),30)+MIN(MAX(N13-570,0),15) | P13: =IF(N13=0,"",A13+F13+IF(F13<E13,1,0)) | Q13: =IF(OR(U13="",N(J13)=0),0,INDEX(Abw_Urlaub,U13)) | R13: =IF(OR(U13="",N(J13)=0),0,INDEX(Abw_Krank,U13)) | S13: =IF(AND(A13<>"",OR(D13<>"",E13<>"",F13<>"")),A13,"") | T13: =IF(A13="",0,INDEX(SollWoche,WEEKDAY(A13,2))) | U13: =IF(D13="","",IFERROR(MATCH(D13,Abw_Namen,0),""))
